Workbook
Name Average_prices: 'Average prices'!$A$1:$DO$392

Sheet Stats SA Food Prices
A1: Average Monthly Food Prices: Stats SA
II2: Note 1 | IJ2: Note 2 | IM2: Note 3 | JK2: Note 4 | LM2: % +/-
B3: Product Description | C3: Unit | D3: 36526 | E3: 36557 | F3: 36586 | G3: 36617 | H3: 36647 | I3: 36678 | J3: 36708 | K3: 36739 | L3: 36770 | M3: 36800 | N3: 36831 | O3: 36861 | P3: 36892 | Q3: 36923 | R3: 36951 | S3: 36982 | T3: 37012 | U3: 37043 | V3: 37073 | W3: 37104 | X3: 37135 | Y3: 37165 | Z3: 37196 | AA3: 37226 | AB3: 37258 | AC3: 37289 | AD3: 37317 | AE3: 37348 | AF3: 37378 | AG3: 37409 | AH3: 37439 | AI3: 37470 | AJ3: 37501 | AK3: 37531 | AL3: 37562 | AM3: 37592 | AN3: 37622 | AO3: 37653 | AP3: 37681 | AQ3: 37712 | AR3: 37742 | AS3: 37773 | AT3: 37803 | AU3: 37834 | AV3: 37865 | AW3: 37895 | AX3: 37926 | AY3: 37956 | AZ3: 37987 | BA3: 38018 | BB3: 38047 | BC3: 38078 | BD3: 38108 | BE3: 38139 | BF3: 38169 | BG3: 38200 | BH3: 38231 | BI3: 38261 | BJ3: 38292 | BK3: 38322 | BL3: 38353 | BM3: 38384 | BN3: 38412 | BO3: 38443 | BP3: 38473 | BQ3: 38504 | BR3: 38534 | BS3: 38565 | BT3: 38596 | BU3: 38626 | BV3: 38657 | BW3: 38687 | BX3: 38718 | BY3: 38749 | BZ3: 38777 | CA3: 38808 | CB3: 38838 | CC3: 38869 | CD3: 38899 | CE3: 38930 | CF3: 38961 | CG3: 38991 | CH3: 39022 | CI3: 39052 | CJ3: 39083 | CK3: 39114 | CL3: 39142 | CM3: 39173 | CN3: 39203 | CO3: 39234 | CP3: 39264 | CQ3: 39295 | CR3: 39326 | CS3: 39356 | CT3: 39387 | CU3: 39417 | CV3: 39448 | CW3: 39479 | CX3: 39508 | CY3: 39539 | CZ3: 39569 | DA3: 39600 | DB3: 39630 | DC3: 39661 | DD3: 39692 | DE3: 39722 | DF3: 39753 | DG3: 39783 | DH3: 39814 | DI3: 39845 | DJ3: 39873 | DK3: 39904 | DL3: 39942 | DM3: 39973 | DN3: 40003 | DO3: 40034 | DP3: 40065 | DQ3: 40095 | DR3: 40126 | DS3: 40156 | DT3: 40187 | DU3: 40218 | DV3: 40247 | DW3: 40278 | DX3: 40302 | DY3: 40333 | DZ3: 40363 | EA3: 40391 | EB3: 40422 | EC3: 40452 | ED3: 40483 | EE3: 40513 | EF3: 40544 | EG3: 40575 | EH3: 40603 | EI3: 40634 | EJ3: 40664 | EK3: 40695 | EL3: 40725 | EM3: 40756 | EN3: 40787 | EO3: 40817 | EP3: 40848 | EQ3: 40878 | ER3: 40909 | ES3: 40940 | ET3: 40969 | EU3: 41000 | EV3: 41030 | EW3: 41061 | EX3: 41091 | EY3: 41122 | EZ3: 41153 | FA3: 41183 | FB3: 41214 | FC3: 41244 | FD3: 41275 | FE3: 41306 | FF3: 41334 | FG3: 41365 | FH3: 41395 | FI3: 41426 | FJ3: 41456 | FK3: 41487 | FL3: 41518 | FM3: 41548 | FN3: 41579 | FO3: 41609 | FP3: 41640 | FQ3: 41671 | FR3: 41699 | FS3: 41730 | FT3: 41760 | FU3: 41791 | FV3: 41821 | FW3: 41852 | FX3: 41883 | FY3: 41913 | FZ3: 41944 | GA3: 41974 | GB3: 42005 | GC3: 42036 | GD3: 42064 | GE3: 42095 | GF3: 42125 | GG3: 42156 | GH3: 42186 | GI3: 42217 | GJ3: 42248 | GK3: 42278 | GL3: 42309 | GM3: 42339 | GN3: 42370 | GO3: 42401 | GP3: 42430 | GQ3: 42461 | GR3: 42491 | GS3: 42522 | GT3: 42552 | GU3: 42583 | GV3: 42614 | GW3: 42644 | GX3: 42675 | GY3: 42705 | GZ3: 42736 | HA3: 42767 | HB3: 42795 | HC3: 42826 | HD3: 42856 | HE3: 42887 | HF3: 42917 | HG3: 42948 | HH3: 42979 | HI3: 43009 | HJ3: 43040 | HK3: 43070 | HL3: 43101 | HM3: 43132 | HN3: 43160 | HO3: 43191 | HP3: 43221 | HQ3: 43252 | HR3: 43282 | HS3: 43313 | HT3: 43344 | HU3: 43374 | HV3: 43405 | HW3: 43435 | HX3: 43466 | HY3: 43497 | HZ3: 43525 | IA3: 43556 | IB3: 43586 | IC3: 43617 | ID3: 43647 | IE3: 43678 | IF3: 43709 | IG3: 43739 | IH3: 43770 | II3: 43800 | IJ3: 43831 | IK3: 43862 | IL3: 43891 | IM3: 43922 | IN3: 43952 | IO3: 43983 | IP3: 44013 | IQ3: 44044 | IR3: 44075 | IS3: 44105 | IT3: 44136 | IU3: 44166 | IV3: 44197 | IW3: 44228 | IX3: 44256 | IY3: 44287 | IZ3: 44317 | JA3: 44348 | JB3: 44378 | JC3: 44409 | JD3: 44440 | JE3: 44470 | JF3: 44501 | JG3: 44531 | JH3: 44562 | JI3: 44593 | JJ3: 44621 | JK3: 44652 | JL3: 44682 | JM3: 44713 | JN3: 44743 | JO3: 44774 | JP3: 44805 | JQ3: 44835 | JR3: 44866 | JS3: 44896 | JT3: 44927 | JU3: 44958 | JV3: 44986 | JW3: 45017 | JX3: 45047 | JY3: 45078 | JZ3: 45108 | KA3: 45139 | KB3: 45170 | KC3: 45200 | KD3: 45231 | KE3: 45261 | KF3: 45292 | KG3: 45323 | KH3: 45352 | KI3: 45383 | KJ3: 45413 | KK3: 45444 | KL3: 45474 | KM3: 45505 | KN3: 45536 | KO3: 45566 | KP3: 45597 | KQ3: 45627 | KR3: 45658 | KS3: 45689 | KT3: 45717 | KU3: 45748 | KV3: 45778 | KW3: 45809 | KX3: 45839 | KY3: 45870 | KZ3: 45901 | LA3: 45931 | LB3: 45962 | LC3: 45992 | LD3: 46023 | LE3: 46054 | LF3: 46082 | LG3: 46113 | LH3: 46143 | LI3: 46174 | LJ3: 46204 | LK3: 46235 | LL3: % +/- | LM3: Previous
D4: Price | E4: Price | F4: Price | G4: Price | H4: Price | I4: Price | J4: Price | K4: Price | L4: Price | M4: Price | N4: Price | O4: Price | P4: Price | Q4: Price | R4: Price | S4: Price | T4: Price | U4: Price | V4: Price | W4: Price | X4: Price | Y4: Price | Z4: Price | AA4: Price | AB4: Price | AC4: Price | AD4: Price | AE4: Price | AF4: Price | AG4: Price | AH4: Price | AI4: Price | AJ4: Price | AK4: Price | AL4: Price | AM4: Price | AN4: Price | AO4: Price | AP4: Price | AQ4: Price | AR4: Price | AS4: Price | AT4: Price | AU4: Price | AV4: Price | AW4: Price | AX4: Price | AY4: Price | AZ4: Price | BA4: Price | BB4: Price | BC4: Price | BD4: Price | BE4: Price | BF4: Price | BG4: Price | BH4: Price | BI4: Price | BJ4: Price | BK4: Price | BL4: Price | BM4: Price | BN4: Price | BO4: Price | BP4: Price | BQ4: Price | BR4: Price | BS4: Price | BT4: Price | BU4: Price | BV4: Price | BW4: Price | BX4: Price | BY4: Price | BZ4: Price | CA4: Price | CB4: Price | CC4: Price | CD4: Price | CE4: Price | CF4: Price | CG4: Price | CH4: Price | CI4: Price | CJ4: Price | CK4: Price | CL4: Price | CM4: Price | CN4: Price | CO4: Price | CP4: Price | CQ4: Price | CR4: Price | CS4: Price | CT4: Price | CU4: Price | LL4: * SMPY | LM4: month
A5: 1 | B5: White Rice | C5: 1kg | D5: 6.02 | E5: 6.12 | F5: 6.02 | G5: 6.02 | H5: 6.08 | I5: 6.17 | J5: 6.16 | K5: 6.09 | L5: 6.1 | M5: 6.1 | N5: 6.12 | O5: 6.11 | P5: 6.02 | Q5: 6.05 | R5: 6.04 | S5: 6.11 | T5: 6.09 | U5: 6.13 | V5: 6.19 | W5: 6.2 | X5: 6.2 | Y5: 6.54 | Z5: 6.55 | AA5: 6.84 | AB5: 6.91 | AC5: 7.02 | AD5: 7.23 | AE5: 7.35 | AF5: 7.34 | AG5: 7.32 | AH5: 7.36 | AI5: 7.45 | AJ5: 7.91 | AK5: 7.22 | AL5: 7.2 | AM5: 7.2 | AN5: 7.3 | AO5: 7.29 | AP5: 7.07 | AQ5: 7.09 | AR5: 7.06 | AS5: 7.21 | AT5: 7.6 | AU5: 7.6 | AV5: 7.27 | AW5: 7.66 | AX5: 7.48 | AY5: 7.48 | AZ5: 7.65 | BA5: 7.65 | BB5: 7.6 | BC5: 7.6 | BD5: 7.7 | BE5: 7.71 | BF5: 7.61 | BG5: 7.71 | BH5: 7.71 | BI5: 7.74 | BJ5: 7.72 | BK5: 7.68 | BL5: 7.65 | BM5: 7.66 | BN5: 7.69 | BO5: 7.69 | BP5: 7.69 | BQ5: 7.63 | BR5: 7.63 | BS5: 7.64 | BT5: 7.7 | BU5: 7.2 | BV5: 7.2 | BW5: 7.09 | BX5: 6.26 | BY5: 6.5 | BZ5: 6.62 | CA5: 6.71 | CB5: 6.49 | CC5: 6.34 | CD5: 6.39 | CE5: 6.3 | CF5: 6.55 | CG5: 6.61 | CH5: 6.49 | CI5: 6.61 | CJ5: 6.66 | CK5: 6.74 | CL5: 6.85 | CM5: 6.95 | CN5: 6.92 | CO5: 7.08 | CP5: 7.21 | CQ5: 7.42 | CR5: 7.49 | CS5: 7.67 | CT5: 7.71 | CU5: 8.2 | CV5: 8.2 | CW5: 8.46 | CX5: 8.5 | CY5: 8.83 | CZ5: 9.31 | DA5: 10.82 | DB5: 13.17 | DC5: 14.89 | DD5: 16 | DE5: 15.86 | DF5: 15.93 | DG5: 16 | DH5: 17.36 | DI5: 17.52 | DJ5: 17.25 | DK5: 17.42 | DL5: 17.25 | DM5: 16.26 | DN5: 16.16 | DO5: 15.6 | DP5: 15.65 | DQ5: 15.45 | DR5: 15.14 | DS5: 14.67 | DT5: 14.88 | DU5: 14.38 | DV5: 14.69 | DW5: 14.65 | DX5: 14.15 | DY5: 14.41 | DZ5: 13.83 | EA5: 13.87 | EB5: 13.75 | EC5: 12.88 | ED5: 13.09 | EE5: 13.3 | EF5: 12.72 | EG5: 13.03 | EH5: 12.95 | EI5: 12.87 | EJ5: 12.32 | EK5: 12.26 | EL5: 12.23 | EM5: 12.5 | EN5: 12.5 | EO5: 12.7 | EP5: 13.19 | EQ5: 13.66 | ER5: 13.76 | ES5: 14.1 | ET5: 14.39 | EU5: 14.43 | EV5: 14.29 | EW5: 14.18 | EX5: 14.13 | EY5: 14.01 | EZ5: 13.94 | FA5: 13.89 | FB5: 13.88 | FC5: 13.78 | FD5: 13.77 | FE5: 13.73 | FF5: 13.68 | FG5: 13.75 | FH5: 13.83 | FI5: 13.91 | FJ5: 14.07 | FK5: 14.38 | FL5: 14.38 | FM5: 14.58 | FN5: 14.75 | FO5: 14.8 | FP5: 14.75 | FQ5: 14.93 | FR5: 14.88 | FS5: 14.85 | FT5: 14.9 | FU5: 14.78 | FV5: 14.86 | FW5: 14.91 | FX5: 14.61 | FY5: 15.18 | FZ5: 15.23 | GA5: 15.23 | GB5: 15.47 | GC5: 15.7 | GD5: 15.75 | GE5: 15.63 | GF5: 16.16 | GG5: 15.9 | GH5: 16.21 | GI5: 16.43 | GJ5: 16.45 | GK5: 16.27 | GL5: 16.31 | GM5: 16.07 | GN5: 16.48 | GO5: 16.31 | GP5: 16.35 | GQ5: 16.43 | GR5: 16.88 | GS5: 17.03 | GT5: 16.79 | GU5: 17.32 | GV5: 18.11 | GW5: 18.06 | GX5: 18.27 | GY5: 18.36 | GZ5: 18.65 | HA5: 18.58 | HB5: 18.65 | HC5: 18.26 | HD5: 18.27 | HE5: 18.48 | HF5: 18.41 | HG5: 18.65 | HH5: 18.5 | HI5: 19.2 | HJ5: 18.62 | HK5: 19.2 | HL5: 19.41 | HM5: 19.13 | HN5: 18.93 | HO5: 18.69 | HP5: 18.64 | HQ5: 18.69 | HR5: 18.78 | HS5: 18.45 | HT5: 18.11 | HU5: 18.91 | HV5: 18.59 | HW5: 18.56 | HX5: 18.98 | HY5: 19.13 | HZ5: 19.64 | IA5: 19.5 | IB5: 19.52 | IC5: 19.77 | ID5: 19.57 | IE5: 19.17 | IF5: 19.46 | IG5: 19.6 | IH5: 19.94 | II5: 20.06 | IJ5: 19.7 | IK5: 19.58 | IL5: 19.9 | IM5: 20.37 | IN5: 25.84 | IO5: 30.32 | IP5: 33.41 | IQ5: 29.92 | IR5: 32.09 | IS5: 35.32 | IT5: 32.04 | IU5: 28.14 | IV5: 29.89 | IW5: 30.06 | IX5: 27.59 | IY5: 21.23 | IZ5: 27.83 | JA5: 26.73 | JB5: 30.99 | JC5: 31.09 | JD5: 28.36 | JE5: 27.47 | JF5: 28.27 | JG5: 28.32 | JH5: 24.28 | JI5: 27.69 | JJ5: 26.52 | JK5: 23.75 | JL5: 25.01 | JM5: 26.28 | JN5: 25.56 | JO5: 27.36 | JP5: 22.07 | JQ5: 22.48 | JR5: 22.86 | JS5: 23.23 | JT5: 23.22 | JU5: 23.54 | JV5: 23.85 | JW5: 24.13 | JX5: 24.64 | JY5: 24.03 | JZ5: 25.35 | KA5: 26.01 | KB5: 26.89 | KC5: 28.59 | KD5: 29.25 | KE5: 30.07 | KF5: 31.1 | KG5: 31.83 | KH5: 31.76 | KI5: 31.88 | KJ5: 32.16 | KK5: 33.07 | KL5: 33.93 | KM5: 34.01 | KN5: 33.49 | KO5: 33.13 | KP5: 33.18 | KQ5: 33.48 | KR5: 29.06 | KS5: 28.97 | KT5: 29.01 | KU5: 29.36 | KV5: 29.58 | KW5: 29.56 | KX5: 29.59 | KY5: 29.59 | KZ5: 29.45 | LA5: 29.29 | LB5: 28.81 | LC5: 28.39 | LD5: 28.26 | LE5: 28.12 | LF5: 27.82 | LG5: 27.06 | LH5: 27.08 | LI5: 27.17 | LJ5: 27.62 | LK5: ='Average prices'!DO2 -> 27.86 | LL5: =(LK5-KY5)/KY5*100 -> -5.8465698 | LM5: =SUM(LJ5-LK5)/LK5*100 -> -0.86145011
A6: 2 | B6: White Rice | C6: 2kg | D6: 8.12 | E6: 7.84 | F6: 8.21 | G6: 8.2 | H6: 8.56 | I6: 8.17 | J6: 8.31 | K6: 8.44 | L6: 9.04 | M6: 8.86 | N6: 9.14 | O6: 8.87 | P6: 8.96 | Q6: 9.03 | R6: 8.47 | S6: 8.91 | T6: 8.91 | U6: 9 | V6: 8.89 | W6: 8.92 | X6: 7.91 | Y6: 7.81 | Z6: 8.21 | AA6: 8.49 | AB6: 9.54 | AC6: 9.88 | AD6: 9.77 | AE6: 9.94 | AF6: 9.4 | AG6: 9.51 | AH6: 8.91 | AI6: 9.61 | AJ6: 9.87 | AK6: 9.13 | AL6: 8.94 | AM6: 9.66 | AN6: 10.07 | AO6: 10.67 | AP6: 10.39 | AQ6: 10.39 | AR6: 14.07 | AS6: 14.54 | AT6: 12.72 | AU6: 10.09 | AV6: 9.34 | AW6: 10.09 | AX6: 10.09 | AY6: 10.14 | AZ6: 10.14 | BA6: 10.14 | BB6: 10.51 | BC6: 10.51 | BD6: 10.51 | BE6: 11.09 | BF6: 10.77 | BG6: 10.7 | BH6: 10.34 | BI6: 10.21 | BJ6: 10.21 | BK6: 8.88 | BL6: 8.86 | BM6: 8.59 | BN6: 8.31 | BO6: 8.78 | BP6: 8.86 | BQ6: 8.9 | BR6: 9.41 | BS6: 9.87 | BT6: 9.93 | BU6: 9.71 | BV6: 10.12 | BW6: 12.15 | BX6: 11.95 | BY6: 12.16 | BZ6: 11.95 | CA6: 11.77 | CB6: 11 | CC6: 10.81 | CD6: 11.31 | CE6: 11.71 | CF6: 12.02 | CG6: 12.43 | CH6: 12.43 | CI6: 12.69 | CJ6: 12.75 | CK6: 12.58 | CL6: 12.74 | CM6: 12.71 | CN6: 12.89 | CO6: 12.9 | CP6: 13.09 | CQ6: 13.31 | CR6: 13.34 | CS6: 13.53 | CT6: 13.48 | CU6: 13.42 | CV6: 13.4 | CW6: 13.45 | CX6: 13.89 | CY6: 14.4 | CZ6: 16.17 | DA6: 18.68 | DB6: 21 | DC6: 24.53 | DD6: 25.67 | DE6: 25.87 | DF6: 25.6 | DG6: 25.67 | DH6: 26.65 | DI6: 26.84 | DJ6: 26.33 | DK6: 26.28 | DL6: 25.97 | DM6: 25.8 | DN6: 25.24 | DO6: 24.69 | DP6: 24.58 | DQ6: 23.83 | DR6: 23.07 | DS6: 23.1 | DT6: 23.14 | DU6: 22.16 | DV6: 22.17 | DW6: 21.72 | DX6: 21.75 | DY6: 20.83 | DZ6: 20.51 | EA6: 21.06 | EB6: 20.43 | EC6: 20.83 | ED6: 20.93 | EE6: 20.81 | EF6: 21.26 | EG6: 20.45 | EH6: 20.3 | EI6: 19.91 | EJ6: 19.96 | EK6: 20.19 | EL6: 20.35 | EM6: 20.06 | EN6: 20.18 | EO6: 20.78 | EP6: 21.86 | EQ6: 22.01 | ER6: 22.64 | ES6: 22.65 | ET6: 22.27 | EU6: 21.63 | EV6: 21.49 | EW6: 21.63 | EX6: 21.12 | EY6: 20.92 | EZ6: 21.25 | FA6: 21.23 | FB6: 21.01 | FC6: 21.14 | FD6: 21.21 | FE6: 21.35 | FF6: 21.38 | FG6: 21.01 | FH6: 21.36 | FI6: 21.51 | FJ6: 21.62 | FK6: 22.16 | FL6: 22.74 | FM6: 22.54 | FN6: 22.28 | FO6: 22.48 | FP6: 22.85 | FQ6: 22.96 | FR6: 22.88 | FS6: 23.01 | FT6: 23.19 | FU6: 22.76 | FV6: 22.94 | FW6: 23.31 | FX6: 22.98 | FY6: 22.95 | FZ6: 23.26 | GA6: 22.99 | GB6: 23.45 | GC6: 23.51 | GD6: 23.13 | GE6: 23.34 | GF6: 23.5 | GG6: 23 | GH6: 23.24 | GI6: 24.15 | GJ6: 23.52 | GK6: 23.74 | GL6: 23.67 | GM6: 23.64 | GN6: 24.16 | GO6: 24.34 | GP6: 24.64 | GQ6: 24.82 | GR6: 25.85 | GS6: 25.34 | GT6: 24.81 | GU6: 25.03 | GV6: 25.22 | GW6: 25.89 | GX6: 26.12 | GY6: 25.54 | GZ6: 26.87 | HA6: 26.48 | HB6: 26.58 | HC6: 26.04 | HD6: 26.12 | HE6: 26.25 | HF6: 25.82 | HG6: 25.62 | HH6: 26.52 | HI6: 26.18 | HJ6: 25.49 | HK6: 24.52 | HL6: 25.58 | HM6: 25.22 | HN6: 25.54 | HO6: 25.36 | HP6: 25.4 | HQ6: 25.31 | HR6: 26.01 | HS6: 25.6 | HT6: 25.09 | HU6: 25.56 | HV6: 26.09 | HW6: 25.83 | HX6: 26.66 | HY6: 26.82 | HZ6: 26.3 | IA6: 26.12 | IB6: 26.02 | IC6: 26.47 | ID6: 26.46 | IE6: 26.76 | IF6: 26.95 | IG6: 26.84 | IH6: 27.28 | II6: 27.1 | IJ6: 27.69 | IK6: 27.5 | IL6: 27.56 | IM6: 27.34 | IN6: 37.38 | IO6: 41.49 | IP6: 41.94 | IQ6: 39.79 | IR6: 39.64 | IS6: 43.22 | IT6: 43.24 | IU6: 39.42 | IV6: 42.28 | IW6: 43.41 | IX6: 42.11 | IY6: 39.46 | IZ6: 39.01 | JA6: 40.95 | JB6: 43.34 | JC6: 43.52 | JD6: 40.63 | JE6: 40.82 | JF6: 40.56 | JG6: 39.11 | JH6: 38.61 | JI6: 38.78 | JJ6: 38.26 | JK6: 37.23 | JL6: 37.1 | JM6: 38.49 | JN6: 40.58 | JO6: 41.1 | JP6: 35.48 | JQ6: 35.66 | JR6: 35.01 | JS6: 35.82 | JT6: 35.18 | JU6: 35.53 | JV6: 36.34 | JW6: 36 | JX6: 37.72 | JY6: 37.97 | JZ6: 39.26 | KA6: 40.72 | KB6: 42.49 | KC6: 43.7 | KD6: 43.49 | KE6: 43.19 | KF6: 44.14 | KG6: 45.26 | KH6: 46.17 | KI6: 46.09 | KJ6: 46.54 | KK6: 47.22 | KL6: 47.46 | KM6: 47.59 | KN6: 47.3 | KO6: 46.68 | KP6: 46.7 | KQ6: 45.81 | KR6: 44.8 | KS6: 45.38 | KT6: 44.71 | KU6: 44.39 | KV6: 44.27 | KW6: 43.88 | KX6: 43.37 | KY6: 42.66 | KZ6: 42.45 | LA6: 41.92 | LB6: 40.68 | LC6: 41.16 | LD6: 39.46 | LE6: 39 | LF6: 38.78 | LG6: 38.13 | LH6: 37.86 | LI6: 37.52 | LJ6: 37.84 | LK6: ='Average prices'!DO3 -> 37.42 | LL6: =(LK6-KY6)/KY6*100 -> -12.283169 | LM6: =SUM(LJ6-LK6)/LK6*100 -> 1.1223944
A7: 3 | B7: Cake flour | C7: 2.5kg | D7: 10.29 | E7: 10.28 | F7: 10.26 | G7: 10.25 | H7: 10.37 | I7: 10.37 | J7: 10.32 | K7: 10.21 | L7: 10.1 | M7: 10.11 | N7: 9.76 | O7: 9.74 | P7: 9.88 | Q7: 10.19 | R7: 10.05 | S7: 10.36 | T7: 10.24 | U7: 10.38 | V7: 10.46 | W7: 10.47 | X7: 10.55 | Y7: 10.43 | Z7: 10.27 | AA7: 10.31 | AB7: 10.5 | AC7: 11.1 | AD7: 11.42 | AE7: 11.54 | AF7: 11.68 | AG7: 12.08 | AH7: 12.22 | AI7: 13.02 | AJ7: 12.99 | AK7: 13.02 | AL7: 13.07 | AM7: 12.55 | AN7: 13.41 | AO7: 13.03 | AP7: 12.97 | AQ7: 12.7 | AR7: 12.59 | AS7: 13.2 | AT7: 13.33 | AU7: 13.18 | AV7: 13.39 | AW7: 13.46 | AX7: 12.96 | AY7: 12.32 | AZ7: 13.07 | BA7: 12.59 | BB7: 12.79 | BC7: 12.1 | BD7: 12.97 | BE7: 12.8 | BF7: 12.53 | BG7: 12.31 | BH7: 11.99 | BI7: 11.86 | BJ7: 11.67 | BK7: 12.26 | BL7: 12.29 | BM7: 11.84 | BN7: 11.83 | BO7: 11.53 | BP7: 11.59 | BQ7: 11.9 | BR7: 11.78 | BS7: 11.65 | BT7: 11.57 | BU7: 11.71 | BV7: 11.16 | BW7: 11.68 | BX7: 11.87 | BY7: 11.88 | BZ7: 11.71 | CA7: 11.52 | CB7: 11.71 | CC7: 11.7 | CD7: 11.3 | CE7: 11.31 | CF7: 11.17 | CG7: 11.51 | CH7: 11.44 | CI7: 11.31 | CJ7: 11.99 | CK7: 12.02 | CL7: 11.86 | CM7: 11.9 | CN7: 12.41 | CO7: 12.56 | CP7: 13.06 | CQ7: 13.55 | CR7: 13.65 | CS7: 13.64 | CT7: 14.08 | CU7: 14.45 | CV7: 15.06 | CW7: 16.9 | CX7: 17.72 | CY7: 18.1 | CZ7: 19.83 | DA7: 20.85 | DB7: 21.07 | DC7: 21.21 | DD7: 21.2 | DE7: 21.26 | DF7: 20.3 | DG7: 19.9 | DH7: 19.84 | DI7: 19.64 | DJ7: 19.07 | DK7: 18.23 | DL7: 18.39 | DM7: 17.99 | DN7: 17.73 | DO7: 17.59 | DP7: 17.36 | DQ7: 17.04 | DR7: 16.63 | DS7: 16.56 | DT7: 16.57 | DU7: 16.24 | DV7: 15.78 | DW7: 15.74 | DX7: 15.83 | DY7: 15.26 | DZ7: 15.51 | EA7: 15.79 | EB7: 16.16 | EC7: 16.94 | ED7: 17.1 | EE7: 16.8 | EF7: 17.11 | EG7: 17.14 | EH7: 17.94 | EI7: 18.1 | EJ7: 19.45 | EK7: 19.28 | EL7: 18.85 | EM7: 18.24 | EN7: 18.71 | EO7: 18.56 | EP7: 18.11 | EQ7: 18.47 | ER7: 18.59 | ES7: 17.98 | ET7: 18.5 | EU7: 18.26 | EV7: 18.39 | EW7: 18.26 | EX7: 18.2 | EY7: 18.37 | EZ7: 19.53 | FA7: 20.88 | FB7: 20.82 | FC7: 20.84 | FD7: 21.43 | FE7: 20.25 | FF7: 20.49 | FG7: 20.43 | FH7: 20.31 | FI7: 20.59 | FJ7: 20.55 | FK7: 20.83 | FL7: 21.39 | FM7: 21.77 | FN7: 21.47 | FO7: 21.68 | FP7: 21.97 | FQ7: 22.2 | FR7: 22.89 | FS7: 22.63 | FT7: 23.29 | FU7: 23.11 | FV7: 23.11 | FW7: 22.95 | FX7: 22.83 | FY7: 22.4 | FZ7: 22.87 | GA7: 21.65 | GB7: 21.99 | GC7: 22.21 | GD7: 22.78 | GE7: 22.57 | GF7: 23.86 | GG7: 22.97 | GH7: 22.32 | GI7: 22.77 | GJ7: 22.31 | GK7: 22.76 | GL7: 22.59 | GM7: 22.48 | GN7: 23.6 | GO7: 24.47 | GP7: 25.92 | GQ7: 26.48 | GR7: 26.72 | GS7: 26.42 | GT7: 26.19 | GU7: 26.52 | GV7: 26.92 | GW7: 26.83 | GX7: 26.61 | GY7: 26.98 | GZ7: 26.81 | HA7: 26.77 | HB7: 26.08 | HC7: 25.8 | HD7: 25.79 | HE7: 26.32 | HF7: 26.01 | HG7: 25.37 | HH7: 25.44 | HI7: 26.26 | HJ7: 25.7 | HK7: 25.79 | HL7: 25.16 | HM7: 24.88 | HN7: 25.53 | HO7: 25.58 | HP7: 25.33 | HQ7: 25.24 | HR7: 25.45 | HS7: 24.89 | HT7: 25.55 | HU7: 25.78 | HV7: 25.93 | HW7: 26.73 | HX7: 26.58 | HY7: 27.8 | HZ7: 27.38 | IA7: 26.35 | IB7: 25.05 | IC7: 24.94 | ID7: 24.99 | IE7: 25.15 | IF7: 24.93 | IG7: 25.86 | IH7: 25.44 | II7: 25.34 | IJ7: 25.88 | IK7: 25.64 | IL7: 26.02 | IM7: 27.53 | IN7: 27.51 | IO7: 29.99 | IP7: 29.17 | IQ7: 28.48 | IR7: 29.95 | IS7: 27.94 | IT7: 28.87 | IU7: 29.37 | IV7: 29.12 | IW7: 29.17 | IX7: 30.26 | IY7: 29.19 | IZ7: 28.83 | JA7: 28.71 | JB7: 30.58 | JC7: 29.65 | JD7: 29.7 | JE7: 30.88 | JF7: 29.97 | JG7: 30.98 | JH7: 31.3 | JI7: 33.63 | JJ7: 33.95 | JK7: 34.33 | JL7: 34.97 | JM7: 36.31 | JN7: 38.15 | JO7: 39.48 | JP7: 39.68 | JQ7: 40.29 | JR7: 40.1 | JS7: 40.34 | JT7: 40.73 | JU7: 41.21 | JV7: 42.38 | JW7: 41.91 | JX7: 42.2 | JY7: 42.28 | JZ7: 42.9 | KA7: 43.02 | KB7: 42.73 | KC7: 43.32 | KD7: 43.29 | KE7: 43.24 | KF7: 43.03 | KG7: 43.23 | KH7: 43.13 | KI7: 42.69 | KJ7: 42.75 | KK7: 43.1 | KL7: 42.67 | KM7: 43.02 | KN7: 42.97 | KO7: 42.49 | KP7: 42.44 | KQ7: 41.8 | KR7: 41.93 | KS7: 42.27 | KT7: 42.2 | KU7: 42.19 | KV7: 42.39 | KW7: 43.02 | KX7: 42.57 | KY7: 42.91 | KZ7: 42.95 | LA7: 42.59 | LB7: 42.68 | LC7: 42.45 | LD7: 42.71 | LE7: 42.26 | LF7: 42.45 | LG7: 42.62 | LH7: 42.34 | LI7: 42.8 | LJ7: 42.76 | LK7: ='Average prices'!DO7 -> 42.98 | LL7: =(LK7-KY7)/KY7*100 -> 0.16313214 | LM7: =SUM(LJ7-LK7)/LK7*100 -> -0.51186598
A8: 4 | B8: Bread flour | C8: 2.5kg | D8: 10.38 | E8: 10.41 | F8: 10.46 | G8: 10.37 | H8: 10.4 | I8: 10.37 | J8: 10.38 | K8: 10.22 | L8: 10.13 | M8: 10.1 | N8: 9.92 | O8: 9.94 | P8: 9.87 | Q8: 9.8 | R8: 10.02 | S8: 10.21 | T8: 10.23 | U8: 10.33 | V8: 10.24 | W8: 10.33 | X8: 10.33 | Y8: 10.27 | Z8: 10.26 | AA8: 10.28 | AB8: 10.36 | AC8: 10.93 | AD8: 11.39 | AE8: 11.49 | AF8: 11.92 | AG8: 12.29 | AH8: 12.44 | AI8: 13.26 | AJ8: 13.12 | AK8: 13.18 | AL8: 13.17 | AM8: 13.2 | AN8: 13.24 | AO8: 13.08 | AP8: 12.91 | AQ8: 13.04 | AR8: 13.08 | AS8: 13.22 | AT8: 13.82 | AU8: 13.49 | AV8: 13.54 | AW8: 13.51 | AX8: 13.28 | AY8: 12.86 | AZ8: 12.75 | BA8: 12.67 | BB8: 12.62 | BC8: 12.67 | BD8: 12.68 | BE8: 12.54 | BF8: 12.16 | BG8: 12.46 | BH8: 12.16 | BI8: 12.17 | BJ8: 12.19 | BK8: 12.15 | BL8: 12.15 | BM8: 12.16 | BN8: 12.06 | BO8: 12.06 | BP8: 11.89 | BQ8: 11.86 | BR8: 11.87 | BS8: 11.84 | BT8: 11.81 | BU8: 11.78 | BV8: 11.85 | BW8: 11.97 | BX8: 11.93 | BY8: 11.92 | BZ8: 11.87 | CA8: 11.77 | CB8: 11.67 | CC8: 11.76 | CD8: 11.69 | CE8: 11.59 | CF8: 11.74 | CG8: 11.79 | CH8: 11.77 | CI8: 11.62 | CJ8: 12.04 | CK8: 12.25 | CL8: 12.39 | CM8: 12.44 | CN8: 12.77 | CO8: 13.18 | CP8: 13.7 | CQ8: 14.31 | CR8: 14.67 | CS8: 14.54 | CT8: 14.6 | CU8: 14.89 | CV8: 14.98 | CW8: 16.55 | CX8: 18.05 | CY8: 18.94 | CZ8: 21.27 | DA8: 23.09 | DB8: 22.96 | DC8: 23.24 | DD8: 23.34 | DE8: 23.51 | DF8: 22.89 | DG8: 22.85 | DH8: 21.47 | DI8: 20.08 | DJ8: 19.72 | DK8: 18.89 | DL8: 18.56 | DM8: 18.32 | DN8: 17.86 | DO8: 17.61 | DP8: 17.49 | DQ8: 17.52 | DR8: 17.41 | DS8: 17.39 | DT8: 17.17 | DU8: 17.39 | DV8: 17 | DW8: 16.78 | DX8: 16.69 | DY8: 16.22 | DZ8: 15.9 | EA8: 16.46 | EB8: 16.72 | EC8: 17.18 | ED8: 18.02 | EE8: 18.05 | EF8: 18.23 | EG8: 18.3 | EH8: 18.47 | EI8: 18.99 | EJ8: 20.06 | EK8: 20.23 | EL8: 20.28 | EM8: 20.18 | EN8: 20.04 | EO8: 19.88 | EP8: 19.69 | EQ8: 19.57 | ER8: 19.93 | ES8: 19.7 | ET8: 19.81 | EU8: 19.71 | EV8: 19.43 | EW8: 19.47 | EX8: 19.45 | EY8: 19.5 | EZ8: 20.77 | FA8: 21.25 | FB8: 21.72 | FC8: 21.59 | FD8: 21.84 | FE8: 21.45 | FF8: 21.58 | FG8: 21.71 | FH8: 21.96 | FI8: 22.02 | FJ8: 21.25 | FK8: 21.29 | FL8: 21.15 | FM8: 21.54 | FN8: 21.49 | FO8: 21.3 | FP8: 21.49 | FQ8: 22.01 | FR8: 22.78 | FS8: 22.73 | FT8: 23.36 | FU8: 23.37 | FV8: 23.41 | FW8: 23.67 | FX8: 23.53 | FY8: 23.29 | FZ8: 22.84 | GA8: 23.11 | GB8: 22.81 | GC8: 23.24 | GD8: 23.49 | GE8: 23.48 | GF8: 23.55 | GG8: 23.72 | GH8: 23.68 | GI8: 23.68 | GJ8: 23.14 | GK8: 23.78 | GL8: 24.23 | GM8: 24.45 | GN8: 24.7 | GO8: 25.92 | GP8: 26.75 | GQ8: 27.4 | GR8: 27.97 | GS8: 27.81 | GT8: 28.16 | GU8: 28.24 | GV8: 28.34 | GW8: 28.89 | GX8: 28.87 | GY8: 30.08 | GZ8: 31.41 | HA8: 31.65 | HB8: 30.8 | HC8: 30.24 | HD8: 30.76 | HE8: 30.86 | HF8: 29.96 | HG8: 29.7 | HH8: 29.08 | HI8: 29.23 | HJ8: 29.53 | HK8: 29.08 | HL8: 29.6 | HM8: 29.59 | HN8: 29.94 | HO8: 30.2 | HP8: 29.5 | HQ8: 30.23 | HR8: 30.03 | HS8: 30.16 | HT8: 29.71 | HU8: 29.74 | HV8: 29.37 | HW8: 29.45 | HX8: 29.56 | HY8: 30.33 | HZ8: 29.91 | IA8: 29.08 | IB8: 27.92 | IC8: 28 | ID8: 27.19 | IE8: 28.01 | IF8: 28.51 | IG8: 28.64 | IH8: 28.62 | II8: 28.53 | IJ8: 28.67 | IK8: 28.49 | IL8: 28.67 | IM8: 27.03 | IN8: 28.61 | IO8: 29.39 | IP8: 30.16 | IQ8: 36 | IR8: 35.73 | IS8: 34.49 | IT8: 34.17 | IU8: 33.02 | IV8: 36.28 | IW8: 36.83 | IX8: 34.38 | IY8: 34.34 | IZ8: 33.64 | JA8: 34.06 | JB8: 36.76 | JC8: 35.53 | JD8: 34.65 | JE8: 34.37 | JF8: 35.72 | JG8: 35.13 | JH8: 35.39 | JI8: 37.75 | JJ8: 38.97 | JK8: 38.57 | JL8: 40.26 | JM8: 39.36 | JN8: 41.66 | JO8: 44.45 | JP8: 42.21 | JQ8: 43.59 | JR8: 44.29 | JS8: 44.41 | JT8: 44.54 | JU8: 45.97 | JV8: 45.86 | JW8: 46.22 | JX8: 45.15 | JY8: 46.9 | JZ8: 47.13 | KA8: 47.1 | KB8: 46.61 | KC8: 46.99 | KD8: 47.25 | KE8: 47.06 | KF8: 47.12 | KG8: 47.23 | KH8: 47.11 | KI8: 46.53 | KJ8: 47.24 | KK8: 47.21 | KL8: 47.26 | KM8: 47.3 | KN8: 47.14 | KO8: 46.6 | KP8: 46.77 | KQ8: 46.24 | KR8: 46.32 | KS8: 46.61 | KT8: 46.88 | KU8: 46.65 | KV8: 46.43 | KW8: 46.98 | KX8: 46.67 | KY8: 47.24 | KZ8: 48.03 | LA8: 48.43 | LB8: 47.83 | LC8: 47.19 | LD8: 46.65 | LE8: 46.68 | LF8: 46.84 | LG8: 46.91 | LH8: 46.84 | LI8: 47.07 | LJ8: 47.43 | LK8: ='Average prices'!DO9 -> 47.32 | LL8: =(LK8-KY8)/KY8*100 -> 0.16934801 | LM8: =SUM(LJ8-LK8)/LK8*100 -> 0.23245985
A9: 5 | B9: Sorghum Meal | C9: 2kg | KR9: 55.12 | KS9: 55.23 | KT9: 54.69 | KU9: 54.4 | KV9: 54.29 | KW9: 54.54 | KX9: 54.67 | KY9: 55.78 | KZ9: 56.37 | LA9: 57.19 | LB9: 57.5 | LC9: 57.14 | LD9: 56.94 | LE9: 57.2 | LF9: 57.26 | LG9: 57.35 | LH9: 57.04 | LI9: 57.89 | LJ9: 58.56 | LK9: ='Average prices'!DO11 -> 58.97 | LL9: =(LK9-KY9)/KY9*100 -> 5.7188957 | LM9: =SUM(LJ9-LK9)/LK9*100 -> -0.69526878
A10: 6 | B10: Maize meal | C10: 2.5kg | JH10: 26.65 | JI10: 28.11 | JJ10: 28.69 | JK10: 28.02 | JL10: 30.15 | JM10: 33.61 | JN10: 32.31 | JO10: 33.05 | JP10: 32.71 | JQ10: 33.82 | JR10: 34.08 | JS10: 35.19 | JT10: 36.6 | JU10: 37.63 | JV10: 37.86 | JW10: 37.98 | JX10: 38.36 | JY10: 37.57 | JZ10: 37.18 | KA10: 36.73 | KB10: 36.81 | KC10: 36.86 | KD10: 37.04 | KE10: 36.64 | KF10: 36.7 | KG10: 37.12 | KH10: 36.8 | KI10: 36.76 | KJ10: 37.66 | KK10: 38.34 | KL10: 39.11 | KM10: 39.09 | KN10: 38.93 | KO10: 38.45 | KP10: 38.04 | KQ10: 38.48 | KR10: 40.39 | KS10: 41.34 | KT10: 42.11 | KU10: 42.5 | KV10: 43.04 | KW10: 43.57 | KX10: 43.26 | KY10: 42.68 | KZ10: 42.73 | LA10: 42.39 | LB10: 42.16 | LC10: 42.35 | LD10: 41.9 | LE10: 41.53 | LF10: 40.74 | LG10: 40.63 | LH10: 40.56 | LI10: 39.79 | LJ10: 39.06 | LK10: ='Average prices'!DO12 -> 38.53 | LL10: =(LK10-KY10)/KY10*100 -> -9.7235239 | LM10: =SUM(LJ10-LK10)/LK10*100 -> 1.3755515
A11: 7 | B11: Maize meal | C11: 5kg | JH11: 52.32 | JI11: 54.23 | JJ11: 53.67 | JK11: 54.17 | JL11: 57.64 | JM11: 58.42 | JN11: 59.43 | JO11: 62.39 | JP11: 63.12 | JQ11: 62.22 | JR11: 65.01 | JS11: 65.58 | JT11: 66.2 | JU11: 67.27 | JV11: 68.9 | JW11: 69.15 | JX11: 67.82 | JY11: 66.55 | JZ11: 67.22 | KA11: 68.34 | KB11: 69.03 | KC11: 66.59 | KD11: 68.02 | KE11: 66.6 | KF11: 66.88 | KG11: 68.52 | KH11: 67.29 | KI11: 66.61 | KJ11: 66.53 | KK11: 71.21 | KL11: 72.42 | KM11: 71.96 | KN11: 71.4 | KO11: 70.47 | KP11: 71.08 | KQ11: 71.04 | KR11: 73.11 | KS11: 74.91 | KT11: 75.47 | KU11: 77.55 | KV11: 76.27 | KW11: 77.13 | KX11: 74.32 | KY11: 74.92 | KZ11: 75.46 | LA11: 75.01 | LB11: 73.16 | LC11: 73.37 | LD11: 70.97 | LE11: 72.59 | LF11: 69.52 | LG11: 68.88 | LH11: 68.51 | LI11: 67.31 | LJ11: 65.09 | LK11: ='Average prices'!DO13 -> 65.26 | LL11: =(LK11-KY11)/KY11*100 -> -12.893753 | LM11: =SUM(LJ11-LK11)/LK11*100 -> -0.26049648
A12: 8 | B12: Samp | C12: 2.5kg | KR12: 47.52 | KS12: 49.04 | KT12: 49.68 | KU12: 50.14 | KV12: 50.43 | KW12: 51.56 | KX12: 51.56 | KY12: 51.89 | KZ12: 52.33 | LA12: 52.59 | LB12: 52.63 | LC12: 52.26 | LD12: 51.75 | LE12: 52.01 | LF12: 50.9 | LG12: 49.53 | LH12: 49.69 | LI12: 50.07 | LJ12: 49.84 | LK12: ='Average prices'!DO15 -> 49.96 | LL12: =(LK12-KY12)/KY12*100 -> -3.7194064 | LM12: =SUM(LJ12-LK12)/LK12*100 -> -0.24019215
A13: 9 | B13: White Bread | C13: 600gr | KR13: 12.28 | KS13: 12.25 | KT13: 12.44 | KU13: 12.44 | KV13: 12.52 | KW13: 12.37 | KX13: 12.02 | KY13: 11.99 | KZ13: 12.07 | LA13: 12.07 | LB13: 12.22 | LC13: 12.22 | LD13: 12.12 | LE13: 12.02 | LF13: 12.14 | LG13: 12.34 | LH13: 12.47 | LI13: 12.67 | LJ13: 12.52 | LK13: ='Average prices'!DO16 -> 12.51 | LL13: =(LK13-KY13)/KY13*100 -> 4.3369475 | LM13: =SUM(LJ13-LK13)/LK13*100 -> 0.079936051
A14: 10 | B14: White Bread | C14: 700gr | D14: 3.25 | E14: 3.27 | F14: 3.27 | G14: 3.27 | H14: 3.23 | I14: 3.26 | J14: 3.29 | K14: 3.32 | L14: 3.29 | M14: 3.35 | N14: 3.43 | O14: 3.45 | P14: 3.45 | Q14: 3.44 | R14: 3.47 | S14: 3.38 | T14: 3.47 | U14: 3.46 | V14: 3.47 | W14: 3.48 | X14: 3.46 | Y14: 3.61 | Z14: 3.72 | AA14: 3.74 | AB14: 3.63 | AC14: 3.66 | AD14: 3.92 | AE14: 3.96 | AF14: 3.87 | AG14: 3.95 | AH14: 3.95 | AI14: 4.09 | AJ14: 4.18 | AK14: 4.2 | AL14: 4.19 | AM14: 4.21 | AN14: 4.17 | AO14: 4.25 | AP14: 4.26 | AQ14: 4.23 | AR14: 4.25 | AS14: 4.26 | AT14: 4.31 | AU14: 4.44 | AV14: 4.46 | AW14: 4.51 | AX14: 4.5 | AY14: 4.5 | AZ14: 4.5 | BA14: 4.52 | BB14: 4.54 | BC14: 4.45 | BD14: 4.57 | BE14: 4.57 | BF14: 4.53 | BG14: 4.54 | BH14: 4.59 | BI14: 4.6 | BJ14: 4.7 | BK14: 4.7 | BL14: 4.69 | BM14: 4.69 | BN14: 4.69 | BO14: 4.61 | BP14: 4.61 | BQ14: 4.72 | BR14: 4.62 | BS14: 4.68 | BT14: 4.73 | BU14: 4.58 | BV14: 4.72 | BW14: 4.62 | BX14: 4.75 | BY14: 4.81 | BZ14: 4.85 | CA14: 4.88 | CB14: 4.8 | CC14: 4.79 | CD14: 4.81 | CE14: 4.94 | CF14: 4.86 | CG14: 4.94 | CH14: 4.93 | CI14: 4.89 | CJ14: 4.98 | CK14: 5.17 | CL14: 5.26 | CM14: 5.31 | CN14: 5.26 | CO14: 5.3 | CP14: 5.43 | CQ14: 5.57 | CR14: 5.7 | CS14: 5.74 | CT14: 5.75 | CU14: 5.85 | CV14: 5.89 | CW14: 6.26 | CX14: 6.42 | CY14: 6.71 | CZ14: 7.22 | DA14: 7.52 | DB14: 7.58 | DC14: 7.63 | DD14: 7.73 | DE14: 7.8 | DF14: 7.82 | DG14: 7.86 | DH14: 7.91 | DI14: 7.92 | DJ14: 7.9 | DK14: 7.87 | DL14: 7.97 | DM14: 7.91 | DN14: 7.87 | DO14: 7.84 | DP14: 7.83 | DQ14: 7.88 | DR14: 7.83 | DS14: 7.84 | DT14: 7.83 | DU14: 7.85 | DV14: 7.81 | DW14: 7.72 | DX14: 7.77 | DY14: 7.78 | DZ14: 7.8 | EA14: 7.87 | EB14: 7.92 | EC14: 8 | ED14: 8.31 | EE14: 8.31 | EF14: 8.31 | EG14: 8.31 | EH14: 8.22 | EI14: 8.23 | EJ14: 8.71 | EK14: 8.79 | EL14: 8.9 | EM14: 8.91 | EN14: 9.03 | EO14: 9.03 | EP14: 9.15 | EQ14: 9.18 | ER14: 9.17 | ES14: 9.31 | ET14: 9.21 | EU14: 9.19 | EV14: 9.23 | EW14: 9.23 | EX14: 9.34 | EY14: 9.31 | EZ14: 9.47 | FA14: 9.88 | FB14: 10.11 | FC14: 10.09 | FD14: 10.09 | FE14: 10.09 | FF14: 9.96 | FG14: 10.11 | FH14: 10.19 | FI14: 10.25 | FJ14: 10.3 | FK14: 10.37 | FL14: 10.45 | FM14: 10.5 | FN14: 10.48 | FO14: 10.51 | FP14: 10.49 | FQ14: 10.75 | FR14: 10.75 | FS14: 10.93 | FT14: 11.08 | FU14: 11.29 | FV14: 11.18 | FW14: 11.24 | FX14: 11.26 | FY14: 11.53 | FZ14: 11.43 | GA14: 11.43 | GB14: 11.42 | GC14: 11.56 | GD14: 11.62 | GE14: 11.61 | GF14: 11.8 | GG14: 11.79 | GH14: 11.89 | GI14: 11.94 | GJ14: 11.98 | GK14: 11.9 | GL14: 11.88 | GM14: 11.9 | GN14: 12.03 | GO14: 12.39 | GP14: 12.51 | GQ14: 12.66 | GR14: 12.82 | GS14: 12.85 | GT14: 13.01 | GU14: 13.34 | GV14: 13.34 | GW14: 13.52 | GX14: 13.61 | GY14: 13.6 | GZ14: 13.41 | HA14: 13.38 | HB14: 13.43 | HC14: 13.49 | HD14: 13.37 | HE14: 13.36 | HF14: 13.41 | HG14: 13.22 | HH14: 13.03 | HI14: 12.98 | HJ14: 12.92 | HK14: 12.91 | HL14: 12.92 | HM14: 13.08 | HN14: 12.95 | HO14: 13.05 | HP14: 12.92 | HQ14: 12.96 | HR14: 12.95 | HS14: 12.98 | HT14: 13.14 | HU14: 13.14 | HV14: 13.17 | HW14: 13.29 | HX14: 13.45 | HY14: 13.7 | HZ14: 13.86 | IA14: 13.85 | IB14: 13.96 | IC14: 13.9 | ID14: 13.83 | IE14: 13.75 | IF14: 13.73 | IG14: 13.71 | IH14: 13.62 | II14: 13.51 | IJ14: 13.51 | IK14: 13.63 | IL14: 13.66 | IM14: 14.43 | IN14: 14.7 | IO14: 15.19 | IP14: 15.05 | IQ14: 15.38 | IR14: 15.03 | IS14: 15.1 | IT14: 15.42 | IU14: 15.21 | IV14: 15.63 | IW14: 15.81 | IX14: 15.65 | IY14: 15.11 | IZ14: 15.33 | JA14: 15.24 | JB14: 15.57 | JC14: 15.3 | JD14: 15.27 | JE14: 15.39 | JF14: 15.68 | JG14: 15.46 | JH14: 15.47 | JI14: 16.16 | JJ14: 16.05 | JK14: 16.24 | JL14: 17.27 | JM14: 17.41 | JN14: 17.84 | JO14: 18.38 | JP14: 18.67 | JQ14: 18.54 | JR14: 18.68 | JS14: 18.62 | JT14: 18.66 | JU14: 18.79 | JV14: 18.97 | JW14: 19.07 | JX14: 18.99 | JY14: 18.73 | JZ14: 18.77 | KA14: 18.29 | KB14: 18.39 | KC14: 18.44 | KD14: 18.51 | KE14: 18.59 | KF14: 18.53 | KG14: 18.58 | KH14: 18.43 | KI14: 18.43 | KJ14: 18.54 | KK14: 18.63 | KL14: 18.68 | KM14: 18.97 | KN14: 18.88 | KO14: 19.06 | KP14: 19.04 | KQ14: 19.02 | KR14: 18.82 | KS14: 18.95 | KT14: 18.92 | KU14: 18.86 | KV14: 18.93 | KW14: 18.94 | KX14: 18.94 | KY14: 18.83 | KZ14: 18.93 | LA14: 19.14 | LB14: 19.14 | LC14: 19.16 | LD14: 19.21 | LE14: 19.15 | LF14: 19.26 | LG14: 19.38 | LH14: 19.61 | LI14: 19.76 | LJ14: 19.61 | LK14: ='Average prices'!DO17 -> 19.62 | LL14: =(LK14-KY14)/KY14*100 -> 4.1954328 | LM14: =SUM(LJ14-LK14)/LK14*100 -> -0.0509684
A15: 11 | B15: Brown Bread | C15: 600gr | KR15: 11.1 | KS15: 11.1 | KT15: 11.1 | KU15: 11.14 | KV15: 11.29 | KW15: 11.37 | KX15: 11.07 | KY15: 11.71 | KZ15: 11.76 | LA15: 11.76 | LB15: 11.27 | LC15: 11.27 | LD15: 11.63 | LE15: 11.27 | LF15: 11.63 | LG15: 11.58 | LH15: 11.62 | LI15: 11.62 | LJ15: 11.57 | LK15: ='Average prices'!DO18 -> 11.61 | LL15: =(LK15-KY15)/KY15*100 -> -0.85397096 | LM15: =SUM(LJ15-LK15)/LK15*100 -> -0.34453058
A16: 12 | B16: Brown Bread | C16: 700gr | D16: 2.77 | E16: 2.78 | F16: 2.78 | G16: 2.77 | H16: 2.77 | I16: 2.77 | J16: 2.79 | K16: 2.82 | L16: 2.77 | M16: 2.91 | N16: 2.92 | O16: 2.98 | P16: 2.97 | Q16: 2.98 | R16: 3.03 | S16: 3.02 | T16: 3.04 | U16: 2.94 | V16: 2.98 | W16: 3.02 | X16: 2.94 | Y16: 3.17 | Z16: 3.23 | AA16: 3.26 | AB16: 3.24 | AC16: 3.26 | AD16: 3.44 | AE16: 3.31 | AF16: 3.41 | AG16: 3.62 | AH16: 3.61 | AI16: 3.66 | AJ16: 3.68 | AK16: 3.84 | AL16: 3.7 | AM16: 3.81 | AN16: 3.73 | AO16: 3.78 | AP16: 3.74 | AQ16: 3.76 | AR16: 3.76 | AS16: 3.65 | AT16: 3.63 | AU16: 3.96 | AV16: 3.9 | AW16: 3.78 | AX16: 3.94 | AY16: 3.84 | AZ16: 3.81 | BA16: 3.92 | BB16: 3.93 | BC16: 3.93 | BD16: 3.97 | BE16: 3.97 | BF16: 3.93 | BG16: 3.93 | BH16: 3.93 | BI16: 3.93 | BJ16: 4.05 | BK16: 4.05 | BL16: 4.05 | BM16: 4.1 | BN16: 4.09 | BO16: 4.12 | BP16: 4.06 | BQ16: 3.95 | BR16: 4.07 | BS16: 4.04 | BT16: 4.06 | BU16: 4.05 | BV16: 4.06 | BW16: 4.04 | BX16: 4.38 | BY16: 4.43 | BZ16: 4.45 | CA16: 4.47 | CB16: 4.39 | CC16: 4.31 | CD16: 4.42 | CE16: 4.41 | CF16: 4.4 | CG16: 4.47 | CH16: 4.5 | CI16: 4.42 | CJ16: 4.59 | CK16: 4.74 | CL16: 4.75 | CM16: 4.82 | CN16: 4.77 | CO16: 4.85 | CP16: 4.96 | CQ16: 5.01 | CR16: 5.14 | CS16: 5.19 | CT16: 5.28 | CU16: 5.27 | CV16: 5.35 | CW16: 5.64 | CX16: 5.75 | CY16: 5.86 | CZ16: 6.43 | DA16: 6.75 | DB16: 6.86 | DC16: 6.87 | DD16: 6.99 | DE16: 7.02 | DF16: 7.02 | DG16: 7.07 | DH16: 7.18 | DI16: 7.29 | DJ16: 7.21 | DK16: 7.17 | DL16: 7.12 | DM16: 7.16 | DN16: 7.11 | DO16: 7.05 | DP16: 7.1 | DQ16: 7.04 | DR16: 7.01 | DS16: 6.98 | DT16: 6.97 | DU16: 7.09 | DV16: 6.99 | DW16: 7 | DX16: 6.98 | DY16: 6.97 | DZ16: 7 | EA16: 7.02 | EB16: 7.08 | EC16: 7.17 | ED16: 7.41 | EE16: 7.3 | EF16: 7.3 | EG16: 7.34 | EH16: 7.3 | EI16: 7.3 | EJ16: 7.74 | EK16: 7.85 | EL16: 7.99 | EM16: 8 | EN16: 8.07 | EO16: 8.08 | EP16: 8.15 | EQ16: 8.23 | ER16: 8.24 | ES16: 8.38 | ET16: 8.32 | EU16: 8.23 | EV16: 8.24 | EW16: 8.27 | EX16: 8.25 | EY16: 8.23 | EZ16: 8.38 | FA16: 8.8 | FB16: 8.97 | FC16: 9.03 | FD16: 9.01 | FE16: 8.95 | FF16: 8.93 | FG16: 9.04 | FH16: 9.15 | FI16: 9.16 | FJ16: 9.27 | FK16: 9.25 | FL16: 9.39 | FM16: 9.39 | FN16: 9.38 | FO16: 9.41 | FP16: 9.47 | FQ16: 9.54 | FR16: 9.59 | FS16: 9.77 | FT16: 9.89 | FU16: 10.06 | FV16: 10.04 | FW16: 10.06 | FX16: 10.08 | FY16: 10.15 | FZ16: 10.25 | GA16: 10.24 | GB16: 10.29 | GC16: 10.33 | GD16: 10.51 | GE16: 10.51 | GF16: 10.62 | GG16: 10.62 | GH16: 10.64 | GI16: 10.68 | GJ16: 10.66 | GK16: 10.77 | GL16: 10.8 | GM16: 10.82 | GN16: 10.88 | GO16: 11.22 | GP16: 11.33 | GQ16: 11.5 | GR16: 11.68 | GS16: 11.66 | GT16: 11.86 | GU16: 12.11 | GV16: 12.27 | GW16: 12.26 | GX16: 12.24 | GY16: 12.28 | GZ16: 12.31 | HA16: 12.23 | HB16: 12.15 | HC16: 12.2 | HD16: 12.14 | HE16: 12.24 | HF16: 12.18 | HG16: 12.11 | HH16: 11.85 | HI16: 11.98 | HJ16: 11.87 | HK16: 11.99 | HL16: 12.04 | HM16: 12.14 | HN16: 11.53 | HO16: 11.47 | HP16: 11.39 | HQ16: 11.53 | HR16: 11.34 | HS16: 11.58 | HT16: 11.66 | HU16: 11.69 | HV16: 11.8 | HW16: 11.82 | HX16: 12.17 | HY16: 12.48 | HZ16: 12.57 | IA16: 12.56 | IB16: 12.63 | IC16: 12.65 | ID16: 12.62 | IE16: 12.48 | IF16: 12.51 | IG16: 12.53 | IH16: 12.48 | II16: 12.42 | IJ16: 12.42 | IK16: 12.47 | IL16: 12.5 | IM16: 13.25 | IN16: 13.02 | IO16: 13.32 | IP16: 13.4 | IQ16: 13.6 | IR16: 13.84 | IS16: 13.88 | IT16: 14.06 | IU16: 14.14 | IV16: 14.11 | IW16: 14.2 | IX16: 13.83 | IY16: 14.16 | IZ16: 14.03 | JA16: 13.72 | JB16: 13.52 | JC16: 12.63 | JD16: 13.23 | JE16: 13.59 | JF16: 13.99 | JG16: 13.97 | JH16: 13.99 | JI16: 14.64 | JJ16: 14.64 | JK16: 14.93 | JL16: 15.37 | JM16: 15.9 | JN16: 15.93 | JO16: 16.32 | JP16: 16.69 | JQ16: 16.75 | JR16: 16.74 | JS16: 16.61 | JT16: 16.83 | JU16: 16.84 | JV16: 17.16 | JW16: 17.29 | JX16: 17.19 | JY16: 17.19 | JZ16: 17.17 | KA16: 16.96 | KB16: 16.96 | KC16: 17.06 | KD16: 17.12 | KE16: 17.12 | KF16: 17.16 | KG16: 17.06 | KH16: 17.19 | KI16: 17.14 | KJ16: 17.21 | KK16: 17.31 | KL16: 17.28 | KM16: 17.52 | KN16: 17.64 | KO16: 17.63 | KP16: 17.55 | KQ16: 17.39 | KR16: 17.34 | KS16: 17.52 | KT16: 17.6 | KU16: 17.48 | KV16: 17.54 | KW16: 17.42 | KX16: 17.4 | KY16: 17.43 | KZ16: 17.46 | LA16: 17.54 | LB16: 17.57 | LC16: 17.53 | LD16: 17.58 | LE16: 17.54 | LF16: 17.49 | LG16: 17.57 | LH16: 17.61 | LI16: 17.74 | LJ16: 17.72 | LK16: ='Average prices'!DO19 -> 17.56 | LL16: =(LK16-KY16)/KY16*100 -> 0.7458405 | LM16: =SUM(LJ16-LK16)/LK16*100 -> 0.91116173
A17: 13 | B17: Bread rolls | C17: For_6 | GZ17: 13.09 | HA17: 11.9 | HB17: 11.94 | HC17: 11.58 | HD17: 11.73 | HE17: 11.34 | HF17: 11.52 | HG17: 11.13 | HH17: 10.95 | HI17: 11.23 | HJ17: 11.48 | HK17: 11.53 | HL17: 11.33 | HM17: 11.22 | HN17: 11.34 | HO17: 11.49 | HP17: 11.58 | HQ17: 11.59 | HR17: 11.74 | HS17: 11.72 | HT17: 11.77 | HU17: 11.75 | HV17: 11.84 | HW17: 12.05 | HX17: 11.63 | HY17: 11.89 | HZ17: 12.09 | IA17: 12.1 | IB17: 12.08 | IC17: 12.19 | ID17: 12.5 | IE17: 12.51 | IF17: 12.48 | IG17: 12.9 | IH17: 12.83 | II17: 12.65 | IJ17: 12.42 | IK17: 12.56 | IL17: 12.91 | IM17: 17.5 | IN17: 17.49 | IO17: 17.99 | IP17: 17.28 | IQ17: 16.02 | IR17: 15.69 | IS17: 15.86 | IT17: 15.98 | IU17: 14 | IV17: 17.3 | IW17: 17.51 | IX17: 15.78 | IY17: 15.39 | IZ17: 14.05 | JA17: 13.98 | JB17: 14.65 | JC17: 14.58 | JD17: 13.03 | JE17: 14.55 | JF17: 13.72 | JG17: 14.69 | JH17: 15.87 | JI17: 14.68 | JJ17: 14.87 | JK17: 15.57 | JL17: 16.79 | JM17: 16.29 | JN17: 16.43 | JO17: 17.45 | JP17: 16.82 | JQ17: 17.31 | JR17: 18.42 | JS17: 18.52 | JT17: 17.57 | JU17: 17.32 | JV17: 17.88 | JW17: 18.41 | JX17: 18.43 | JY17: 19.1 | JZ17: 19.94 | KA17: 18 | KB17: 18.06 | KC17: 18.45 | KD17: 18.19 | KE17: 18.4 | KF17: 18.66 | KG17: 19.04 | KH17: 18.92 | KI17: 18.94 | KJ17: 18.76 | KK17: 18.64 | KL17: 18.97 | KM17: 19.01 | KN17: 19 | KO17: 18.74 | KP17: 19.45 | KQ17: 19.26 | KR17: 19.04 | KS17: 19.27 | KT17: 19.35 | KU17: 19.46 | KV17: 19.58 | KW17: 19.49 | KX17: 18.93 | KY17: 19.82 | KZ17: 19.66 | LA17: 20.55 | LB17: 20.57 | LC17: 20.59 | LD17: 20.78 | LE17: 20.79 | LF17: 21.38 | LG17: 21.46 | LH17: 20.95 | LI17: 20.37 | LJ17: 20.58 | LK17: ='Average prices'!DO20 -> 20.73 | LL17: =(LK17-KY17)/KY17*100 -> 4.5913219 | LM17: =SUM(LJ17-LK17)/LK17*100 -> -0.723589
A18: 14 | B18: Rusks | C18: 500gr | GZ18: 33.48 | HA18: 33.88 | HB18: 33.71 | HC18: 34.05 | HD18: 32.94 | HE18: 31.37 | HF18: 31.12 | HG18: 31.19 | HH18: 30.49 | HI18: 33.18 | HJ18: 33.19 | HK18: 33.96 | HL18: 34.46 | HM18: 34.28 | HN18: 34.64 | HO18: 34.67 | HP18: 33.3 | HQ18: 32.83 | HR18: 32.79 | HS18: 32.8 | HT18: 33.49 | HU18: 35.13 | HV18: 35.89 | HW18: 36.54 | HX18: 36.62 | HY18: 36.12 | HZ18: 36.2 | IA18: 36.42 | IB18: 35.15 | IC18: 36.01 | ID18: 35.58 | IE18: 36.34 | IF18: 36.7 | IG18: 36.54 | IH18: 36.98 | II18: 37.39 | IJ18: 38.41 | IK18: 38.08 | IL18: 38.46 | IM18: 39.64 | IN18: 39.4 | IO18: 35.85 | IP18: 37.73 | IQ18: 38.6 | IR18: 39.3 | IS18: 40.72 | IT18: 41.52 | IU18: 41.52 | IV18: 40.94 | IW18: 41.19 | IX18: 41.13 | IY18: 41.01 | IZ18: 43.32 | JA18: 44.08 | JB18: 43.56 | JC18: 42.67 | JD18: 42.91 | JE18: 44.69 | JF18: 40.64 | JG18: 41.71 | JH18: 42.89 | JI18: 43.89 | JJ18: 43.22 | JK18: 43.69 | JL18: 47.46 | JM18: 48.97 | JN18: 55.31 | JO18: 53.4 | JP18: 52.06 | JQ18: 52.35 | JR18: 49.46 | JS18: 49.52 | JT18: 49.71 | JU18: 52.82 | JV18: 53.13 | JW18: 51.69 | JX18: 55.65 | JY18: 51.86 | JZ18: 51.71 | KA18: 48.1 | KB18: 49 | KC18: 49.72 | KD18: 49.72 | KE18: 49.98 | KF18: 50.17 | KG18: 50.33 | KH18: 50.51 | KI18: 49.8 | KJ18: 49.62 | KK18: 49.96 | KL18: 50.35 | KM18: 51.61 | KN18: 52.46 | KO18: 52.89 | KP18: 53.27 | KQ18: 54.19 | KR18: 54.14 | KS18: 54.18 | KT18: 55.03 | KU18: 55.67 | KV18: 55.02 | KW18: 55.75 | KX18: 54.67 | KY18: 55.32 | KZ18: 55.52 | LA18: 55.97 | LB18: 56.42 | LC18: 56.94 | LD18: 61.68 | LE18: 56.59 | LF18: 57.32 | LG18: 57.49 | LH18: 56.79 | LI18: 56.48 | LJ18: 56.64 | LK18: ='Average prices'!DO23 -> 56.9 | LL18: =(LK18-KY18)/KY18*100 -> 2.8561099 | LM18: =SUM(LJ18-LK18)/LK18*100 -> -0.456942
A19: 15 | B19: Hot cereals (porridge) incl instant porridge | C19: 1kg | GZ19: 19.76 | HA19: 19.56 | HB19: 19.75 | HC19: 19.67 | HD19: 19.61 | HE19: 19.63 | HF19: 19.24 | HG19: 19.38 | HH19: 19.51 | HI19: 19.22 | HJ19: 19.42 | HK19: 19.47 | HL19: 19.43 | HM19: 19.37 | HN19: 19.43 | HO19: 19.3 | HP19: 19.33 | HQ19: 19.21 | HR19: 19.26 | HS19: 19.06 | HT19: 19.07 | HU19: 19.32 | HV19: 19.54 | HW19: 20.02 | HX19: 20.39 | HY19: 20.55 | HZ19: 20.84 | IA19: 20.91 | IB19: 21.55 | IC19: 21.58 | ID19: 22.34 | IE19: 22.4 | IF19: 22.85 | IG19: 22.98 | IH19: 23.16 | II19: 23.31 | IJ19: 23.05 | IK19: 23.7 | IL19: 23.73 | IM19: 24.58 | IN19: 21.43 | IO19: 25.24 | IP19: 25.55 | IQ19: 25.72 | IR19: 25.53 | IS19: 25.06 | IT19: 24.71 | IU19: 25.57 | IV19: 26.04 | IW19: 25.6 | IX19: 25.98 | IY19: 27.14 | IZ19: 26.08 | JA19: 27.14 | JB19: 28.58 | JC19: 28.67 | JD19: 28.24 | JE19: 26.97 | JF19: 27.05 | JG19: 26.2 | JH19: 26.36 | JI19: 26.72 | JJ19: 26.5 | JK19: 27.12 | JL19: 27.8 | JM19: 28.28 | JN19: 29.79 | JO19: 31.21 | JP19: 31.34 | JQ19: 31.17 | JR19: 31.74 | JS19: 32.02 | JT19: 30.97 | JU19: 32.54 | JV19: 33.06 | JW19: 33.26 | JX19: 34.8 | JY19: 33.09 | JZ19: 33.57 | KA19: 30.63 | KB19: 31.96 | KC19: 32.46 | KD19: 32.13 | KE19: 32.25 | KF19: 32.22 | KG19: 32.43 | KH19: 32.67 | KI19: 32.3 | KJ19: 31.61 | KK19: 33.07 | KL19: 33.51 | KM19: 33.72 | KN19: 33.88 | KO19: 33.82 | KP19: 33.83 | KQ19: 33.46 | KR19: 33.97 | KS19: 34.05 | KT19: 34.07 | KU19: 34.09 | KV19: 34.41 | KW19: 34.11 | KX19: 33.86 | KY19: 33.8 | KZ19: 34.14 | LA19: 33.99 | LB19: 33.83 | LC19: 33.59 | LD19: 56.81 | LE19: 33.58 | LF19: 34.05 | LG19: 35.34 | LH19: 35.11 | LI19: 35 | LJ19: 35.19 | LK19: ='Average prices'!DO30 -> 35.32 | LL19: =(LK19-KY19)/KY19*100 -> 4.4970414 | LM19: =SUM(LJ19-LK19)/LK19*100 -> -0.36806342
A20: 16 | B20: Spaghetti | C20: 500gr | D20: 3.18 | E20: 3.13 | F20: 3.1 | G20: 3.11 | H20: 3.13 | I20: 3.13 | J20: 3.14 | K20: 3.17 | L20: 3.19 | M20: 3.19 | N20: 3.25 | O20: 3.31 | P20: 3.31 | Q20: 3.29 | R20: 3.3 | S20: 3.35 | T20: 3.38 | U20: 3.43 | V20: 3.51 | W20: 3.55 | X20: 3.58 | Y20: 3.56 | Z20: 3.55 | AA20: 3.57 | AB20: 3.75 | AC20: 3.84 | AD20: 3.89 | AE20: 4.15 | AF20: 4.2 | AG20: 4.37 | AH20: 4.39 | AI20: 4.4 | AJ20: 4.67 | AK20: 4.64 | AL20: 4.85 | AM20: 4.99 | AN20: 5.08 | AO20: 5.15 | AP20: 5.04 | AQ20: 5.09 | AR20: 5.06 | AS20: 5.06 | AT20: 4.84 | AU20: 4.71 | AV20: 4.88 | AW20: 5.06 | AX20: 5.06 | AY20: 4.89 | AZ20: 5.11 | BA20: 5.01 | BB20: 4.99 | BC20: 5.1 | BD20: 5.11 | BE20: 5.19 | BF20: 5.03 | BG20: 5.25 | BH20: 5.1 | BI20: 4.91 | BJ20: 4.99 | BK20: 4.97 | BL20: 5.12 | BM20: 5.17 | BN20: 4.81 | BO20: 4.88 | BP20: 4.84 | BQ20: 4.89 | BR20: 5.05 | BS20: 4.84 | BT20: 5.17 | BU20: 5.15 | BV20: 5.09 | BW20: 5.04 | BX20: 5.55 | BY20: 5.35 | BZ20: 5.43 | CA20: 5.42 | CB20: 5.39 | CC20: 5.4 | CD20: 5.45 | CE20: 5.43 | CF20: 5.52 | CG20: 5.61 | CH20: 5.69 | CI20: 5.73 | CJ20: 5.88 | CK20: 5.65 | CL20: 5.77 | CM20: 5.8 | CN20: 5.95 | CO20: 6.02 | CP20: 6.25 | CQ20: 6.2 | CR20: 6.3 | CS20: 6.68 | CT20: 6.89 | CU20: 7.01 | CV20: 8.11 | CW20: 8.86 | CX20: 9.48 | CY20: 9.42 | CZ20: 9.53 | DA20: 9.79 | DB20: 10.07 | DC20: 9.84 | DD20: 9.85 | DE20: 9.13 | DF20: 9.53 | DG20: 10.13 | DH20: 10.45 | DI20: 10.49 | DJ20: 9.89 | DK20: 10.41 | DL20: 10.35 | DM20: 10.24 | DN20: 10.52 | DO20: 10.64 | DP20: 10.5 | DQ20: 10.27 | DR20: 10.14 | DS20: 10.41 | DT20: 10.37 | DU20: 10.31 | DV20: 10.01 | DW20: 10.16 | DX20: 10.04 | DY20: 9.41 | DZ20: 9.03 | EA20: 8.88 | EB20: 8.81 | EC20: 9.1 | ED20: 8.89 | EE20: 8.85 | EF20: 9.19 | EG20: 9.32 | EH20: 9.26 | EI20: 9.46 | EJ20: 8.96 | EK20: 9.44 | EL20: 9.31 | EM20: 9.22 | EN20: 9.24 | EO20: 8.79 | EP20: 9.24 | EQ20: 9.02 | ER20: 9.04 | ES20: 9.35 | ET20: 9.4 | EU20: 9.37 | EV20: 9.15 | EW20: 9.21 | EX20: 9.12 | EY20: 8.94 | EZ20: 9.37 | FA20: 9.76 | FB20: 9.9 | FC20: 9.99 | FD20: 9.82 | FE20: 9.32 | FF20: 10.14 | FG20: 9.92 | FH20: 9.76 | FI20: 9.75 | FJ20: 9.97 | FK20: 9.85 | FL20: 9.94 | FM20: 10.14 | FN20: 9.9 | FO20: 10.1 | FP20: 10.06 | FQ20: 9.96 | FR20: 10.37 | FS20: 10.21 | FT20: 10.58 | FU20: 10.68 | FV20: 10.72 | FW20: 10.68 | FX20: 10.42 | FY20: 10.25 | FZ20: 10.4 | GA20: 10.3 | GB20: 10.58 | GC20: 10.63 | GD20: 11.13 | GE20: 10.87 | GF20: 11.08 | GG20: 11.01 | GH20: 11.19 | GI20: 11.24 | GJ20: 11.11 | GK20: 11.33 | GL20: 11.18 | GM20: 11.16 | GN20: 11.29 | GO20: 11.44 | GP20: 12.19 | GQ20: 12.57 | GR20: 12.53 | GS20: 12.52 | GT20: 12.58 | GU20: 12.69 | GV20: 12.69 | GW20: 12.79 | GX20: 12.82 | GY20: 12.58 | GZ20: 13.15 | HA20: 12.81 | HB20: 12.7 | HC20: 12.59 | HD20: 12.16 | HE20: 12.59 | HF20: 12.79 | HG20: 13.09 | HH20: 12.78 | HI20: 13.4 | HJ20: 13.12 | HK20: 13.01 | HL20: 13.15 | HM20: 12.84 | HN20: 12.84 | HO20: 12.74 | HP20: 12.19 | HQ20: 12.35 | HR20: 12.46 | HS20: 12.19 | HT20: 12.27 | HU20: 12.27 | HV20: 12.39 | HW20: 12.4 | HX20: 12.98 | HY20: 13.09 | HZ20: 13.22 | IA20: 13.32 | IB20: 13.59 | IC20: 13.74 | ID20: 13.6 | IE20: 13.51 | IF20: 13.66 | IG20: 13.18 | IH20: 13.56 | II20: 13.14 | IJ20: 13.27 | IK20: 13.29 | IL20: 13.55 | IM20: 14.14 | IN20: 13.82 | IO20: 13.74 | IP20: 13.72 | IQ20: 14.17 | IR20: 14.99 | IS20: 15.23 | IT20: 15.23 | IU20: 15.85 | IV20: 16.47 | IW20: 16.6 | IX20: 16.14 | IY20: 16.32 | IZ20: 16.5 | JA20: 16.22 | JB20: 16.8 | JC20: 16.05 | JD20: 16.37 | JE20: 16.31 | JF20: 16.19 | JG20: 16.98 | JH20: 17.27 | JI20: 17.14 | JJ20: 17.24 | JK20: 17.81 | JL20: 17.48 | JM20: 17.55 | JN20: 19.31 | JO20: 19.25 | JP20: 19.54 | JQ20: 19.28 | JR20: 19.33 | JS20: 18.9 | JT20: 19.23 | JU20: 19.82 | JV20: 19.76 | JW20: 20.13 | JX20: 20.55 | JY20: 20.04 | JZ20: 20 | KA20: 19.45 | KB20: 19.68 | KC20: 19.55 | KD20: 19.43 | KE20: 19.73 | KF20: 19.73 | KG20: 19.62 | KH20: 19.52 | KI20: 19.19 | KJ20: 19.08 | KK20: 19.41 | KL20: 19.64 | KM20: 19.53 | KN20: 19.59 | KO20: 19.54 | KP20: 19.62 | KQ20: 19.62 | KR20: 19.7 | KS20: 19.57 | KT20: 19.24 | KU20: 19.64 | KV20: 19.58 | KW20: 19.84 | KX20: 19.6 | KY20: 19.78 | KZ20: 20.12 | LA20: 20.06 | LB20: 20.28 | LC20: 20.42 | LD20: 20.14 | LE20: 19.86 | LF20: 20.17 | LG20: 20 | LH20: 19.94 | LI20: 19.88 | LJ20: 20.05 | LK20: ='Average prices'!DO31 -> 20.07 | LL20: =(LK20-KY20)/KY20*100 -> 1.4661274 | LM20: =SUM(LJ20-LK20)/LK20*100 -> -0.099651221
A21: 17 | B21: Macaroni | C21: 500gr | GZ21: 12.88 | HA21: 12.63 | HB21: 12.48 | HC21: 12.33 | HD21: 12.1 | HE21: 12.4 | HF21: 12.67 | HG21: 12.84 | HH21: 12.78 | HI21: 12.91 | HJ21: 12.76 | HK21: 12.35 | HL21: 12.61 | HM21: 12.39 | HN21: 12.14 | HO21: 12.22 | HP21: 11.68 | HQ21: 11.86 | HR21: 11.77 | HS21: 11.69 | HT21: 11.67 | HU21: 11.69 | HV21: 11.81 | HW21: 11.74 | HX21: 12.27 | HY21: 12.39 | HZ21: 12.76 | IA21: 12.53 | IB21: 12.82 | IC21: 12.85 | ID21: 13.03 | IE21: 12.84 | IF21: 12.94 | IG21: 12.32 | IH21: 12.81 | II21: 12.46 | IJ21: 12.51 | IK21: 12.54 | IL21: 12.95 | IM21: 13.91 | IN21: 13.57 | IO21: 13.49 | IP21: 14.67 | IQ21: 14.54 | IR21: 15.01 | IS21: 15.24 | IT21: 15.12 | IU21: 14.71 | IV21: 14.68 | IW21: 14.86 | IX21: 14.83 | IY21: 14.71 | IZ21: 15.01 | JA21: 15.13 | JB21: 15.2 | JC21: 14.65 | JD21: 15.25 | JE21: 15.11 | JF21: 15 | JG21: 15.35 | JH21: 15.59 | JI21: 16.14 | JJ21: 16.21 | JK21: 16.54 | JL21: 15.85 | JM21: 16.51 | JN21: 17.66 | JO21: 17.69 | JP21: 17.89 | JQ21: 17.93 | JR21: 17.99 | JS21: 18.23 | JT21: 18.4 | JU21: 18.64 | JV21: 18.53 | JW21: 18.06 | JX21: 18.66 | JY21: 18.96 | JZ21: 18.96 | KA21: 18.56 | KB21: 18.53 | KC21: 18.5 | KD21: 18.45 | KE21: 18.28 | KF21: 18.35 | KG21: 18.4 | KH21: 18.32 | KI21: 18.12 | KJ21: 17.92 | KK21: 18.11 | KL21: 18.32 | KM21: 18.33 | KN21: 18.3 | KO21: 18.08 | KP21: 18.02 | KQ21: 17.92 | KR21: 18.02 | KS21: 18.08 | KT21: 17.99 | KU21: 18.07 | KV21: 18.13 | KW21: 18.17 | KX21: 18 | KY21: 18.12 | KZ21: 18.41 | LA21: 18.35 | LB21: 18.53 | LC21: 18.67 | LD21: 18.63 | LE21: 18.65 | LF21: 18.79 | LG21: 18.63 | LH21: 18.76 | LI21: 18.99 | LJ21: 18.76 | LK21: ='Average prices'!DO32 -> 18.77 | LL21: =(LK21-KY21)/KY21*100 -> 3.5871965 | LM21: =SUM(LJ21-LK21)/LK21*100 -> -0.053276505
A22: 18 | B22: Instant noodles | C22: 5x70gr | KR22: 34.88 | KS22: 34.96 | KT22: 34.99 | KU22: 34.34 | KV22: 34.8 | KW22: 34.17 | KX22: 34.92 | KY22: 34.73 | KZ22: 34.46 | LA22: 34.52 | LB22: 34.76 | LC22: 34.78 | LD22: 35.19 | LE22: 34.81 | LF22: 35.78 | LG22: 36.66 | LH22: 35.79 | LI22: 36.07 | LJ22: 35.6 | LK22: ='Average prices'!DO35 -> 35.75 | LL22: =(LK22-KY22)/KY22*100 -> 2.9369421 | LM22: =SUM(LJ22-LK22)/LK22*100 -> -0.41958042
A23: 19 | B23: Beef Mince | C23: p/kg | CV23: 41.6 | CW23: 41.48 | CX23: 41.88 | CY23: 42.31 | CZ23: 42.81 | DA23: 44.6 | DB23: 44.44 | DC23: 44.52 | DD23: 45.08 | DE23: 45.6 | DF23: 45.17 | DG23: 46.47 | DH23: 46.72 | DI23: 46.81 | DJ23: 47.27 | DK23: 47.88 | DL23: 48.01 | DM23: 47.72 | DN23: 47.14 | DO23: 47.36 | DP23: 46.54 | DQ23: 47.11 | DR23: 47.13 | DS23: 47.35 | DT23: 47.96 | DU23: 47.48 | DV23: 47.79 | DW23: 48.38 | DX23: 47.95 | DY23: 46.85 | DZ23: 46.55 | EA23: 47.75 | EB23: 47.9 | EC23: 47.67 | ED23: 47.81 | EE23: 48.09 | EF23: 49.6 | EG23: 49.84 | EH23: 52.44 | EI23: 52.51 | EJ23: 53.14 | EK23: 52.76 | EL23: 53.44 | EM23: 53.66 | EN23: 54.71 | EO23: 56.85 | EP23: 58.62 | EQ23: 61.64 | ER23: 61.64 | ES23: 59.82 | ET23: 59.83 | EU23: 58.88 | EV23: 60.17 | EW23: 56.98 | EX23: 57.32 | EY23: 58.55 | EZ23: 60.66 | FA23: 62.71 | FB23: 63.2 | FC23: 64.6 | FD23: 64.46 | FE23: 61.96 | FF23: 63.86 | FG23: 61.37 | FH23: 60.53 | FI23: 60.36 | FJ23: 60.03 | FK23: 59.77 | FL23: 60.54 | FM23: 61.57 | FN23: 60.08 | FO23: 61.44 | FP23: 62.84 | FQ23: 60.88 | FR23: 61.92 | FS23: 64.15 | FT23: 65.09 | FU23: 64.92 | FV23: 63.97 | FW23: 65.97 | FX23: 66.35 | FY23: 65.78 | FZ23: 65.52 | GA23: 65.94 | GB23: 65.49 | GC23: 65.4 | GD23: 65.71 | GE23: 66.17 | GF23: 66.24 | GG23: 66.47 | GH23: 65.36 | GI23: 66.69 | GJ23: 66.62 | GK23: 67.13 | GL23: 69.16 | GM23: 68.72 | GN23: 68.48 | GO23: 67.31 | GP23: 69.34 | GQ23: 69.5 | GR23: 69.55 | GS23: 69.5 | GT23: 68.96 | GU23: 67.95 | GV23: 68.1 | GW23: 68.97 | GX23: 69.47 | GY23: 71.03 | GZ23: 71.34 | HA23: 73.5 | HB23: 74.99 | HC23: 74.62 | HD23: 75.68 | HE23: 76.36 | HF23: 77.2 | HG23: 77.39 | HH23: 77.33 | HI23: 77.8 | HJ23: 79.5 | HK23: 78.82 | HL23: 80.52 | HM23: 82.32 | HN23: 83.42 | HO23: 83.64 | HP23: 83.94 | HQ23: 84.17 | HR23: 84.73 | HS23: 84.02 | HT23: 84.12 | HU23: 85.14 | HV23: 84.79 | HW23: 85.08 | HX23: 86.11 | HY23: 84.93 | HZ23: 84.19 | IA23: 84.11 | IB23: 83.2 | IC23: 83.74 | ID23: 82.98 | IE23: 83.99 | IF23: 83.51 | IG23: 83.08 | IH23: 82.77 | II23: 83.56 | IJ23: 84.23 | IK23: 84.43 | IL23: 85.85 | IM23: 88.2 | IO23: 78.82 | IP23: 89.25 | IQ23: 97.41 | IR23: 96.34 | IS23: 88.47 | IT23: 91.13 | IU23: 90.93 | IV23: 89.75 | IW23: 97 | IX23: 95.54 | IY23: 95.17 | IZ23: 95.16 | JA23: 94.42 | JB23: 95.31 | JC23: 95.9 | JD23: 94.43 | JE23: 94.11 | JF23: 94.56 | JG23: 97.53 | JH23: 96.41 | JI23: 97 | JJ23: 97.82 | JK23: 102.09 | JL23: 103.43 | JM23: 101.9 | JN23: 102.5 | JO23: 103.17 | JP23: 104.72 | JQ23: 106.59 | JR23: 106.9 | JS23: 106.62 | JT23: 107.67 | JU23: 108.17 | JV23: 108.48 | JW23: 108.04 | JX23: 109.35 | JY23: 106.5 | JZ23: 110.52 | KA23: 106.44 | KB23: 103.07 | KC23: 103.78 | KD23: 103.78 | KE23: 104.37 | KF23: 105.94 | KG23: 105.07 | KH23: 103.49 | KI23: 103.42 | KJ23: 103.29 | KK23: 102.23 | KL23: 102.95 | KM23: 101.37 | KN23: 101.46 | KO23: 101.97 | KP23: 102.37 | KQ23: 103.83 | KR23: 104.37 | KS23: 104.06 | KT23: 104.53 | KU23: 111.14 | KV23: 110.93 | KW23: 117.92 | KX23: 126.79 | KY23: 127.4 | KZ23: 129.22 | LA23: 129.11 | LB23: 129.88 | LC23: 131.4 | LD23: 131.82 | LE23: 128.45 | LF23: 127.11 | LG23: 127.42 | LH23: 124.35 | LI23: 123.15 | LJ23: 122.64 | LK23: ='Average prices'!DO37 -> 124.92 | LL23: =(LK23-KY23)/KY23*100 -> -1.9466248 | LM23: =SUM(LJ23-LK23)/LK23*100 -> -1.8251681
A24: 20 | B24: Beef Brisket | C24: p/kg | D24: - | E24: - | F24: - | G24: - | H24: - | I24: - | J24: - | K24: - | L24: - | M24: - | N24: - | O24: - | P24: - | Q24: - | R24: - | S24: - | T24: - | U24: - | V24: - | W24: - | X24: - | Y24: - | Z24: - | AA24: - | AB24: - | AC24: - | AD24: - | AE24: - | AF24: - | AG24: - | AH24: - | AI24: - | AJ24: - | AK24: - | AL24: - | AM24: - | AN24: - | AO24: - | AP24: - | AQ24: - | AR24: - | AS24: - | AT24: - | AU24: - | AV24: - | AW24: - | AX24: - | AY24: - | AZ24: - | BA24: - | BB24: - | BC24: - | BD24: - | BE24: - | BF24: - | BG24: - | BH24: - | BI24: - | BJ24: - | BK24: - | BL24: - | BM24: - | BN24: - | BO24: - | BP24: - | BQ24: - | BR24: - | BS24: - | BT24: - | BU24: - | BV24: - | BW24: - | BX24: - | BY24: - | BZ24: - | CA24: - | CB24: - | CC24: - | CD24: - | CE24: - | CF24: - | CG24: - | CH24: - | CI24: - | CJ24: - | CK24: - | CL24: - | CM24: - | CN24: - | CO24: - | CP24: - | CQ24: - | CR24: - | CS24: - | CT24: - | CU24: - | CV24: 40.43 | CW24: 40.22 | CX24: 40.54 | CY24: 40.33 | CZ24: 40.24 | DA24: 40.66 | DB24: 41.24 | DC24: 40.73 | DD24: 41.39 | DE24: 41.71 | DF24: 41.79 | DG24: 42.24 | DH24: 43.12 | DI24: 45.43 | DJ24: 45.72 | DK24: 45.85 | DL24: 45.71 | DM24: 45.36 | DN24: 44.59 | DO24: 44.33 | DP24: 44.61 | DQ24: 44.32 | DR24: 43.96 | DS24: 44.05 | DT24: 45.39 | DU24: 45.39 | DV24: 45.55 | DW24: 45.4 | DX24: 45.36 | DY24: 45.82 | DZ24: 45.19 | EA24: 44.83 | EB24: 44.56 | EC24: 45.28 | ED24: 45.14 | EE24: 45.55 | EF24: 49.61 | EG24: 49.48 | EH24: 51.27 | EI24: 52.01 | EJ24: 51.01 | EK24: 51.23 | EL24: 51.74 | EM24: 51.94 | EN24: 52.4 | EO24: 54.94 | EP24: 57.57 | EQ24: 58.24 | ER24: 60.52 | ES24: 57.82 | ET24: 55.46 | EU24: 58.01 | EV24: 57.03 | EW24: 55.03 | EX24: 54.24 | EY24: 54.8 | EZ24: 58.64 | FA24: 60.19 | FB24: 59.97 | FC24: 60.03 | FD24: 61.12 | FE24: 59.66 | FF24: 57.36 | FG24: 55.82 | FH24: 55.31 | FI24: 54.77 | FJ24: 54.37 | FK24: 55.12 | FL24: 55.51 | FM24: 55.87 | FN24: 56.63 | FO24: 56.3 | FP24: 59.17 | FQ24: 57.24 | FR24: 57.25 | FS24: 61.3 | FT24: 61.51 | FU24: 61.02 | FV24: 61.49 | FW24: 62.38 | FX24: 62.11 | FY24: 61.61 | FZ24: 61.64 | GA24: 62.1 | GB24: 64.43 | GC24: 63.79 | GD24: 62.55 | GE24: 62.98 | GF24: 63.34 | GG24: 63.57 | GH24: 63.36 | GI24: 64.2 | GJ24: 65.08 | GK24: 64.7 | GL24: 64.83 | GM24: 65.53 | GN24: 67.88 | GO24: 67.55 | GP24: 69.19 | GQ24: 69.94 | GR24: 70.08 | GS24: 69.8 | GT24: 69.81 | GU24: 69.02 | GV24: 68.72 | GW24: 68.6 | GX24: 69.02 | GY24: 69.61 | GZ24: 72.42 | HA24: 74.52 | HB24: 76.72 | HC24: 79.68 | HD24: 82.36 | HE24: 82.37 | HF24: 82.84 | HG24: 82.95 | HH24: 81.41 | HI24: 81.71 | HJ24: 82.59 | HK24: 82.34 | HL24: 85.96 | HM24: 85.59 | HN24: 85.4 | HO24: 86.67 | HP24: 86.51 | HQ24: 85.7 | HR24: 86.11 | HS24: 86.3 | HT24: 85.97 | HU24: 85.83 | HV24: 85.23 | HW24: 84.63 | HX24: 86.4 | HY24: 82.75 | HZ24: 81.38 | IA24: 81.69 | IB24: 82.57 | IC24: 82.88 | ID24: 83.68 | IE24: 84.8 | IF24: 84.75 | IG24: 84.68 | IH24: 84.41 | II24: 85.19 | IJ24: 88.61 | IK24: 87.55 | IL24: 87.84 | IO24: 84.27 | IP24: 85.05 | IQ24: 84.56 | IR24: 84.84 | IS24: 89.43 | IT24: 91.02 | IU24: 93.03 | IV24: 93.63 | IW24: 88.31 | IX24: 90.76 | IY24: 93.86 | IZ24: 97.99 | JA24: 97.5 | JB24: 92.16 | JC24: 90.83 | JD24: 95.91 | JE24: 95.87 | JF24: 96.45 | JG24: 98.65 | JH24: 103.29 | JI24: 101.29 | JJ24: 101.55 | JK24: 104.77 | JL24: 107.8 | JM24: 106.53 | JN24: 107.25 | JO24: 107.07 | JP24: 107.53 | JQ24: 106.87 | JR24: 107.87 | JS24: 111 | JT24: 117.06 | JU24: 121.48 | JV24: 114.97 | JW24: 109.46 | JX24: 107.16 | JY24: 104.49 | JZ24: 103.36 | KA24: 103.3 | KB24: 108.13 | KC24: 104.02 | KD24: 104.44 | KE24: 106.92 | KF24: 110.25 | KG24: 109.4 | KH24: 105.93 | KI24: 107.39 | KJ24: 115.64 | KK24: 106.74 | KL24: 109.66 | KM24: 105.09 | KN24: 104.95 | KO24: 104.36 | KP24: 104.89 | KQ24: 106.96 | KR24: 107.75 | KS24: 106.76 | KT24: 105.91 | KU24: 118.33 | KV24: 120.58 | KW24: 129.67 | KX24: 138.44 | KY24: 138.2 | KZ24: 137.76 | LA24: 134.98 | LB24: 135.3 | LC24: 138.22 | LD24: 141.27 | LE24: 134.94 | LF24: 129.29 | LG24: 129.91 | LH24: 126.65 | LI24: 126.81 | LJ24: 127.11 | LK24: ='Average prices'!DO39 -> 131.53 | LL24: =(LK24-KY24)/KY24*100 -> -4.8263386 | LM24: =SUM(LJ24-LK24)/LK24*100 -> -3.3604501
A25: 21 | B25: Beef Chuck | C25: p/kg | D25: - | E25: - | F25: - | G25: - | H25: - | I25: - | J25: - | K25: - | L25: - | M25: - | N25: - | O25: - | P25: - | Q25: - | R25: - | S25: - | T25: - | U25: - | V25: - | W25: - | X25: - | Y25: - | Z25: - | AA25: - | AB25: - | AC25: - | AD25: - | AE25: - | AF25: - | AG25: - | AH25: - | AI25: - | AJ25: - | AK25: - | AL25: - | AM25: - | AN25: - | AO25: - | AP25: - | AQ25: - | AR25: - | AS25: - | AT25: - | AU25: - | AV25: - | AW25: - | AX25: - | AY25: - | AZ25: - | BA25: - | BB25: - | BC25: - | BD25: - | BE25: - | BF25: - | BG25: - | BH25: - | BI25: - | BJ25: - | BK25: - | BL25: - | BM25: - | BN25: - | BO25: - | BP25: - | BQ25: - | BR25: - | BS25: - | BT25: - | BU25: - | BV25: - | BW25: - | BX25: - | BY25: - | BZ25: - | CA25: - | CB25: - | CC25: - | CD25: - | CE25: - | CF25: - | CG25: - | CH25: - | CI25: - | CJ25: - | CK25: - | CL25: - | CM25: - | CN25: - | CO25: - | CP25: - | CQ25: - | CR25: - | CS25: - | CT25: - | CU25: - | CV25: 42.23 | CW25: 41.92 | CX25: 41.93 | CY25: 42.11 | CZ25: 42.12 | DA25: 42.92 | DB25: 43.35 | DC25: 43.41 | DD25: 43.42 | DE25: 43.2 | DF25: 43.58 | DG25: 44.15 | DH25: 45.97 | DI25: 46.57 | DJ25: 47.54 | DK25: 47.21 | DL25: 47.12 | DM25: 47.16 | DN25: 46.79 | DO25: 46.81 | DP25: 46.5 | DQ25: 45.91 | DR25: 45.59 | DS25: 45.66 | DT25: 47.13 | DU25: 47.06 | DV25: 46.9 | DW25: 47.35 | DX25: 47.18 | DY25: 47.27 | DZ25: 47.07 | EA25: 46.76 | EB25: 46.59 | EC25: 46.57 | ED25: 46.86 | EE25: 47.32 | EF25: 51.16 | EG25: 51.07 | EH25: 52.71 | EI25: 52.81 | EJ25: 52.51 | EK25: 52.29 | EL25: 52.9 | EM25: 53.44 | EN25: 52.49 | EO25: 55.83 | EP25: 58.12 | EQ25: 59.58 | ER25: 61.71 | ES25: 59.66 | ET25: 57.99 | EU25: 56.91 | EV25: 56.25 | EW25: 55.43 | EX25: 55.2 | EY25: 55.32 | EZ25: 60.64 | FA25: 62.33 | FB25: 62.46 | FC25: 61.81 | FD25: 63.38 | FE25: 61.2 | FF25: 58.8 | FG25: 57.36 | FH25: 56.81 | FI25: 56.34 | FJ25: 56.12 | FK25: 56.27 | FL25: 56.96 | FM25: 57.12 | FN25: 57.47 | FO25: 57.26 | FP25: 60.5 | FQ25: 58.53 | FR25: 59.68 | FS25: 62.08 | FT25: 63.59 | FU25: 62.53 | FV25: 62.73 | FW25: 63.36 | FX25: 62.94 | FY25: 62.62 | FZ25: 62.65 | GA25: 62.88 | GB25: 65.24 | GC25: 64.08 | GD25: 64.54 | GE25: 64.3 | GF25: 64.7 | GG25: 64.98 | GH25: 64.74 | GI25: 65.33 | GJ25: 65.97 | GK25: 65.79 | GL25: 66.12 | GM25: 66.56 | GN25: 69.72 | GO25: 69.4 | GP25: 70.72 | GQ25: 71.74 | GR25: 71.71 | GS25: 71.12 | GT25: 71 | GU25: 70.33 | GV25: 70.06 | GW25: 70.12 | GX25: 70.51 | GY25: 71.03 | GZ25: 73.67 | HA25: 76.49 | HB25: 78.57 | HC25: 81.2 | HD25: 83.92 | HE25: 84.33 | HF25: 83.42 | HG25: 84.71 | HH25: 84.16 | HI25: 84.3 | HJ25: 84.85 | HK25: 84.9 | HL25: 88.08 | HM25: 87.75 | HN25: 87.26 | HO25: 88.72 | HP25: 88.32 | HQ25: 87.46 | HR25: 87.81 | HS25: 87.23 | HT25: 86.75 | HU25: 87.06 | HV25: 86.5 | HW25: 85.98 | HX25: 88.71 | HY25: 83.47 | HZ25: 83.14 | IA25: 83.14 | IB25: 84.19 | IC25: 84.63 | ID25: 84.74 | IE25: 86.29 | IF25: 86.45 | IG25: 85.83 | IH25: 85.68 | II25: 86.39 | IJ25: 90.53 | IK25: 89.27 | IL25: 89.69 | IM25: 80.99 | IN25: 80.99 | IO25: 84.72 | IP25: 84.85 | IQ25: 88.65 | IR25: 86.85 | IS25: 91.24 | IT25: 89.9 | IU25: 97.66 | IV25: 97.75 | IW25: 98.45 | IX25: 95.25 | IY25: 97.38 | IZ25: 98.81 | JA25: 99.28 | JB25: 99.52 | JC25: 99.67 | JD25: 97.93 | JE25: 97.58 | JF25: 99.06 | JG25: 101.04 | JH25: 102.15 | JI25: 102.26 | JJ25: 103.56 | JK25: 104.89 | JL25: 108.93 | JM25: 108.87 | JN25: 109.29 | JO25: 109.8 | JP25: 107.45 | JQ25: 108.99 | JR25: 109.34 | JS25: 110.12 | JT25: 113.54 | JU25: 112.64 | JV25: 112.06 | JW25: 111.48 | JX25: 109.02 | JY25: 105.01 | JZ25: 104.96 | KA25: 105.03 | KB25: 105.05 | KC25: 105.5 | KD25: 106.02 | KE25: 107.92 | KF25: 112.48 | KG25: 110.85 | KH25: 107.67 | KI25: 108.55 | KJ25: 107.9 | KK25: 108.03 | KL25: 106.44 | KM25: 106.14 | KN25: 105.94 | KO25: 104.8 | KP25: 105.34 | KQ25: 108.09 | KR25: 109.17 | KS25: 107.85 | KT25: 107.12 | KU25: 119.6 | KV25: 121.7 | KW25: 129.99 | KX25: 139.5 | KY25: 139.56 | KZ25: 139.61 | LA25: 137.06 | LB25: 136.43 | LC25: 139.67 | LD25: 143.65 | LE25: 138.58 | LF25: 131.88 | LG25: 131.54 | LH25: 129.34 | LI25: 130.62 | LJ25: 129.08 | LK25: ='Average prices'!DO40 -> 132.31 | LL25: =(LK25-KY25)/KY25*100 -> -5.1948983 | LM25: =SUM(LJ25-LK25)/LK25*100 -> -2.4412365
