Workbook
Name Average_prices: 'Average prices'!$A$1:$DO$392

Sheet Stats SA Food Prices
A1: Average Monthly Food Prices: Stats SA
II2: Note 1 | IJ2: Note 2 | IM2: Note 3 | JK2: Note 4 | LM2: % +/-
B3: Product Description | C3: Unit | D3: 36526 | E3: 36557 | F3: 36586 | G3: 36617 | H3: 36647 | I3: 36678 | J3: 36708 | K3: 36739 | L3: 36770 | M3: 36800 | N3: 36831 | O3: 36861 | P3: 36892 | Q3: 36923 | R3: 36951 | S3: 36982 | T3: 37012 | U3: 37043 | V3: 37073 | W3: 37104 | X3: 37135 | Y3: 37165 | Z3: 37196 | AA3: 37226 | AB3: 37258 | AC3: 37289 | AD3: 37317 | AE3: 37348 | AF3: 37378 | AG3: 37409 | AH3: 37439 | AI3: 37470 | AJ3: 37501 | AK3: 37531 | AL3: 37562 | AM3: 37592 | AN3: 37622 | AO3: 37653 | AP3: 37681 | AQ3: 37712 | AR3: 37742 | AS3: 37773 | AT3: 37803 | AU3: 37834 | AV3: 37865 | AW3: 37895 | AX3: 37926 | AY3: 37956 | AZ3: 37987 | BA3: 38018 | BB3: 38047 | BC3: 38078 | BD3: 38108 | BE3: 38139 | BF3: 38169 | BG3: 38200 | BH3: 38231 | BI3: 38261 | BJ3: 38292 | BK3: 38322 | BL3: 38353 | BM3: 38384 | BN3: 38412 | BO3: 38443 | BP3: 38473 | BQ3: 38504 | BR3: 38534 | BS3: 38565 | BT3: 38596 | BU3: 38626 | BV3: 38657 | BW3: 38687 | BX3: 38718 | BY3: 38749 | BZ3: 38777 | CA3: 38808 | CB3: 38838 | CC3: 38869 | CD3: 38899 | CE3: 38930 | CF3: 38961 | CG3: 38991 | CH3: 39022 | CI3: 39052 | CJ3: 39083 | CK3: 39114 | CL3: 39142 | CM3: 39173 | CN3: 39203 | CO3: 39234 | CP3: 39264 | CQ3: 39295 | CR3: 39326 | CS3: 39356 | CT3: 39387 | CU3: 39417 | CV3: 39448 | CW3: 39479 | CX3: 39508 | CY3: 39539 | CZ3: 39569 | DA3: 39600 | DB3: 39630 | DC3: 39661 | DD3: 39692 | DE3: 39722 | DF3: 39753 | DG3: 39783 | DH3: 39814 | DI3: 39845 | DJ3: 39873 | DK3: 39904 | DL3: 39942 | DM3: 39973 | DN3: 40003 | DO3: 40034 | DP3: 40065 | DQ3: 40095 | DR3: 40126 | DS3: 40156 | DT3: 40187 | DU3: 40218 | DV3: 40247 | DW3: 40278 | DX3: 40302 | DY3: 40333 | DZ3: 40363 | EA3: 40391 | EB3: 40422 | EC3: 40452 | ED3: 40483 | EE3: 40513 | EF3: 40544 | EG3: 40575 | EH3: 40603 | EI3: 40634 | EJ3: 40664 | EK3: 40695 | EL3: 40725 | EM3: 40756 | EN3: 40787 | EO3: 40817 | EP3: 40848 | EQ3: 40878 | ER3: 40909 | ES3: 40940 | ET3: 40969 | EU3: 41000 | EV3: 41030 | EW3: 41061 | EX3: 41091 | EY3: 41122 | EZ3: 41153 | FA3: 41183 | FB3: 41214 | FC3: 41244 | FD3: 41275 | FE3: 41306 | FF3: 41334 | FG3: 41365 | FH3: 41395 | FI3: 41426 | FJ3: 41456 | FK3: 41487 | FL3: 41518 | FM3: 41548 | FN3: 41579 | FO3: 41609 | FP3: 41640 | FQ3: 41671 | FR3: 41699 | FS3: 41730 | FT3: 41760 | FU3: 41791 | FV3: 41821 | FW3: 41852 | FX3: 41883 | FY3: 41913 | FZ3: 41944 | GA3: 41974 | GB3: 42005 | GC3: 42036 | GD3: 42064 | GE3: 42095 | GF3: 42125 | GG3: 42156 | GH3: 42186 | GI3: 42217 | GJ3: 42248 | GK3: 42278 | GL3: 42309 | GM3: 42339 | GN3: 42370 | GO3: 42401 | GP3: 42430 | GQ3: 42461 | GR3: 42491 | GS3: 42522 | GT3: 42552 | GU3: 42583 | GV3: 42614 | GW3: 42644 | GX3: 42675 | GY3: 42705 | GZ3: 42736 | HA3: 42767 | HB3: 42795 | HC3: 42826 | HD3: 42856 | HE3: 42887 | HF3: 42917 | HG3: 42948 | HH3: 42979 | HI3: 43009 | HJ3: 43040 | HK3: 43070 | HL3: 43101 | HM3: 43132 | HN3: 43160 | HO3: 43191 | HP3: 43221 | HQ3: 43252 | HR3: 43282 | HS3: 43313 | HT3: 43344 | HU3: 43374 | HV3: 43405 | HW3: 43435 | HX3: 43466 | HY3: 43497 | HZ3: 43525 | IA3: 43556 | IB3: 43586 | IC3: 43617 | ID3: 43647 | IE3: 43678 | IF3: 43709 | IG3: 43739 | IH3: 43770 | II3: 43800 | IJ3: 43831 | IK3: 43862 | IL3: 43891 | IM3: 43922 | IN3: 43952 | IO3: 43983 | IP3: 44013 | IQ3: 44044 | IR3: 44075 | IS3: 44105 | IT3: 44136 | IU3: 44166 | IV3: 44197 | IW3: 44228 | IX3: 44256 | IY3: 44287 | IZ3: 44317 | JA3: 44348 | JB3: 44378 | JC3: 44409 | JD3: 44440 | JE3: 44470 | JF3: 44501 | JG3: 44531 | JH3: 44562 | JI3: 44593 | JJ3: 44621 | JK3: 44652 | JL3: 44682 | JM3: 44713 | JN3: 44743 | JO3: 44774 | JP3: 44805 | JQ3: 44835 | JR3: 44866 | JS3: 44896 | JT3: 44927 | JU3: 44958 | JV3: 44986 | JW3: 45017 | JX3: 45047 | JY3: 45078 | JZ3: 45108 | KA3: 45139 | KB3: 45170 | KC3: 45200 | KD3: 45231 | KE3: 45261 | KF3: 45292 | KG3: 45323 | KH3: 45352 | KI3: 45383 | KJ3: 45413 | KK3: 45444 | KL3: 45474 | KM3: 45505 | KN3: 45536 | KO3: 45566 | KP3: 45597 | KQ3: 45627 | KR3: 45658 | KS3: 45689 | KT3: 45717 | KU3: 45748 | KV3: 45778 | KW3: 45809 | KX3: 45839 | KY3: 45870 | KZ3: 45901 | LA3: 45931 | LB3: 45962 | LC3: 45992 | LD3: 46023 | LE3: 46054 | LF3: 46082 | LG3: 46113 | LH3: 46143 | LI3: 46174 | LJ3: 46204 | LK3: 46235 | LL3: % +/- | LM3: Previous
D4: Price | E4: Price | F4: Price | G4: Price | H4: Price | I4: Price | J4: Price | K4: Price | L4: Price | M4: Price | N4: Price | O4: Price | P4: Price | Q4: Price | R4: Price | S4: Price | T4: Price | U4: Price | V4: Price | W4: Price | X4: Price | Y4: Price | Z4: Price | AA4: Price | AB4: Price | AC4: Price | AD4: Price | AE4: Price | AF4: Price | AG4: Price | AH4: Price | AI4: Price | AJ4: Price | AK4: Price | AL4: Price | AM4: Price | AN4: Price | AO4: Price | AP4: Price | AQ4: Price | AR4: Price | AS4: Price | AT4: Price | AU4: Price | AV4: Price | AW4: Price | AX4: Price | AY4: Price | AZ4: Price | BA4: Price | BB4: Price | BC4: Price | BD4: Price | BE4: Price | BF4: Price | BG4: Price | BH4: Price | BI4: Price | BJ4: Price | BK4: Price | BL4: Price | BM4: Price | BN4: Price | BO4: Price | BP4: Price | BQ4: Price | BR4: Price | BS4: Price | BT4: Price | BU4: Price | BV4: Price | BW4: Price | BX4: Price | BY4: Price | BZ4: Price | CA4: Price | CB4: Price | CC4: Price | CD4: Price | CE4: Price | CF4: Price | CG4: Price | CH4: Price | CI4: Price | CJ4: Price | CK4: Price | CL4: Price | CM4: Price | CN4: Price | CO4: Price | CP4: Price | CQ4: Price | CR4: Price | CS4: Price | CT4: Price | CU4: Price | LL4: * SMPY | LM4: month
A5: 1 | B5: White Rice | C5: 1kg | D5: 6.02 | E5: 6.12 | F5: 6.02 | G5: 6.02 | H5: 6.08 | I5: 6.17 | J5: 6.16 | K5: 6.09 | L5: 6.1 | M5: 6.1 | N5: 6.12 | O5: 6.11 | P5: 6.02 | Q5: 6.05 | R5: 6.04 | S5: 6.11 | T5: 6.09 | U5: 6.13 | V5: 6.19 | W5: 6.2 | X5: 6.2 | Y5: 6.54 | Z5: 6.55 | AA5: 6.84 | AB5: 6.91 | AC5: 7.02 | AD5: 7.23 | AE5: 7.35 | AF5: 7.34 | AG5: 7.32 | AH5: 7.36 | AI5: 7.45 | AJ5: 7.91 | AK5: 7.22 | AL5: 7.2 | AM5: 7.2 | AN5: 7.3 | AO5: 7.29 | AP5: 7.07 | AQ5: 7.09 | AR5: 7.06 | AS5: 7.21 | AT5: 7.6 | AU5: 7.6 | AV5: 7.27 | AW5: 7.66 | AX5: 7.48 | AY5: 7.48 | AZ5: 7.65 | BA5: 7.65 | BB5: 7.6 | BC5: 7.6 | BD5: 7.7 | BE5: 7.71 | BF5: 7.61 | BG5: 7.71 | BH5: 7.71 | BI5: 7.74 | BJ5: 7.72 | BK5: 7.68 | BL5: 7.65 | BM5: 7.66 | BN5: 7.69 | BO5: 7.69 | BP5: 7.69 | BQ5: 7.63 | BR5: 7.63 | BS5: 7.64 | BT5: 7.7 | BU5: 7.2 | BV5: 7.2 | BW5: 7.09 | BX5: 6.26 | BY5: 6.5 | BZ5: 6.62 | CA5: 6.71 | CB5: 6.49 | CC5: 6.34 | CD5: 6.39 | CE5: 6.3 | CF5: 6.55 | CG5: 6.61 | CH5: 6.49 | CI5: 6.61 | CJ5: 6.66 | CK5: 6.74 | CL5: 6.85 | CM5: 6.95 | CN5: 6.92 | CO5: 7.08 | CP5: 7.21 | CQ5: 7.42 | CR5: 7.49 | CS5: 7.67 | CT5: 7.71 | CU5: 8.2 | CV5: 8.2 | CW5: 8.46 | CX5: 8.5 | CY5: 8.83 | CZ5: 9.31 | DA5: 10.82 | DB5: 13.17 | DC5: 14.89 | DD5: 16 | DE5: 15.86 | DF5: 15.93 | DG5: 16 | DH5: 17.36 | DI5: 17.52 | DJ5: 17.25 | DK5: 17.42 | DL5: 17.25 | DM5: 16.26 | DN5: 16.16 | DO5: 15.6 | DP5: 15.65 | DQ5: 15.45 | DR5: 15.14 | DS5: 14.67 | DT5: 14.88 | DU5: 14.38 | DV5: 14.69 | DW5: 14.65 | DX5: 14.15 | DY5: 14.41 | DZ5: 13.83 | EA5: 13.87 | EB5: 13.75 | EC5: 12.88 | ED5: 13.09 | EE5: 13.3 | EF5: 12.72 | EG5: 13.03 | EH5: 12.95 | EI5: 12.87 | EJ5: 12.32 | EK5: 12.26 | EL5: 12.23 | EM5: 12.5 | EN5: 12.5 | EO5: 12.7 | EP5: 13.19 | EQ5: 13.66 | ER5: 13.76 | ES5: 14.1 | ET5: 14.39 | EU5: 14.43 | EV5: 14.29 | EW5: 14.18 | EX5: 14.13 | EY5: 14.01 | EZ5: 13.94 | FA5: 13.89 | FB5: 13.88 | FC5: 13.78 | FD5: 13.77 | FE5: 13.73 | FF5: 13.68 | FG5: 13.75 | FH5: 13.83 | FI5: 13.91 | FJ5: 14.07 | FK5: 14.38 | FL5: 14.38 | FM5: 14.58 | FN5: 14.75 | FO5: 14.8 | FP5: 14.75 | FQ5: 14.93 | FR5: 14.88 | FS5: 14.85 | FT5: 14.9 | FU5: 14.78 | FV5: 14.86 | FW5: 14.91 | FX5: 14.61 | FY5: 15.18 | FZ5: 15.23 | GA5: 15.23 | GB5: 15.47 | GC5: 15.7 | GD5: 15.75 | GE5: 15.63 | GF5: 16.16 | GG5: 15.9 | GH5: 16.21 | GI5: 16.43 | GJ5: 16.45 | GK5: 16.27 | GL5: 16.31 | GM5: 16.07 | GN5: 16.48 | GO5: 16.31 | GP5: 16.35 | GQ5: 16.43 | GR5: 16.88 | GS5: 17.03 | GT5: 16.79 | GU5: 17.32 | GV5: 18.11 | GW5: 18.06 | GX5: 18.27 | GY5: 18.36 | GZ5: 18.65 | HA5: 18.58 | HB5: 18.65 | HC5: 18.26 | HD5: 18.27 | HE5: 18.48 | HF5: 18.41 | HG5: 18.65 | HH5: 18.5 | HI5: 19.2 | HJ5: 18.62 | HK5: 19.2 | HL5: 19.41 | HM5: 19.13 | HN5: 18.93 | HO5: 18.69 | HP5: 18.64 | HQ5: 18.69 | HR5: 18.78 | HS5: 18.45 | HT5: 18.11 | HU5: 18.91 | HV5: 18.59 | HW5: 18.56 | HX5: 18.98 | HY5: 19.13 | HZ5: 19.64 | IA5: 19.5 | IB5: 19.52 | IC5: 19.77 | ID5: 19.57 | IE5: 19.17 | IF5: 19.46 | IG5: 19.6 | IH5: 19.94 | II5: 20.06 | IJ5: 19.7 | IK5: 19.58 | IL5: 19.9 | IM5: 20.37 | IN5: 25.84 | IO5: 30.32 | IP5: 33.41 | IQ5: 29.92 | IR5: 32.09 | IS5: 35.32 | IT5: 32.04 | IU5: 28.14 | IV5: 29.89 | IW5: 30.06 | IX5: 27.59 | IY5: 21.23 | IZ5: 27.83 | JA5: 26.73 | JB5: 30.99 | JC5: 31.09 | JD5: 28.36 | JE5: 27.47 | JF5: 28.27 | JG5: 28.32 | JH5: 24.28 | JI5: 27.69 | JJ5: 26.52 | JK5: 23.75 | JL5: 25.01 | JM5: 26.28 | JN5: 25.56 | JO5: 27.36 | JP5: 22.07 | JQ5: 22.48 | JR5: 22.86 | JS5: 23.23 | JT5: 23.22 | JU5: 23.54 | JV5: 23.85 | JW5: 24.13 | JX5: 24.64 | JY5: 24.03 | JZ5: 25.35 | KA5: 26.01 | KB5: 26.89 | KC5: 28.59 | KD5: 29.25 | KE5: 30.07 | KF5: 31.1 | KG5: 31.83 | KH5: 31.76 | KI5: 31.88 | KJ5: 32.16 | KK5: 33.07 | KL5: 33.93 | KM5: 34.01 | KN5: 33.49 | KO5: 33.13 | KP5: 33.18 | KQ5: 33.48 | KR5: 29.06 | KS5: 28.97 | KT5: 29.01 | KU5: 29.36 | KV5: 29.58 | KW5: 29.56 | KX5: 29.59 | KY5: 29.59 | KZ5: 29.45 | LA5: 29.29 | LB5: 28.81 | LC5: 28.39 | LD5: 28.26 | LE5: 28.12 | LF5: 27.82 | LG5: 27.06 | LH5: 27.08 | LI5: 27.17 | LJ5: 27.62 | LK5: ='Average prices'!DO2 -> 27.86 | LL5: =(LK5-KY5)/KY5*100 -> -5.8465698 | LM5: =SUM(LJ5-LK5)/LK5*100 -> -0.86145011
A6: 2 | B6: White Rice | C6: 2kg | D6: 8.12 | E6: 7.84 | F6: 8.21 | G6: 8.2 | H6: 8.56 | I6: 8.17 | J6: 8.31 | K6: 8.44 | L6: 9.04 | M6: 8.86 | N6: 9.14 | O6: 8.87 | P6: 8.96 | Q6: 9.03 | R6: 8.47 | S6: 8.91 | T6: 8.91 | U6: 9 | V6: 8.89 | W6: 8.92 | X6: 7.91 | Y6: 7.81 | Z6: 8.21 | AA6: 8.49 | AB6: 9.54 | AC6: 9.88 | AD6: 9.77 | AE6: 9.94 | AF6: 9.4 | AG6: 9.51 | AH6: 8.91 | AI6: 9.61 | AJ6: 9.87 | AK6: 9.13 | AL6: 8.94 | AM6: 9.66 | AN6: 10.07 | AO6: 10.67 | AP6: 10.39 | AQ6: 10.39 | AR6: 14.07 | AS6: 14.54 | AT6: 12.72 | AU6: 10.09 | AV6: 9.34 | AW6: 10.09 | AX6: 10.09 | AY6: 10.14 | AZ6: 10.14 | BA6: 10.14 | BB6: 10.51 | BC6: 10.51 | BD6: 10.51 | BE6: 11.09 | BF6: 10.77 | BG6: 10.7 | BH6: 10.34 | BI6: 10.21 | BJ6: 10.21 | BK6: 8.88 | BL6: 8.86 | BM6: 8.59 | BN6: 8.31 | BO6: 8.78 | BP6: 8.86 | BQ6: 8.9 | BR6: 9.41 | BS6: 9.87 | BT6: 9.93 | BU6: 9.71 | BV6: 10.12 | BW6: 12.15 | BX6: 11.95 | BY6: 12.16 | BZ6: 11.95 | CA6: 11.77 | CB6: 11 | CC6: 10.81 | CD6: 11.31 | CE6: 11.71 | CF6: 12.02 | CG6: 12.43 | CH6: 12.43 | CI6: 12.69 | CJ6: 12.75 | CK6: 12.58 | CL6: 12.74 | CM6: 12.71 | CN6: 12.89 | CO6: 12.9 | CP6: 13.09 | CQ6: 13.31 | CR6: 13.34 | CS6: 13.53 | CT6: 13.48 | CU6: 13.42 | CV6: 13.4 | CW6: 13.45 | CX6: 13.89 | CY6: 14.4 | CZ6: 16.17 | DA6: 18.68 | DB6: 21 | DC6: 24.53 | DD6: 25.67 | DE6: 25.87 | DF6: 25.6 | DG6: 25.67 | DH6: 26.65 | DI6: 26.84 | DJ6: 26.33 | DK6: 26.28 | DL6: 25.97 | DM6: 25.8 | DN6: 25.24 | DO6: 24.69 | DP6: 24.58 | DQ6: 23.83 | DR6: 23.07 | DS6: 23.1 | DT6: 23.14 | DU6: 22.16 | DV6: 22.17 | DW6: 21.72 | DX6: 21.75 | DY6: 20.83 | DZ6: 20.51 | EA6: 21.06 | EB6: 20.43 | EC6: 20.83 | ED6: 20.93 | EE6: 20.81 | EF6: 21.26 | EG6: 20.45 | EH6: 20.3 | EI6: 19.91 | EJ6: 19.96 | EK6: 20.19 | EL6: 20.35 | EM6: 20.06 | EN6: 20.18 | EO6: 20.78 | EP6: 21.86 | EQ6: 22.01 | ER6: 22.64 | ES6: 22.65 | ET6: 22.27 | EU6: 21.63 | EV6: 21.49 | EW6: 21.63 | EX6: 21.12 | EY6: 20.92 | EZ6: 21.25 | FA6: 21.23 | FB6: 21.01 | FC6: 21.14 | FD6: 21.21 | FE6: 21.35 | FF6: 21.38 | FG6: 21.01 | FH6: 21.36 | FI6: 21.51 | FJ6: 21.62 | FK6: 22.16 | FL6: 22.74 | FM6: 22.54 | FN6: 22.28 | FO6: 22.48 | FP6: 22.85 | FQ6: 22.96 | FR6: 22.88 | FS6: 23.01 | FT6: 23.19 | FU6: 22.76 | FV6: 22.94 | FW6: 23.31 | FX6: 22.98 | FY6: 22.95 | FZ6: 23.26 | GA6: 22.99 | GB6: 23.45 | GC6: 23.51 | GD6: 23.13 | GE6: 23.34 | GF6: 23.5 | GG6: 23 | GH6: 23.24 | GI6: 24.15 | GJ6: 23.52 | GK6: 23.74 | GL6: 23.67 | GM6: 23.64 | GN6: 24.16 | GO6: 24.34 | GP6: 24.64 | GQ6: 24.82 | GR6: 25.85 | GS6: 25.34 | GT6: 24.81 | GU6: 25.03 | GV6: 25.22 | GW6: 25.89 | GX6: 26.12 | GY6: 25.54 | GZ6: 26.87 | HA6: 26.48 | HB6: 26.58 | HC6: 26.04 | HD6: 26.12 | HE6: 26.25 | HF6: 25.82 | HG6: 25.62 | HH6: 26.52 | HI6: 26.18 | HJ6: 25.49 | HK6: 24.52 | HL6: 25.58 | HM6: 25.22 | HN6: 25.54 | HO6: 25.36 | HP6: 25.4 | HQ6: 25.31 | HR6: 26.01 | HS6: 25.6 | HT6: 25.09 | HU6: 25.56 | HV6: 26.09 | HW6: 25.83 | HX6: 26.66 | HY6: 26.82 | HZ6: 26.3 | IA6: 26.12 | IB6: 26.02 | IC6: 26.47 | ID6: 26.46 | IE6: 26.76 | IF6: 26.95 | IG6: 26.84 | IH6: 27.28 | II6: 27.1 | IJ6: 27.69 | IK6: 27.5 | IL6: 27.56 | IM6: 27.34 | IN6: 37.38 | IO6: 41.49 | IP6: 41.94 | IQ6: 39.79 | IR6: 39.64 | IS6: 43.22 | IT6: 43.24 | IU6: 39.42 | IV6: 42.28 | IW6: 43.41 | IX6: 42.11 | IY6: 39.46 | IZ6: 39.01 | JA6: 40.95 | JB6: 43.34 | JC6: 43.52 | JD6: 40.63 | JE6: 40.82 | JF6: 40.56 | JG6: 39.11 | JH6: 38.61 | JI6: 38.78 | JJ6: 38.26 | JK6: 37.23 | JL6: 37.1 | JM6: 38.49 | JN6: 40.58 | JO6: 41.1 | JP6: 35.48 | JQ6: 35.66 | JR6: 35.01 | JS6: 35.82 | JT6: 35.18 | JU6: 35.53 | JV6: 36.34 | JW6: 36 | JX6: 37.72 | JY6: 37.97 | JZ6: 39.26 | KA6: 40.72 | KB6: 42.49 | KC6: 43.7 | KD6: 43.49 | KE6: 43.19 | KF6: 44.14 | KG6: 45.26 | KH6: 46.17 | KI6: 46.09 | KJ6: 46.54 | KK6: 47.22 | KL6: 47.46 | KM6: 47.59 | KN6: 47.3 | KO6: 46.68 | KP6: 46.7 | KQ6: 45.81 | KR6: 44.8 | KS6: 45.38 | KT6: 44.71 | KU6: 44.39 | KV6: 44.27 | KW6: 43.88 | KX6: 43.37 | KY6: 42.66 | KZ6: 42.45 | LA6: 41.92 | LB6: 40.68 | LC6: 41.16 | LD6: 39.46 | LE6: 39 | LF6: 38.78 | LG6: 38.13 | LH6: 37.86 | LI6: 37.52 | LJ6: 37.84 | LK6: ='Average prices'!DO3 -> 37.42 | LL6: =(LK6-KY6)/KY6*100 -> -12.283169 | LM6: =SUM(LJ6-LK6)/LK6*100 -> 1.1223944
A7: 3 | B7: Cake flour | C7: 2.5kg | D7: 10.29 | E7: 10.28 | F7: 10.26 | G7: 10.25 | H7: 10.37 | I7: 10.37 | J7: 10.32 | K7: 10.21 | L7: 10.1 | M7: 10.11 | N7: 9.76 | O7: 9.74 | P7: 9.88 | Q7: 10.19 | R7: 10.05 | S7: 10.36 | T7: 10.24 | U7: 10.38 | V7: 10.46 | W7: 10.47 | X7: 10.55 | Y7: 10.43 | Z7: 10.27 | AA7: 10.31 | AB7: 10.5 | AC7: 11.1 | AD7: 11.42 | AE7: 11.54 | AF7: 11.68 | AG7: 12.08 | AH7: 12.22 | AI7: 13.02 | AJ7: 12.99 | AK7: 13.02 | AL7: 13.07 | AM7: 12.55 | AN7: 13.41 | AO7: 13.03 | AP7: 12.97 | AQ7: 12.7 | AR7: 12.59 | AS7: 13.2 | AT7: 13.33 | AU7: 13.18 | AV7: 13.39 | AW7: 13.46 | AX7: 12.96 | AY7: 12.32 | AZ7: 13.07 | BA7: 12.59 | BB7: 12.79 | BC7: 12.1 | BD7: 12.97 | BE7: 12.8 | BF7: 12.53 | BG7: 12.31 | BH7: 11.99 | BI7: 11.86 | BJ7: 11.67 | BK7: 12.26 | BL7: 12.29 | BM7: 11.84 | BN7: 11.83 | BO7: 11.53 | BP7: 11.59 | BQ7: 11.9 | BR7: 11.78 | BS7: 11.65 | BT7: 11.57 | BU7: 11.71 | BV7: 11.16 | BW7: 11.68 | BX7: 11.87 | BY7: 11.88 | BZ7: 11.71 | CA7: 11.52 | CB7: 11.71 | CC7: 11.7 | CD7: 11.3 | CE7: 11.31 | CF7: 11.17 | CG7: 11.51 | CH7: 11.44 | CI7: 11.31 | CJ7: 11.99 | CK7: 12.02 | CL7: 11.86 | CM7: 11.9 | CN7: 12.41 | CO7: 12.56 | CP7: 13.06 | CQ7: 13.55 | CR7: 13.65 | CS7: 13.64 | CT7: 14.08 | CU7: 14.45 | CV7: 15.06 | CW7: 16.9 | CX7: 17.72 | CY7: 18.1 | CZ7: 19.83 | DA7: 20.85 | DB7: 21.07 | DC7: 21.21 | DD7: 21.2 | DE7: 21.26 | DF7: 20.3 | DG7: 19.9 | DH7: 19.84 | DI7: 19.64 | DJ7: 19.07 | DK7: 18.23 | DL7: 18.39 | DM7: 17.99 | DN7: 17.73 | DO7: 17.59 | DP7: 17.36 | DQ7: 17.04 | DR7: 16.63 | DS7: 16.56 | DT7: 16.57 | DU7: 16.24 | DV7: 15.78 | DW7: 15.74 | DX7: 15.83 | DY7: 15.26 | DZ7: 15.51 | EA7: 15.79 | EB7: 16.16 | EC7: 16.94 | ED7: 17.1 | EE7: 16.8 | EF7: 17.11 | EG7: 17.14 | EH7: 17.94 | EI7: 18.1 | EJ7: 19.45 | EK7: 19.28 | EL7: 18.85 | EM7: 18.24 | EN7: 18.71 | EO7: 18.56 | EP7: 18.11 | EQ7: 18.47 | ER7: 18.59 | ES7: 17.98 | ET7: 18.5 | EU7: 18.26 | EV7: 18.39 | EW7: 18.26 | EX7: 18.2 | EY7: 18.37 | EZ7: 19.53 | FA7: 20.88 | FB7: 20.82 | FC7: 20.84 | FD7: 21.43 | FE7: 20.25 | FF7: 20.49 | FG7: 20.43 | FH7: 20.31 | FI7: 20.59 | FJ7: 20.55 | FK7: 20.83 | FL7: 21.39 | FM7: 21.77 | FN7: 21.47 | FO7: 21.68 | FP7: 21.97 | FQ7: 22.2 | FR7: 22.89 | FS7: 22.63 | FT7: 23.29 | FU7: 23.11 | FV7: 23.11 | FW7: 22.95 | FX7: 22.83 | FY7: 22.4 | FZ7: 22.87 | GA7: 21.65 | GB7: 21.99 | GC7: 22.21 | GD7: 22.78 | GE7: 22.57 | GF7: 23.86 | GG7: 22.97 | GH7: 22.32 | GI7: 22.77 | GJ7: 22.31 | GK7: 22.76 | GL7: 22.59 | GM7: 22.48 | GN7: 23.6 | GO7: 24.47 | GP7: 25.92 | GQ7: 26.48 | GR7: 26.72 | GS7: 26.42 | GT7: 26.19 | GU7: 26.52 | GV7: 26.92 | GW7: 26.83 | GX7: 26.61 | GY7: 26.98 | GZ7: 26.81 | HA7: 26.77 | HB7: 26.08 | HC7: 25.8 | HD7: 25.79 | HE7: 26.32 | HF7: 26.01 | HG7: 25.37 | HH7: 25.44 | HI7: 26.26 | HJ7: 25.7 | HK7: 25.79 | HL7: 25.16 | HM7: 24.88 | HN7: 25.53 | HO7: 25.58 | HP7: 25.33 | HQ7: 25.24 | HR7: 25.45 | HS7: 24.89 | HT7: 25.55 | HU7: 25.78 | HV7: 25.93 | HW7: 26.73 | HX7: 26.58 | HY7: 27.8 | HZ7: 27.38 | IA7: 26.35 | IB7: 25.05 | IC7: 24.94 | ID7: 24.99 | IE7: 25.15 | IF7: 24.93 | IG7: 25.86 | IH7: 25.44 | II7: 25.34 | IJ7: 25.88 | IK7: 25.64 | IL7: 26.02 | IM7: 27.53 | IN7: 27.51 | IO7: 29.99 | IP7: 29.17 | IQ7: 28.48 | IR7: 29.95 | IS7: 27.94 | IT7: 28.87 | IU7: 29.37 | IV7: 29.12 | IW7: 29.17 | IX7: 30.26 | IY7: 29.19 | IZ7: 28.83 | JA7: 28.71 | JB7: 30.58 | JC7: 29.65 | JD7: 29.7 | JE7: 30.88 | JF7: 29.97 | JG7: 30.98 | JH7: 31.3 | JI7: 33.63 | JJ7: 33.95 | JK7: 34.33 | JL7: 34.97 | JM7: 36.31 | JN7: 38.15 | JO7: 39.48 | JP7: 39.68 | JQ7: 40.29 | JR7: 40.1 | JS7: 40.34 | JT7: 40.73 | JU7: 41.21 | JV7: 42.38 | JW7: 41.91 | JX7: 42.2 | JY7: 42.28 | JZ7: 42.9 | KA7: 43.02 | KB7: 42.73 | KC7: 43.32 | KD7: 43.29 | KE7: 43.24 | KF7: 43.03 | KG7: 43.23 | KH7: 43.13 | KI7: 42.69 | KJ7: 42.75 | KK7: 43.1 | KL7: 42.67 | KM7: 43.02 | KN7: 42.97 | KO7: 42.49 | KP7: 42.44 | KQ7: 41.8 | KR7: 41.93 | KS7: 42.27 | KT7: 42.2 | KU7: 42.19 | KV7: 42.39 | KW7: 43.02 | KX7: 42.57 | KY7: 42.91 | KZ7: 42.95 | LA7: 42.59 | LB7: 42.68 | LC7: 42.45 | LD7: 42.71 | LE7: 42.26 | LF7: 42.45 | LG7: 42.62 | LH7: 42.34 | LI7: 42.8 | LJ7: 42.76 | LK7: ='Average prices'!DO7 -> 42.98 | LL7: =(LK7-KY7)/KY7*100 -> 0.16313214 | LM7: =SUM(LJ7-LK7)/LK7*100 -> -0.51186598
A8: 4 | B8: Bread flour | C8: 2.5kg | D8: 10.38 | E8: 10.41 | F8: 10.46 | G8: 10.37 | H8: 10.4 | I8: 10.37 | J8: 10.38 | K8: 10.22 | L8: 10.13 | M8: 10.1 | N8: 9.92 | O8: 9.94 | P8: 9.87 | Q8: 9.8 | R8: 10.02 | S8: 10.21 | T8: 10.23 | U8: 10.33 | V8: 10.24 | W8: 10.33 | X8: 10.33 | Y8: 10.27 | Z8: 10.26 | AA8: 10.28 | AB8: 10.36 | AC8: 10.93 | AD8: 11.39 | AE8: 11.49 | AF8: 11.92 | AG8: 12.29 | AH8: 12.44 | AI8: 13.26 | AJ8: 13.12 | AK8: 13.18 | AL8: 13.17 | AM8: 13.2 | AN8: 13.24 | AO8: 13.08 | AP8: 12.91 | AQ8: 13.04 | AR8: 13.08 | AS8: 13.22 | AT8: 13.82 | AU8: 13.49 | AV8: 13.54 | AW8: 13.51 | AX8: 13.28 | AY8: 12.86 | AZ8: 12.75 | BA8: 12.67 | BB8: 12.62 | BC8: 12.67 | BD8: 12.68 | BE8: 12.54 | BF8: 12.16 | BG8: 12.46 | BH8: 12.16 | BI8: 12.17 | BJ8: 12.19 | BK8: 12.15 | BL8: 12.15 | BM8: 12.16 | BN8: 12.06 | BO8: 12.06 | BP8: 11.89 | BQ8: 11.86 | BR8: 11.87 | BS8: 11.84 | BT8: 11.81 | BU8: 11.78 | BV8: 11.85 | BW8: 11.97 | BX8: 11.93 | BY8: 11.92 | BZ8: 11.87 | CA8: 11.77 | CB8: 11.67 | CC8: 11.76 | CD8: 11.69 | CE8: 11.59 | CF8: 11.74 | CG8: 11.79 | CH8: 11.77 | CI8: 11.62 | CJ8: 12.04 | CK8: 12.25 | CL8: 12.39 | CM8: 12.44 | CN8: 12.77 | CO8: 13.18 | CP8: 13.7 | CQ8: 14.31 | CR8: 14.67 | CS8: 14.54 | CT8: 14.6 | CU8: 14.89 | CV8: 14.98 | CW8: 16.55 | CX8: 18.05 | CY8: 18.94 | CZ8: 21.27 | DA8: 23.09 | DB8: 22.96 | DC8: 23.24 | DD8: 23.34 | DE8: 23.51 | DF8: 22.89 | DG8: 22.85 | DH8: 21.47 | DI8: 20.08 | DJ8: 19.72 | DK8: 18.89 | DL8: 18.56 | DM8: 18.32 | DN8: 17.86 | DO8: 17.61 | DP8: 17.49 | DQ8: 17.52 | DR8: 17.41 | DS8: 17.39 | DT8: 17.17 | DU8: 17.39 | DV8: 17 | DW8: 16.78 | DX8: 16.69 | DY8: 16.22 | DZ8: 15.9 | EA8: 16.46 | EB8: 16.72 | EC8: 17.18 | ED8: 18.02 | EE8: 18.05 | EF8: 18.23 | EG8: 18.3 | EH8: 18.47 | EI8: 18.99 | EJ8: 20.06 | EK8: 20.23 | EL8: 20.28 | EM8: 20.18 | EN8: 20.04 | EO8: 19.88 | EP8: 19.69 | EQ8: 19.57 | ER8: 19.93 | ES8: 19.7 | ET8: 19.81 | EU8: 19.71 | EV8: 19.43 | EW8: 19.47 | EX8: 19.45 | EY8: 19.5 | EZ8: 20.77 | FA8: 21.25 | FB8: 21.72 | FC8: 21.59 | FD8: 21.84 | FE8: 21.45 | FF8: 21.58 | FG8: 21.71 | FH8: 21.96 | FI8: 22.02 | FJ8: 21.25 | FK8: 21.29 | FL8: 21.15 | FM8: 21.54 | FN8: 21.49 | FO8: 21.3 | FP8: 21.49 | FQ8: 22.01 | FR8: 22.78 | FS8: 22.73 | FT8: 23.36 | FU8: 23.37 | FV8: 23.41 | FW8: 23.67 | FX8: 23.53 | FY8: 23.29 | FZ8: 22.84 | GA8: 23.11 | GB8: 22.81 | GC8: 23.24 | GD8: 23.49 | GE8: 23.48 | GF8: 23.55 | GG8: 23.72 | GH8: 23.68 | GI8: 23.68 | GJ8: 23.14 | GK8: 23.78 | GL8: 24.23 | GM8: 24.45 | GN8: 24.7 | GO8: 25.92 | GP8: 26.75 | GQ8: 27.4 | GR8: 27.97 | GS8: 27.81 | GT8: 28.16 | GU8: 28.24 | GV8: 28.34 | GW8: 28.89 | GX8: 28.87 | GY8: 30.08 | GZ8: 31.41 | HA8: 31.65 | HB8: 30.8 | HC8: 30.24 | HD8: 30.76 | HE8: 30.86 | HF8: 29.96 | HG8: 29.7 | HH8: 29.08 | HI8: 29.23 | HJ8: 29.53 | HK8: 29.08 | HL8: 29.6 | HM8: 29.59 | HN8: 29.94 | HO8: 30.2 | HP8: 29.5 | HQ8: 30.23 | HR8: 30.03 | HS8: 30.16 | HT8: 29.71 | HU8: 29.74 | HV8: 29.37 | HW8: 29.45 | HX8: 29.56 | HY8: 30.33 | HZ8: 29.91 | IA8: 29.08 | IB8: 27.92 | IC8: 28 | ID8: 27.19 | IE8: 28.01 | IF8: 28.51 | IG8: 28.64 | IH8: 28.62 | II8: 28.53 | IJ8: 28.67 | IK8: 28.49 | IL8: 28.67 | IM8: 27.03 | IN8: 28.61 | IO8: 29.39 | IP8: 30.16 | IQ8: 36 | IR8: 35.73 | IS8: 34.49 | IT8: 34.17 | IU8: 33.02 | IV8: 36.28 | IW8: 36.83 | IX8: 34.38 | IY8: 34.34 | IZ8: 33.64 | JA8: 34.06 | JB8: 36.76 | JC8: 35.53 | JD8: 34.65 | JE8: 34.37 | JF8: 35.72 | JG8: 35.13 | JH8: 35.39 | JI8: 37.75 | JJ8: 38.97 | JK8: 38.57 | JL8: 40.26 | JM8: 39.36 | JN8: 41.66 | JO8: 44.45 | JP8: 42.21 | JQ8: 43.59 | JR8: 44.29 | JS8: 44.41 | JT8: 44.54 | JU8: 45.97 | JV8: 45.86 | JW8: 46.22 | JX8: 45.15 | JY8: 46.9 | JZ8: 47.13 | KA8: 47.1 | KB8: 46.61 | KC8: 46.99 | KD8: 47.25 | KE8: 47.06 | KF8: 47.12 | KG8: 47.23 | KH8: 47.11 | KI8: 46.53 | KJ8: 47.24 | KK8: 47.21 | KL8: 47.26 | KM8: 47.3 | KN8: 47.14 | KO8: 46.6 | KP8: 46.77 | KQ8: 46.24 | KR8: 46.32 | KS8: 46.61 | KT8: 46.88 | KU8: 46.65 | KV8: 46.43 | KW8: 46.98 | KX8: 46.67 | KY8: 47.24 | KZ8: 48.03 | LA8: 48.43 | LB8: 47.83 | LC8: 47.19 | LD8: 46.65 | LE8: 46.68 | LF8: 46.84 | LG8: 46.91 | LH8: 46.84 | LI8: 47.07 | LJ8: 47.43 | LK8: ='Average prices'!DO9 -> 47.32 | LL8: =(LK8-KY8)/KY8*100 -> 0.16934801 | LM8: =SUM(LJ8-LK8)/LK8*100 -> 0.23245985
A9: 5 | B9: Sorghum Meal | C9: 2kg | KR9: 55.12 | KS9: 55.23 | KT9: 54.69 | KU9: 54.4 | KV9: 54.29 | KW9: 54.54 | KX9: 54.67 | KY9: 55.78 | KZ9: 56.37 | LA9: 57.19 | LB9: 57.5 | LC9: 57.14 | LD9: 56.94 | LE9: 57.2 | LF9: 57.26 | LG9: 57.35 | LH9: 57.04 | LI9: 57.89 | LJ9: 58.56 | LK9: ='Average prices'!DO11 -> 58.97 | LL9: =(LK9-KY9)/KY9*100 -> 5.7188957 | LM9: =SUM(LJ9-LK9)/LK9*100 -> -0.69526878
A10: 6 | B10: Maize meal | C10: 2.5kg | JH10: 26.65 | JI10: 28.11 | JJ10: 28.69 | JK10: 28.02 | JL10: 30.15 | JM10: 33.61 | JN10: 32.31 | JO10: 33.05 | JP10: 32.71 | JQ10: 33.82 | JR10: 34.08 | JS10: 35.19 | JT10: 36.6 | JU10: 37.63 | JV10: 37.86 | JW10: 37.98 | JX10: 38.36 | JY10: 37.57 | JZ10: 37.18 | KA10: 36.73 | KB10: 36.81 | KC10: 36.86 | KD10: 37.04 | KE10: 36.64 | KF10: 36.7 | KG10: 37.12 | KH10: 36.8 | KI10: 36.76 | KJ10: 37.66 | KK10: 38.34 | KL10: 39.11 | KM10: 39.09 | KN10: 38.93 | KO10: 38.45 | KP10: 38.04 | KQ10: 38.48 | KR10: 40.39 | KS10: 41.34 | KT10: 42.11 | KU10: 42.5 | KV10: 43.04 | KW10: 43.57 | KX10: 43.26 | KY10: 42.68 | KZ10: 42.73 | LA10: 42.39 | LB10: 42.16 | LC10: 42.35 | LD10: 41.9 | LE10: 41.53 | LF10: 40.74 | LG10: 40.63 | LH10: 40.56 | LI10: 39.79 | LJ10: 39.06 | LK10: ='Average prices'!DO12 -> 38.53 | LL10: =(LK10-KY10)/KY10*100 -> -9.7235239 | LM10: =SUM(LJ10-LK10)/LK10*100 -> 1.3755515
A11: 7 | B11: Maize meal | C11: 5kg | JH11: 52.32 | JI11: 54.23 | JJ11: 53.67 | JK11: 54.17 | JL11: 57.64 | JM11: 58.42 | JN11: 59.43 | JO11: 62.39 | JP11: 63.12 | JQ11: 62.22 | JR11: 65.01 | JS11: 65.58 | JT11: 66.2 | JU11: 67.27 | JV11: 68.9 | JW11: 69.15 | JX11: 67.82 | JY11: 66.55 | JZ11: 67.22 | KA11: 68.34 | KB11: 69.03 | KC11: 66.59 | KD11: 68.02 | KE11: 66.6 | KF11: 66.88 | KG11: 68.52 | KH11: 67.29 | KI11: 66.61 | KJ11: 66.53 | KK11: 71.21 | KL11: 72.42 | KM11: 71.96 | KN11: 71.4 | KO11: 70.47 | KP11: 71.08 | KQ11: 71.04 | KR11: 73.11 | KS11: 74.91 | KT11: 75.47 | KU11: 77.55 | KV11: 76.27 | KW11: 77.13 | KX11: 74.32 | KY11: 74.92 | KZ11: 75.46 | LA11: 75.01 | LB11: 73.16 | LC11: 73.37 | LD11: 70.97 | LE11: 72.59 | LF11: 69.52 | LG11: 68.88 | LH11: 68.51 | LI11: 67.31 | LJ11: 65.09 | LK11: ='Average prices'!DO13 -> 65.26 | LL11: =(LK11-KY11)/KY11*100 -> -12.893753 | LM11: =SUM(LJ11-LK11)/LK11*100 -> -0.26049648
A12: 8 | B12: Samp | C12: 2.5kg | KR12: 47.52 | KS12: 49.04 | KT12: 49.68 | KU12: 50.14 | KV12: 50.43 | KW12: 51.56 | KX12: 51.56 | KY12: 51.89 | KZ12: 52.33 | LA12: 52.59 | LB12: 52.63 | LC12: 52.26 | LD12: 51.75 | LE12: 52.01 | LF12: 50.9 | LG12: 49.53 | LH12: 49.69 | LI12: 50.07 | LJ12: 49.84 | LK12: ='Average prices'!DO15 -> 49.96 | LL12: =(LK12-KY12)/KY12*100 -> -3.7194064 | LM12: =SUM(LJ12-LK12)/LK12*100 -> -0.24019215
A13: 9 | B13: White Bread | C13: 600gr | KR13: 12.28 | KS13: 12.25 | KT13: 12.44 | KU13: 12.44 | KV13: 12.52 | KW13: 12.37 | KX13: 12.02 | KY13: 11.99 | KZ13: 12.07 | LA13: 12.07 | LB13: 12.22 | LC13: 12.22 | LD13: 12.12 | LE13: 12.02 | LF13: 12.14 | LG13: 12.34 | LH13: 12.47 | LI13: 12.67 | LJ13: 12.52 | LK13: ='Average prices'!DO16 -> 12.51 | LL13: =(LK13-KY13)/KY13*100 -> 4.3369475 | LM13: =SUM(LJ13-LK13)/LK13*100 -> 0.079936051
A14: 10 | B14: White Bread | C14: 700gr | D14: 3.25 | E14: 3.27 | F14: 3.27 | G14: 3.27 | H14: 3.23 | I14: 3.26 | J14: 3.29 | K14: 3.32 | L14: 3.29 | M14: 3.35 | N14: 3.43 | O14: 3.45 | P14: 3.45 | Q14: 3.44 | R14: 3.47 | S14: 3.38 | T14: 3.47 | U14: 3.46 | V14: 3.47 | W14: 3.48 | X14: 3.46 | Y14: 3.61 | Z14: 3.72 | AA14: 3.74 | AB14: 3.63 | AC14: 3.66 | AD14: 3.92 | AE14: 3.96 | AF14: 3.87 | AG14: 3.95 | AH14: 3.95 | AI14: 4.09 | AJ14: 4.18 | AK14: 4.2 | AL14: 4.19 | AM14: 4.21 | AN14: 4.17 | AO14: 4.25 | AP14: 4.26 | AQ14: 4.23 | AR14: 4.25 | AS14: 4.26 | AT14: 4.31 | AU14: 4.44 | AV14: 4.46 | AW14: 4.51 | AX14: 4.5 | AY14: 4.5 | AZ14: 4.5 | BA14: 4.52 | BB14: 4.54 | BC14: 4.45 | BD14: 4.57 | BE14: 4.57 | BF14: 4.53 | BG14: 4.54 | BH14: 4.59 | BI14: 4.6 | BJ14: 4.7 | BK14: 4.7 | BL14: 4.69 | BM14: 4.69 | BN14: 4.69 | BO14: 4.61 | BP14: 4.61 | BQ14: 4.72 | BR14: 4.62 | BS14: 4.68 | BT14: 4.73 | BU14: 4.58 | BV14: 4.72 | BW14: 4.62 | BX14: 4.75 | BY14: 4.81 | BZ14: 4.85 | CA14: 4.88 | CB14: 4.8 | CC14: 4.79 | CD14: 4.81 | CE14: 4.94 | CF14: 4.86 | CG14: 4.94 | CH14: 4.93 | CI14: 4.89 | CJ14: 4.98 | CK14: 5.17 | CL14: 5.26 | CM14: 5.31 | CN14: 5.26 | CO14: 5.3 | CP14: 5.43 | CQ14: 5.57 | CR14: 5.7 | CS14: 5.74 | CT14: 5.75 | CU14: 5.85 | CV14: 5.89 | CW14: 6.26 | CX14: 6.42 | CY14: 6.71 | CZ14: 7.22 | DA14: 7.52 | DB14: 7.58 | DC14: 7.63 | DD14: 7.73 | DE14: 7.8 | DF14: 7.82 | DG14: 7.86 | DH14: 7.91 | DI14: 7.92 | DJ14: 7.9 | DK14: 7.87 | DL14: 7.97 | DM14: 7.91 | DN14: 7.87 | DO14: 7.84 | DP14: 7.83 | DQ14: 7.88 | DR14: 7.83 | DS14: 7.84 | DT14: 7.83 | DU14: 7.85 | DV14: 7.81 | DW14: 7.72 | DX14: 7.77 | DY14: 7.78 | DZ14: 7.8 | EA14: 7.87 | EB14: 7.92 | EC14: 8 | ED14: 8.31 | EE14: 8.31 | EF14: 8.31 | EG14: 8.31 | EH14: 8.22 | EI14: 8.23 | EJ14: 8.71 | EK14: 8.79 | EL14: 8.9 | EM14: 8.91 | EN14: 9.03 | EO14: 9.03 | EP14: 9.15 | EQ14: 9.18 | ER14: 9.17 | ES14: 9.31 | ET14: 9.21 | EU14: 9.19 | EV14: 9.23 | EW14: 9.23 | EX14: 9.34 | EY14: 9.31 | EZ14: 9.47 | FA14: 9.88 | FB14: 10.11 | FC14: 10.09 | FD14: 10.09 | FE14: 10.09 | FF14: 9.96 | FG14: 10.11 | FH14: 10.19 | FI14: 10.25 | FJ14: 10.3 | FK14: 10.37 | FL14: 10.45 | FM14: 10.5 | FN14: 10.48 | FO14: 10.51 | FP14: 10.49 | FQ14: 10.75 | FR14: 10.75 | FS14: 10.93 | FT14: 11.08 | FU14: 11.29 | FV14: 11.18 | FW14: 11.24 | FX14: 11.26 | FY14: 11.53 | FZ14: 11.43 | GA14: 11.43 | GB14: 11.42 | GC14: 11.56 | GD14: 11.62 | GE14: 11.61 | GF14: 11.8 | GG14: 11.79 | GH14: 11.89 | GI14: 11.94 | GJ14: 11.98 | GK14: 11.9 | GL14: 11.88 | GM14: 11.9 | GN14: 12.03 | GO14: 12.39 | GP14: 12.51 | GQ14: 12.66 | GR14: 12.82 | GS14: 12.85 | GT14: 13.01 | GU14: 13.34 | GV14: 13.34 | GW14: 13.52 | GX14: 13.61 | GY14: 13.6 | GZ14: 13.41 | HA14: 13.38 | HB14: 13.43 | HC14: 13.49 | HD14: 13.37 | HE14: 13.36 | HF14: 13.41 | HG14: 13.22 | HH14: 13.03 | HI14: 12.98 | HJ14: 12.92 | HK14: 12.91 | HL14: 12.92 | HM14: 13.08 | HN14: 12.95 | HO14: 13.05 | HP14: 12.92 | HQ14: 12.96 | HR14: 12.95 | HS14: 12.98 | HT14: 13.14 | HU14: 13.14 | HV14: 13.17 | HW14: 13.29 | HX14: 13.45 | HY14: 13.7 | HZ14: 13.86 | IA14: 13.85 | IB14: 13.96 | IC14: 13.9 | ID14: 13.83 | IE14: 13.75 | IF14: 13.73 | IG14: 13.71 | IH14: 13.62 | II14: 13.51 | IJ14: 13.51 | IK14: 13.63 | IL14: 13.66 | IM14: 14.43 | IN14: 14.7 | IO14: 15.19 | IP14: 15.05 | IQ14: 15.38 | IR14: 15.03 | IS14: 15.1 | IT14: 15.42 | IU14: 15.21 | IV14: 15.63 | IW14: 15.81 | IX14: 15.65 | IY14: 15.11 | IZ14: 15.33 | JA14: 15.24 | JB14: 15.57 | JC14: 15.3 | JD14: 15.27 | JE14: 15.39 | JF14: 15.68 | JG14: 15.46 | JH14: 15.47 | JI14: 16.16 | JJ14: 16.05 | JK14: 16.24 | JL14: 17.27 | JM14: 17.41 | JN14: 17.84 | JO14: 18.38 | JP14: 18.67 | JQ14: 18.54 | JR14: 18.68 | JS14: 18.62 | JT14: 18.66 | JU14: 18.79 | JV14: 18.97 | JW14: 19.07 | JX14: 18.99 | JY14: 18.73 | JZ14: 18.77 | KA14: 18.29 | KB14: 18.39 | KC14: 18.44 | KD14: 18.51 | KE14: 18.59 | KF14: 18.53 | KG14: 18.58 | KH14: 18.43 | KI14: 18.43 | KJ14: 18.54 | KK14: 18.63 | KL14: 18.68 | KM14: 18.97 | KN14: 18.88 | KO14: 19.06 | KP14: 19.04 | KQ14: 19.02 | KR14: 18.82 | KS14: 18.95 | KT14: 18.92 | KU14: 18.86 | KV14: 18.93 | KW14: 18.94 | KX14: 18.94 | KY14: 18.83 | KZ14: 18.93 | LA14: 19.14 | LB14: 19.14 | LC14: 19.16 | LD14: 19.21 | LE14: 19.15 | LF14: 19.26 | LG14: 19.38 | LH14: 19.61 | LI14: 19.76 | LJ14: 19.61 | LK14: ='Average prices'!DO17 -> 19.62 | LL14: =(LK14-KY14)/KY14*100 -> 4.1954328 | LM14: =SUM(LJ14-LK14)/LK14*100 -> -0.0509684
A15: 11 | B15: Brown Bread | C15: 600gr | KR15: 11.1 | KS15: 11.1 | KT15: 11.1 | KU15: 11.14 | KV15: 11.29 | KW15: 11.37 | KX15: 11.07 | KY15: 11.71 | KZ15: 11.76 | LA15: 11.76 | LB15: 11.27 | LC15: 11.27 | LD15: 11.63 | LE15: 11.27 | LF15: 11.63 | LG15: 11.58 | LH15: 11.62 | LI15: 11.62 | LJ15: 11.57 | LK15: ='Average prices'!DO18 -> 11.61 | LL15: =(LK15-KY15)/KY15*100 -> -0.85397096 | LM15: =SUM(LJ15-LK15)/LK15*100 -> -0.34453058
A16: 12 | B16: Brown Bread | C16: 700gr | D16: 2.77 | E16: 2.78 | F16: 2.78 | G16: 2.77 | H16: 2.77 | I16: 2.77 | J16: 2.79 | K16: 2.82 | L16: 2.77 | M16: 2.91 | N16: 2.92 | O16: 2.98 | P16: 2.97 | Q16: 2.98 | R16: 3.03 | S16: 3.02 | T16: 3.04 | U16: 2.94 | V16: 2.98 | W16: 3.02 | X16: 2.94 | Y16: 3.17 | Z16: 3.23 | AA16: 3.26 | AB16: 3.24 | AC16: 3.26 | AD16: 3.44 | AE16: 3.31 | AF16: 3.41 | AG16: 3.62 | AH16: 3.61 | AI16: 3.66 | AJ16: 3.68 | AK16: 3.84 | AL16: 3.7 | AM16: 3.81 | AN16: 3.73 | AO16: 3.78 | AP16: 3.74 | AQ16: 3.76 | AR16: 3.76 | AS16: 3.65 | AT16: 3.63 | AU16: 3.96 | AV16: 3.9 | AW16: 3.78 | AX16: 3.94 | AY16: 3.84 | AZ16: 3.81 | BA16: 3.92 | BB16: 3.93 | BC16: 3.93 | BD16: 3.97 | BE16: 3.97 | BF16: 3.93 | BG16: 3.93 | BH16: 3.93 | BI16: 3.93 | BJ16: 4.05 | BK16: 4.05 | BL16: 4.05 | BM16: 4.1 | BN16: 4.09 | BO16: 4.12 | BP16: 4.06 | BQ16: 3.95 | BR16: 4.07 | BS16: 4.04 | BT16: 4.06 | BU16: 4.05 | BV16: 4.06 | BW16: 4.04 | BX16: 4.38 | BY16: 4.43 | BZ16: 4.45 | CA16: 4.47 | CB16: 4.39 | CC16: 4.31 | CD16: 4.42 | CE16: 4.41 | CF16: 4.4 | CG16: 4.47 | CH16: 4.5 | CI16: 4.42 | CJ16: 4.59 | CK16: 4.74 | CL16: 4.75 | CM16: 4.82 | CN16: 4.77 | CO16: 4.85 | CP16: 4.96 | CQ16: 5.01 | CR16: 5.14 | CS16: 5.19 | CT16: 5.28 | CU16: 5.27 | CV16: 5.35 | CW16: 5.64 | CX16: 5.75 | CY16: 5.86 | CZ16: 6.43 | DA16: 6.75 | DB16: 6.86 | DC16: 6.87 | DD16: 6.99 | DE16: 7.02 | DF16: 7.02 | DG16: 7.07 | DH16: 7.18 | DI16: 7.29 | DJ16: 7.21 | DK16: 7.17 | DL16: 7.12 | DM16: 7.16 | DN16: 7.11 | DO16: 7.05 | DP16: 7.1 | DQ16: 7.04 | DR16: 7.01 | DS16: 6.98 | DT16: 6.97 | DU16: 7.09 | DV16: 6.99 | DW16: 7 | DX16: 6.98 | DY16: 6.97 | DZ16: 7 | EA16: 7.02 | EB16: 7.08 | EC16: 7.17 | ED16: 7.41 | EE16: 7.3 | EF16: 7.3 | EG16: 7.34 | EH16: 7.3 | EI16: 7.3 | EJ16: 7.74 | EK16: 7.85 | EL16: 7.99 | EM16: 8 | EN16: 8.07 | EO16: 8.08 | EP16: 8.15 | EQ16: 8.23 | ER16: 8.24 | ES16: 8.38 | ET16: 8.32 | EU16: 8.23 | EV16: 8.24 | EW16: 8.27 | EX16: 8.25 | EY16: 8.23 | EZ16: 8.38 | FA16: 8.8 | FB16: 8.97 | FC16: 9.03 | FD16: 9.01 | FE16: 8.95 | FF16: 8.93 | FG16: 9.04 | FH16: 9.15 | FI16: 9.16 | FJ16: 9.27 | FK16: 9.25 | FL16: 9.39 | FM16: 9.39 | FN16: 9.38 | FO16: 9.41 | FP16: 9.47 | FQ16: 9.54 | FR16: 9.59 | FS16: 9.77 | FT16: 9.89 | FU16: 10.06 | FV16: 10.04 | FW16: 10.06 | FX16: 10.08 | FY16: 10.15 | FZ16: 10.25 | GA16: 10.24 | GB16: 10.29 | GC16: 10.33 | GD16: 10.51 | GE16: 10.51 | GF16: 10.62 | GG16: 10.62 | GH16: 10.64 | GI16: 10.68 | GJ16: 10.66 | GK16: 10.77 | GL16: 10.8 | GM16: 10.82 | GN16: 10.88 | GO16: 11.22 | GP16: 11.33 | GQ16: 11.5 | GR16: 11.68 | GS16: 11.66 | GT16: 11.86 | GU16: 12.11 | GV16: 12.27 | GW16: 12.26 | GX16: 12.24 | GY16: 12.28 | GZ16: 12.31 | HA16: 12.23 | HB16: 12.15 | HC16: 12.2 | HD16: 12.14 | HE16: 12.24 | HF16: 12.18 | HG16: 12.11 | HH16: 11.85 | HI16: 11.98 | HJ16: 11.87 | HK16: 11.99 | HL16: 12.04 | HM16: 12.14 | HN16: 11.53 | HO16: 11.47 | HP16: 11.39 | HQ16: 11.53 | HR16: 11.34 | HS16: 11.58 | HT16: 11.66 | HU16: 11.69 | HV16: 11.8 | HW16: 11.82 | HX16: 12.17 | HY16: 12.48 | HZ16: 12.57 | IA16: 12.56 | IB16: 12.63 | IC16: 12.65 | ID16: 12.62 | IE16: 12.48 | IF16: 12.51 | IG16: 12.53 | IH16: 12.48 | II16: 12.42 | IJ16: 12.42 | IK16: 12.47 | IL16: 12.5 | IM16: 13.25 | IN16: 13.02 | IO16: 13.32 | IP16: 13.4 | IQ16: 13.6 | IR16: 13.84 | IS16: 13.88 | IT16: 14.06 | IU16: 14.14 | IV16: 14.11 | IW16: 14.2 | IX16: 13.83 | IY16: 14.16 | IZ16: 14.03 | JA16: 13.72 | JB16: 13.52 | JC16: 12.63 | JD16: 13.23 | JE16: 13.59 | JF16: 13.99 | JG16: 13.97 | JH16: 13.99 | JI16: 14.64 | JJ16: 14.64 | JK16: 14.93 | JL16: 15.37 | JM16: 15.9 | JN16: 15.93 | JO16: 16.32 | JP16: 16.69 | JQ16: 16.75 | JR16: 16.74 | JS16: 16.61 | JT16: 16.83 | JU16: 16.84 | JV16: 17.16 | JW16: 17.29 | JX16: 17.19 | JY16: 17.19 | JZ16: 17.17 | KA16: 16.96 | KB16: 16.96 | KC16: 17.06 | KD16: 17.12 | KE16: 17.12 | KF16: 17.16 | KG16: 17.06 | KH16: 17.19 | KI16: 17.14 | KJ16: 17.21 | KK16: 17.31 | KL16: 17.28 | KM16: 17.52 | KN16: 17.64 | KO16: 17.63 | KP16: 17.55 | KQ16: 17.39 | KR16: 17.34 | KS16: 17.52 | KT16: 17.6 | KU16: 17.48 | KV16: 17.54 | KW16: 17.42 | KX16: 17.4 | KY16: 17.43 | KZ16: 17.46 | LA16: 17.54 | LB16: 17.57 | LC16: 17.53 | LD16: 17.58 | LE16: 17.54 | LF16: 17.49 | LG16: 17.57 | LH16: 17.61 | LI16: 17.74 | LJ16: 17.72 | LK16: ='Average prices'!DO19 -> 17.56 | LL16: =(LK16-KY16)/KY16*100 -> 0.7458405 | LM16: =SUM(LJ16-LK16)/LK16*100 -> 0.91116173
A17: 13 | B17: Bread rolls | C17: For_6 | GZ17: 13.09 | HA17: 11.9 | HB17: 11.94 | HC17: 11.58 | HD17: 11.73 | HE17: 11.34 | HF17: 11.52 | HG17: 11.13 | HH17: 10.95 | HI17: 11.23 | HJ17: 11.48 | HK17: 11.53 | HL17: 11.33 | HM17: 11.22 | HN17: 11.34 | HO17: 11.49 | HP17: 11.58 | HQ17: 11.59 | HR17: 11.74 | HS17: 11.72 | HT17: 11.77 | HU17: 11.75 | HV17: 11.84 | HW17: 12.05 | HX17: 11.63 | HY17: 11.89 | HZ17: 12.09 | IA17: 12.1 | IB17: 12.08 | IC17: 12.19 | ID17: 12.5 | IE17: 12.51 | IF17: 12.48 | IG17: 12.9 | IH17: 12.83 | II17: 12.65 | IJ17: 12.42 | IK17: 12.56 | IL17: 12.91 | IM17: 17.5 | IN17: 17.49 | IO17: 17.99 | IP17: 17.28 | IQ17: 16.02 | IR17: 15.69 | IS17: 15.86 | IT17: 15.98 | IU17: 14 | IV17: 17.3 | IW17: 17.51 | IX17: 15.78 | IY17: 15.39 | IZ17: 14.05 | JA17: 13.98 | JB17: 14.65 | JC17: 14.58 | JD17: 13.03 | JE17: 14.55 | JF17: 13.72 | JG17: 14.69 | JH17: 15.87 | JI17: 14.68 | JJ17: 14.87 | JK17: 15.57 | JL17: 16.79 | JM17: 16.29 | JN17: 16.43 | JO17: 17.45 | JP17: 16.82 | JQ17: 17.31 | JR17: 18.42 | JS17: 18.52 | JT17: 17.57 | JU17: 17.32 | JV17: 17.88 | JW17: 18.41 | JX17: 18.43 | JY17: 19.1 | JZ17: 19.94 | KA17: 18 | KB17: 18.06 | KC17: 18.45 | KD17: 18.19 | KE17: 18.4 | KF17: 18.66 | KG17: 19.04 | KH17: 18.92 | KI17: 18.94 | KJ17: 18.76 | KK17: 18.64 | KL17: 18.97 | KM17: 19.01 | KN17: 19 | KO17: 18.74 | KP17: 19.45 | KQ17: 19.26 | KR17: 19.04 | KS17: 19.27 | KT17: 19.35 | KU17: 19.46 | KV17: 19.58 | KW17: 19.49 | KX17: 18.93 | KY17: 19.82 | KZ17: 19.66 | LA17: 20.55 | LB17: 20.57 | LC17: 20.59 | LD17: 20.78 | LE17: 20.79 | LF17: 21.38 | LG17: 21.46 | LH17: 20.95 | LI17: 20.37 | LJ17: 20.58 | LK17: ='Average prices'!DO20 -> 20.73 | LL17: =(LK17-KY17)/KY17*100 -> 4.5913219 | LM17: =SUM(LJ17-LK17)/LK17*100 -> -0.723589
A18: 14 | B18: Rusks | C18: 500gr | GZ18: 33.48 | HA18: 33.88 | HB18: 33.71 | HC18: 34.05 | HD18: 32.94 | HE18: 31.37 | HF18: 31.12 | HG18: 31.19 | HH18: 30.49 | HI18: 33.18 | HJ18: 33.19 | HK18: 33.96 | HL18: 34.46 | HM18: 34.28 | HN18: 34.64 | HO18: 34.67 | HP18: 33.3 | HQ18: 32.83 | HR18: 32.79 | HS18: 32.8 | HT18: 33.49 | HU18: 35.13 | HV18: 35.89 | HW18: 36.54 | HX18: 36.62 | HY18: 36.12 | HZ18: 36.2 | IA18: 36.42 | IB18: 35.15 | IC18: 36.01 | ID18: 35.58 | IE18: 36.34 | IF18: 36.7 | IG18: 36.54 | IH18: 36.98 | II18: 37.39 | IJ18: 38.41 | IK18: 38.08 | IL18: 38.46 | IM18: 39.64 | IN18: 39.4 | IO18: 35.85 | IP18: 37.73 | IQ18: 38.6 | IR18: 39.3 | IS18: 40.72 | IT18: 41.52 | IU18: 41.52 | IV18: 40.94 | IW18: 41.19 | IX18: 41.13 | IY18: 41.01 | IZ18: 43.32 | JA18: 44.08 | JB18: 43.56 | JC18: 42.67 | JD18: 42.91 | JE18: 44.69 | JF18: 40.64 | JG18: 41.71 | JH18: 42.89 | JI18: 43.89 | JJ18: 43.22 | JK18: 43.69 | JL18: 47.46 | JM18: 48.97 | JN18: 55.31 | JO18: 53.4 | JP18: 52.06 | JQ18: 52.35 | JR18: 49.46 | JS18: 49.52 | JT18: 49.71 | JU18: 52.82 | JV18: 53.13 | JW18: 51.69 | JX18: 55.65 | JY18: 51.86 | JZ18: 51.71 | KA18: 48.1 | KB18: 49 | KC18: 49.72 | KD18: 49.72 | KE18: 49.98 | KF18: 50.17 | KG18: 50.33 | KH18: 50.51 | KI18: 49.8 | KJ18: 49.62 | KK18: 49.96 | KL18: 50.35 | KM18: 51.61 | KN18: 52.46 | KO18: 52.89 | KP18: 53.27 | KQ18: 54.19 | KR18: 54.14 | KS18: 54.18 | KT18: 55.03 | KU18: 55.67 | KV18: 55.02 | KW18: 55.75 | KX18: 54.67 | KY18: 55.32 | KZ18: 55.52 | LA18: 55.97 | LB18: 56.42 | LC18: 56.94 | LD18: 61.68 | LE18: 56.59 | LF18: 57.32 | LG18: 57.49 | LH18: 56.79 | LI18: 56.48 | LJ18: 56.64 | LK18: ='Average prices'!DO23 -> 56.9 | LL18: =(LK18-KY18)/KY18*100 -> 2.8561099 | LM18: =SUM(LJ18-LK18)/LK18*100 -> -0.456942
A19: 15 | B19: Hot cereals (porridge) incl instant porridge | C19: 1kg | GZ19: 19.76 | HA19: 19.56 | HB19: 19.75 | HC19: 19.67 | HD19: 19.61 | HE19: 19.63 | HF19: 19.24 | HG19: 19.38 | HH19: 19.51 | HI19: 19.22 | HJ19: 19.42 | HK19: 19.47 | HL19: 19.43 | HM19: 19.37 | HN19: 19.43 | HO19: 19.3 | HP19: 19.33 | HQ19: 19.21 | HR19: 19.26 | HS19: 19.06 | HT19: 19.07 | HU19: 19.32 | HV19: 19.54 | HW19: 20.02 | HX19: 20.39 | HY19: 20.55 | HZ19: 20.84 | IA19: 20.91 | IB19: 21.55 | IC19: 21.58 | ID19: 22.34 | IE19: 22.4 | IF19: 22.85 | IG19: 22.98 | IH19: 23.16 | II19: 23.31 | IJ19: 23.05 | IK19: 23.7 | IL19: 23.73 | IM19: 24.58 | IN19: 21.43 | IO19: 25.24 | IP19: 25.55 | IQ19: 25.72 | IR19: 25.53 | IS19: 25.06 | IT19: 24.71 | IU19: 25.57 | IV19: 26.04 | IW19: 25.6 | IX19: 25.98 | IY19: 27.14 | IZ19: 26.08 | JA19: 27.14 | JB19: 28.58 | JC19: 28.67 | JD19: 28.24 | JE19: 26.97 | JF19: 27.05 | JG19: 26.2 | JH19: 26.36 | JI19: 26.72 | JJ19: 26.5 | JK19: 27.12 | JL19: 27.8 | JM19: 28.28 | JN19: 29.79 | JO19: 31.21 | JP19: 31.34 | JQ19: 31.17 | JR19: 31.74 | JS19: 32.02 | JT19: 30.97 | JU19: 32.54 | JV19: 33.06 | JW19: 33.26 | JX19: 34.8 | JY19: 33.09 | JZ19: 33.57 | KA19: 30.63 | KB19: 31.96 | KC19: 32.46 | KD19: 32.13 | KE19: 32.25 | KF19: 32.22 | KG19: 32.43 | KH19: 32.67 | KI19: 32.3 | KJ19: 31.61 | KK19: 33.07 | KL19: 33.51 | KM19: 33.72 | KN19: 33.88 | KO19: 33.82 | KP19: 33.83 | KQ19: 33.46 | KR19: 33.97 | KS19: 34.05 | KT19: 34.07 | KU19: 34.09 | KV19: 34.41 | KW19: 34.11 | KX19: 33.86 | KY19: 33.8 | KZ19: 34.14 | LA19: 33.99 | LB19: 33.83 | LC19: 33.59 | LD19: 56.81 | LE19: 33.58 | LF19: 34.05 | LG19: 35.34 | LH19: 35.11 | LI19: 35 | LJ19: 35.19 | LK19: ='Average prices'!DO30 -> 35.32 | LL19: =(LK19-KY19)/KY19*100 -> 4.4970414 | LM19: =SUM(LJ19-LK19)/LK19*100 -> -0.36806342
A20: 16 | B20: Spaghetti | C20: 500gr | D20: 3.18 | E20: 3.13 | F20: 3.1 | G20: 3.11 | H20: 3.13 | I20: 3.13 | J20: 3.14 | K20: 3.17 | L20: 3.19 | M20: 3.19 | N20: 3.25 | O20: 3.31 | P20: 3.31 | Q20: 3.29 | R20: 3.3 | S20: 3.35 | T20: 3.38 | U20: 3.43 | V20: 3.51 | W20: 3.55 | X20: 3.58 | Y20: 3.56 | Z20: 3.55 | AA20: 3.57 | AB20: 3.75 | AC20: 3.84 | AD20: 3.89 | AE20: 4.15 | AF20: 4.2 | AG20: 4.37 | AH20: 4.39 | AI20: 4.4 | AJ20: 4.67 | AK20: 4.64 | AL20: 4.85 | AM20: 4.99 | AN20: 5.08 | AO20: 5.15 | AP20: 5.04 | AQ20: 5.09 | AR20: 5.06 | AS20: 5.06 | AT20: 4.84 | AU20: 4.71 | AV20: 4.88 | AW20: 5.06 | AX20: 5.06 | AY20: 4.89 | AZ20: 5.11 | BA20: 5.01 | BB20: 4.99 | BC20: 5.1 | BD20: 5.11 | BE20: 5.19 | BF20: 5.03 | BG20: 5.25 | BH20: 5.1 | BI20: 4.91 | BJ20: 4.99 | BK20: 4.97 | BL20: 5.12 | BM20: 5.17 | BN20: 4.81 | BO20: 4.88 | BP20: 4.84 | BQ20: 4.89 | BR20: 5.05 | BS20: 4.84 | BT20: 5.17 | BU20: 5.15 | BV20: 5.09 | BW20: 5.04 | BX20: 5.55 | BY20: 5.35 | BZ20: 5.43 | CA20: 5.42 | CB20: 5.39 | CC20: 5.4 | CD20: 5.45 | CE20: 5.43 | CF20: 5.52 | CG20: 5.61 | CH20: 5.69 | CI20: 5.73 | CJ20: 5.88 | CK20: 5.65 | CL20: 5.77 | CM20: 5.8 | CN20: 5.95 | CO20: 6.02 | CP20: 6.25 | CQ20: 6.2 | CR20: 6.3 | CS20: 6.68 | CT20: 6.89 | CU20: 7.01 | CV20: 8.11 | CW20: 8.86 | CX20: 9.48 | CY20: 9.42 | CZ20: 9.53 | DA20: 9.79 | DB20: 10.07 | DC20: 9.84 | DD20: 9.85 | DE20: 9.13 | DF20: 9.53 | DG20: 10.13 | DH20: 10.45 | DI20: 10.49 | DJ20: 9.89 | DK20: 10.41 | DL20: 10.35 | DM20: 10.24 | DN20: 10.52 | DO20: 10.64 | DP20: 10.5 | DQ20: 10.27 | DR20: 10.14 | DS20: 10.41 | DT20: 10.37 | DU20: 10.31 | DV20: 10.01 | DW20: 10.16 | DX20: 10.04 | DY20: 9.41 | DZ20: 9.03 | EA20: 8.88 | EB20: 8.81 | EC20: 9.1 | ED20: 8.89 | EE20: 8.85 | EF20: 9.19 | EG20: 9.32 | EH20: 9.26 | EI20: 9.46 | EJ20: 8.96 | EK20: 9.44 | EL20: 9.31 | EM20: 9.22 | EN20: 9.24 | EO20: 8.79 | EP20: 9.24 | EQ20: 9.02 | ER20: 9.04 | ES20: 9.35 | ET20: 9.4 | EU20: 9.37 | EV20: 9.15 | EW20: 9.21 | EX20: 9.12 | EY20: 8.94 | EZ20: 9.37 | FA20: 9.76 | FB20: 9.9 | FC20: 9.99 | FD20: 9.82 | FE20: 9.32 | FF20: 10.14 | FG20: 9.92 | FH20: 9.76 | FI20: 9.75 | FJ20: 9.97 | FK20: 9.85 | FL20: 9.94 | FM20: 10.14 | FN20: 9.9 | FO20: 10.1 | FP20: 10.06 | FQ20: 9.96 | FR20: 10.37 | FS20: 10.21 | FT20: 10.58 | FU20: 10.68 | FV20: 10.72 | FW20: 10.68 | FX20: 10.42 | FY20: 10.25 | FZ20: 10.4 | GA20: 10.3 | GB20: 10.58 | GC20: 10.63 | GD20: 11.13 | GE20: 10.87 | GF20: 11.08 | GG20: 11.01 | GH20: 11.19 | GI20: 11.24 | GJ20: 11.11 | GK20: 11.33 | GL20: 11.18 | GM20: 11.16 | GN20: 11.29 | GO20: 11.44 | GP20: 12.19 | GQ20: 12.57 | GR20: 12.53 | GS20: 12.52 | GT20: 12.58 | GU20: 12.69 | GV20: 12.69 | GW20: 12.79 | GX20: 12.82 | GY20: 12.58 | GZ20: 13.15 | HA20: 12.81 | HB20: 12.7 | HC20: 12.59 | HD20: 12.16 | HE20: 12.59 | HF20: 12.79 | HG20: 13.09 | HH20: 12.78 | HI20: 13.4 | HJ20: 13.12 | HK20: 13.01 | HL20: 13.15 | HM20: 12.84 | HN20: 12.84 | HO20: 12.74 | HP20: 12.19 | HQ20: 12.35 | HR20: 12.46 | HS20: 12.19 | HT20: 12.27 | HU20: 12.27 | HV20: 12.39 | HW20: 12.4 | HX20: 12.98 | HY20: 13.09 | HZ20: 13.22 | IA20: 13.32 | IB20: 13.59 | IC20: 13.74 | ID20: 13.6 | IE20: 13.51 | IF20: 13.66 | IG20: 13.18 | IH20: 13.56 | II20: 13.14 | IJ20: 13.27 | IK20: 13.29 | IL20: 13.55 | IM20: 14.14 | IN20: 13.82 | IO20: 13.74 | IP20: 13.72 | IQ20: 14.17 | IR20: 14.99 | IS20: 15.23 | IT20: 15.23 | IU20: 15.85 | IV20: 16.47 | IW20: 16.6 | IX20: 16.14 | IY20: 16.32 | IZ20: 16.5 | JA20: 16.22 | JB20: 16.8 | JC20: 16.05 | JD20: 16.37 | JE20: 16.31 | JF20: 16.19 | JG20: 16.98 | JH20: 17.27 | JI20: 17.14 | JJ20: 17.24 | JK20: 17.81 | JL20: 17.48 | JM20: 17.55 | JN20: 19.31 | JO20: 19.25 | JP20: 19.54 | JQ20: 19.28 | JR20: 19.33 | JS20: 18.9 | JT20: 19.23 | JU20: 19.82 | JV20: 19.76 | JW20: 20.13 | JX20: 20.55 | JY20: 20.04 | JZ20: 20 | KA20: 19.45 | KB20: 19.68 | KC20: 19.55 | KD20: 19.43 | KE20: 19.73 | KF20: 19.73 | KG20: 19.62 | KH20: 19.52 | KI20: 19.19 | KJ20: 19.08 | KK20: 19.41 | KL20: 19.64 | KM20: 19.53 | KN20: 19.59 | KO20: 19.54 | KP20: 19.62 | KQ20: 19.62 | KR20: 19.7 | KS20: 19.57 | KT20: 19.24 | KU20: 19.64 | KV20: 19.58 | KW20: 19.84 | KX20: 19.6 | KY20: 19.78 | KZ20: 20.12 | LA20: 20.06 | LB20: 20.28 | LC20: 20.42 | LD20: 20.14 | LE20: 19.86 | LF20: 20.17 | LG20: 20 | LH20: 19.94 | LI20: 19.88 | LJ20: 20.05 | LK20: ='Average prices'!DO31 -> 20.07 | LL20: =(LK20-KY20)/KY20*100 -> 1.4661274 | LM20: =SUM(LJ20-LK20)/LK20*100 -> -0.099651221
A21: 17 | B21: Macaroni | C21: 500gr | GZ21: 12.88 | HA21: 12.63 | HB21: 12.48 | HC21: 12.33 | HD21: 12.1 | HE21: 12.4 | HF21: 12.67 | HG21: 12.84 | HH21: 12.78 | HI21: 12.91 | HJ21: 12.76 | HK21: 12.35 | HL21: 12.61 | HM21: 12.39 | HN21: 12.14 | HO21: 12.22 | HP21: 11.68 | HQ21: 11.86 | HR21: 11.77 | HS21: 11.69 | HT21: 11.67 | HU21: 11.69 | HV21: 11.81 | HW21: 11.74 | HX21: 12.27 | HY21: 12.39 | HZ21: 12.76 | IA21: 12.53 | IB21: 12.82 | IC21: 12.85 | ID21: 13.03 | IE21: 12.84 | IF21: 12.94 | IG21: 12.32 | IH21: 12.81 | II21: 12.46 | IJ21: 12.51 | IK21: 12.54 | IL21: 12.95 | IM21: 13.91 | IN21: 13.57 | IO21: 13.49 | IP21: 14.67 | IQ21: 14.54 | IR21: 15.01 | IS21: 15.24 | IT21: 15.12 | IU21: 14.71 | IV21: 14.68 | IW21: 14.86 | IX21: 14.83 | IY21: 14.71 | IZ21: 15.01 | JA21: 15.13 | JB21: 15.2 | JC21: 14.65 | JD21: 15.25 | JE21: 15.11 | JF21: 15 | JG21: 15.35 | JH21: 15.59 | JI21: 16.14 | JJ21: 16.21 | JK21: 16.54 | JL21: 15.85 | JM21: 16.51 | JN21: 17.66 | JO21: 17.69 | JP21: 17.89 | JQ21: 17.93 | JR21: 17.99 | JS21: 18.23 | JT21: 18.4 | JU21: 18.64 | JV21: 18.53 | JW21: 18.06 | JX21: 18.66 | JY21: 18.96 | JZ21: 18.96 | KA21: 18.56 | KB21: 18.53 | KC21: 18.5 | KD21: 18.45 | KE21: 18.28 | KF21: 18.35 | KG21: 18.4 | KH21: 18.32 | KI21: 18.12 | KJ21: 17.92 | KK21: 18.11 | KL21: 18.32 | KM21: 18.33 | KN21: 18.3 | KO21: 18.08 | KP21: 18.02 | KQ21: 17.92 | KR21: 18.02 | KS21: 18.08 | KT21: 17.99 | KU21: 18.07 | KV21: 18.13 | KW21: 18.17 | KX21: 18 | KY21: 18.12 | KZ21: 18.41 | LA21: 18.35 | LB21: 18.53 | LC21: 18.67 | LD21: 18.63 | LE21: 18.65 | LF21: 18.79 | LG21: 18.63 | LH21: 18.76 | LI21: 18.99 | LJ21: 18.76 | LK21: ='Average prices'!DO32 -> 18.77 | LL21: =(LK21-KY21)/KY21*100 -> 3.5871965 | LM21: =SUM(LJ21-LK21)/LK21*100 -> -0.053276505
A22: 18 | B22: Instant noodles | C22: 5x70gr | KR22: 34.88 | KS22: 34.96 | KT22: 34.99 | KU22: 34.34 | KV22: 34.8 | KW22: 34.17 | KX22: 34.92 | KY22: 34.73 | KZ22: 34.46 | LA22: 34.52 | LB22: 34.76 | LC22: 34.78 | LD22: 35.19 | LE22: 34.81 | LF22: 35.78 | LG22: 36.66 | LH22: 35.79 | LI22: 36.07 | LJ22: 35.6 | LK22: ='Average prices'!DO35 -> 35.75 | LL22: =(LK22-KY22)/KY22*100 -> 2.9369421 | LM22: =SUM(LJ22-LK22)/LK22*100 -> -0.41958042
A23: 19 | B23: Beef Mince | C23: p/kg | CV23: 41.6 | CW23: 41.48 | CX23: 41.88 | CY23: 42.31 | CZ23: 42.81 | DA23: 44.6 | DB23: 44.44 | DC23: 44.52 | DD23: 45.08 | DE23: 45.6 | DF23: 45.17 | DG23: 46.47 | DH23: 46.72 | DI23: 46.81 | DJ23: 47.27 | DK23: 47.88 | DL23: 48.01 | DM23: 47.72 | DN23: 47.14 | DO23: 47.36 | DP23: 46.54 | DQ23: 47.11 | DR23: 47.13 | DS23: 47.35 | DT23: 47.96 | DU23: 47.48 | DV23: 47.79 | DW23: 48.38 | DX23: 47.95 | DY23: 46.85 | DZ23: 46.55 | EA23: 47.75 | EB23: 47.9 | EC23: 47.67 | ED23: 47.81 | EE23: 48.09 | EF23: 49.6 | EG23: 49.84 | EH23: 52.44 | EI23: 52.51 | EJ23: 53.14 | EK23: 52.76 | EL23: 53.44 | EM23: 53.66 | EN23: 54.71 | EO23: 56.85 | EP23: 58.62 | EQ23: 61.64 | ER23: 61.64 | ES23: 59.82 | ET23: 59.83 | EU23: 58.88 | EV23: 60.17 | EW23: 56.98 | EX23: 57.32 | EY23: 58.55 | EZ23: 60.66 | FA23: 62.71 | FB23: 63.2 | FC23: 64.6 | FD23: 64.46 | FE23: 61.96 | FF23: 63.86 | FG23: 61.37 | FH23: 60.53 | FI23: 60.36 | FJ23: 60.03 | FK23: 59.77 | FL23: 60.54 | FM23: 61.57 | FN23: 60.08 | FO23: 61.44 | FP23: 62.84 | FQ23: 60.88 | FR23: 61.92 | FS23: 64.15 | FT23: 65.09 | FU23: 64.92 | FV23: 63.97 | FW23: 65.97 | FX23: 66.35 | FY23: 65.78 | FZ23: 65.52 | GA23: 65.94 | GB23: 65.49 | GC23: 65.4 | GD23: 65.71 | GE23: 66.17 | GF23: 66.24 | GG23: 66.47 | GH23: 65.36 | GI23: 66.69 | GJ23: 66.62 | GK23: 67.13 | GL23: 69.16 | GM23: 68.72 | GN23: 68.48 | GO23: 67.31 | GP23: 69.34 | GQ23: 69.5 | GR23: 69.55 | GS23: 69.5 | GT23: 68.96 | GU23: 67.95 | GV23: 68.1 | GW23: 68.97 | GX23: 69.47 | GY23: 71.03 | GZ23: 71.34 | HA23: 73.5 | HB23: 74.99 | HC23: 74.62 | HD23: 75.68 | HE23: 76.36 | HF23: 77.2 | HG23: 77.39 | HH23: 77.33 | HI23: 77.8 | HJ23: 79.5 | HK23: 78.82 | HL23: 80.52 | HM23: 82.32 | HN23: 83.42 | HO23: 83.64 | HP23: 83.94 | HQ23: 84.17 | HR23: 84.73 | HS23: 84.02 | HT23: 84.12 | HU23: 85.14 | HV23: 84.79 | HW23: 85.08 | HX23: 86.11 | HY23: 84.93 | HZ23: 84.19 | IA23: 84.11 | IB23: 83.2 | IC23: 83.74 | ID23: 82.98 | IE23: 83.99 | IF23: 83.51 | IG23: 83.08 | IH23: 82.77 | II23: 83.56 | IJ23: 84.23 | IK23: 84.43 | IL23: 85.85 | IM23: 88.2 | IO23: 78.82 | IP23: 89.25 | IQ23: 97.41 | IR23: 96.34 | IS23: 88.47 | IT23: 91.13 | IU23: 90.93 | IV23: 89.75 | IW23: 97 | IX23: 95.54 | IY23: 95.17 | IZ23: 95.16 | JA23: 94.42 | JB23: 95.31 | JC23: 95.9 | JD23: 94.43 | JE23: 94.11 | JF23: 94.56 | JG23: 97.53 | JH23: 96.41 | JI23: 97 | JJ23: 97.82 | JK23: 102.09 | JL23: 103.43 | JM23: 101.9 | JN23: 102.5 | JO23: 103.17 | JP23: 104.72 | JQ23: 106.59 | JR23: 106.9 | JS23: 106.62 | JT23: 107.67 | JU23: 108.17 | JV23: 108.48 | JW23: 108.04 | JX23: 109.35 | JY23: 106.5 | JZ23: 110.52 | KA23: 106.44 | KB23: 103.07 | KC23: 103.78 | KD23: 103.78 | KE23: 104.37 | KF23: 105.94 | KG23: 105.07 | KH23: 103.49 | KI23: 103.42 | KJ23: 103.29 | KK23: 102.23 | KL23: 102.95 | KM23: 101.37 | KN23: 101.46 | KO23: 101.97 | KP23: 102.37 | KQ23: 103.83 | KR23: 104.37 | KS23: 104.06 | KT23: 104.53 | KU23: 111.14 | KV23: 110.93 | KW23: 117.92 | KX23: 126.79 | KY23: 127.4 | KZ23: 129.22 | LA23: 129.11 | LB23: 129.88 | LC23: 131.4 | LD23: 131.82 | LE23: 128.45 | LF23: 127.11 | LG23: 127.42 | LH23: 124.35 | LI23: 123.15 | LJ23: 122.64 | LK23: ='Average prices'!DO37 -> 124.92 | LL23: =(LK23-KY23)/KY23*100 -> -1.9466248 | LM23: =SUM(LJ23-LK23)/LK23*100 -> -1.8251681
A24: 20 | B24: Beef Brisket | C24: p/kg | D24: - | E24: - | F24: - | G24: - | H24: - | I24: - | J24: - | K24: - | L24: - | M24: - | N24: - | O24: - | P24: - | Q24: - | R24: - | S24: - | T24: - | U24: - | V24: - | W24: - | X24: - | Y24: - | Z24: - | AA24: - | AB24: - | AC24: - | AD24: - | AE24: - | AF24: - | AG24: - | AH24: - | AI24: - | AJ24: - | AK24: - | AL24: - | AM24: - | AN24: - | AO24: - | AP24: - | AQ24: - | AR24: - | AS24: - | AT24: - | AU24: - | AV24: - | AW24: - | AX24: - | AY24: - | AZ24: - | BA24: - | BB24: - | BC24: - | BD24: - | BE24: - | BF24: - | BG24: - | BH24: - | BI24: - | BJ24: - | BK24: - | BL24: - | BM24: - | BN24: - | BO24: - | BP24: - | BQ24: - | BR24: - | BS24: - | BT24: - | BU24: - | BV24: - | BW24: - | BX24: - | BY24: - | BZ24: - | CA24: - | CB24: - | CC24: - | CD24: - | CE24: - | CF24: - | CG24: - | CH24: - | CI24: - | CJ24: - | CK24: - | CL24: - | CM24: - | CN24: - | CO24: - | CP24: - | CQ24: - | CR24: - | CS24: - | CT24: - | CU24: - | CV24: 40.43 | CW24: 40.22 | CX24: 40.54 | CY24: 40.33 | CZ24: 40.24 | DA24: 40.66 | DB24: 41.24 | DC24: 40.73 | DD24: 41.39 | DE24: 41.71 | DF24: 41.79 | DG24: 42.24 | DH24: 43.12 | DI24: 45.43 | DJ24: 45.72 | DK24: 45.85 | DL24: 45.71 | DM24: 45.36 | DN24: 44.59 | DO24: 44.33 | DP24: 44.61 | DQ24: 44.32 | DR24: 43.96 | DS24: 44.05 | DT24: 45.39 | DU24: 45.39 | DV24: 45.55 | DW24: 45.4 | DX24: 45.36 | DY24: 45.82 | DZ24: 45.19 | EA24: 44.83 | EB24: 44.56 | EC24: 45.28 | ED24: 45.14 | EE24: 45.55 | EF24: 49.61 | EG24: 49.48 | EH24: 51.27 | EI24: 52.01 | EJ24: 51.01 | EK24: 51.23 | EL24: 51.74 | EM24: 51.94 | EN24: 52.4 | EO24: 54.94 | EP24: 57.57 | EQ24: 58.24 | ER24: 60.52 | ES24: 57.82 | ET24: 55.46 | EU24: 58.01 | EV24: 57.03 | EW24: 55.03 | EX24: 54.24 | EY24: 54.8 | EZ24: 58.64 | FA24: 60.19 | FB24: 59.97 | FC24: 60.03 | FD24: 61.12 | FE24: 59.66 | FF24: 57.36 | FG24: 55.82 | FH24: 55.31 | FI24: 54.77 | FJ24: 54.37 | FK24: 55.12 | FL24: 55.51 | FM24: 55.87 | FN24: 56.63 | FO24: 56.3 | FP24: 59.17 | FQ24: 57.24 | FR24: 57.25 | FS24: 61.3 | FT24: 61.51 | FU24: 61.02 | FV24: 61.49 | FW24: 62.38 | FX24: 62.11 | FY24: 61.61 | FZ24: 61.64 | GA24: 62.1 | GB24: 64.43 | GC24: 63.79 | GD24: 62.55 | GE24: 62.98 | GF24: 63.34 | GG24: 63.57 | GH24: 63.36 | GI24: 64.2 | GJ24: 65.08 | GK24: 64.7 | GL24: 64.83 | GM24: 65.53 | GN24: 67.88 | GO24: 67.55 | GP24: 69.19 | GQ24: 69.94 | GR24: 70.08 | GS24: 69.8 | GT24: 69.81 | GU24: 69.02 | GV24: 68.72 | GW24: 68.6 | GX24: 69.02 | GY24: 69.61 | GZ24: 72.42 | HA24: 74.52 | HB24: 76.72 | HC24: 79.68 | HD24: 82.36 | HE24: 82.37 | HF24: 82.84 | HG24: 82.95 | HH24: 81.41 | HI24: 81.71 | HJ24: 82.59 | HK24: 82.34 | HL24: 85.96 | HM24: 85.59 | HN24: 85.4 | HO24: 86.67 | HP24: 86.51 | HQ24: 85.7 | HR24: 86.11 | HS24: 86.3 | HT24: 85.97 | HU24: 85.83 | HV24: 85.23 | HW24: 84.63 | HX24: 86.4 | HY24: 82.75 | HZ24: 81.38 | IA24: 81.69 | IB24: 82.57 | IC24: 82.88 | ID24: 83.68 | IE24: 84.8 | IF24: 84.75 | IG24: 84.68 | IH24: 84.41 | II24: 85.19 | IJ24: 88.61 | IK24: 87.55 | IL24: 87.84 | IO24: 84.27 | IP24: 85.05 | IQ24: 84.56 | IR24: 84.84 | IS24: 89.43 | IT24: 91.02 | IU24: 93.03 | IV24: 93.63 | IW24: 88.31 | IX24: 90.76 | IY24: 93.86 | IZ24: 97.99 | JA24: 97.5 | JB24: 92.16 | JC24: 90.83 | JD24: 95.91 | JE24: 95.87 | JF24: 96.45 | JG24: 98.65 | JH24: 103.29 | JI24: 101.29 | JJ24: 101.55 | JK24: 104.77 | JL24: 107.8 | JM24: 106.53 | JN24: 107.25 | JO24: 107.07 | JP24: 107.53 | JQ24: 106.87 | JR24: 107.87 | JS24: 111 | JT24: 117.06 | JU24: 121.48 | JV24: 114.97 | JW24: 109.46 | JX24: 107.16 | JY24: 104.49 | JZ24: 103.36 | KA24: 103.3 | KB24: 108.13 | KC24: 104.02 | KD24: 104.44 | KE24: 106.92 | KF24: 110.25 | KG24: 109.4 | KH24: 105.93 | KI24: 107.39 | KJ24: 115.64 | KK24: 106.74 | KL24: 109.66 | KM24: 105.09 | KN24: 104.95 | KO24: 104.36 | KP24: 104.89 | KQ24: 106.96 | KR24: 107.75 | KS24: 106.76 | KT24: 105.91 | KU24: 118.33 | KV24: 120.58 | KW24: 129.67 | KX24: 138.44 | KY24: 138.2 | KZ24: 137.76 | LA24: 134.98 | LB24: 135.3 | LC24: 138.22 | LD24: 141.27 | LE24: 134.94 | LF24: 129.29 | LG24: 129.91 | LH24: 126.65 | LI24: 126.81 | LJ24: 127.11 | LK24: ='Average prices'!DO39 -> 131.53 | LL24: =(LK24-KY24)/KY24*100 -> -4.8263386 | LM24: =SUM(LJ24-LK24)/LK24*100 -> -3.3604501
A25: 21 | B25: Beef Chuck | C25: p/kg | D25: - | E25: - | F25: - | G25: - | H25: - | I25: - | J25: - | K25: - | L25: - | M25: - | N25: - | O25: - | P25: - | Q25: - | R25: - | S25: - | T25: - | U25: - | V25: - | W25: - | X25: - | Y25: - | Z25: - | AA25: - | AB25: - | AC25: - | AD25: - | AE25: - | AF25: - | AG25: - | AH25: - | AI25: - | AJ25: - | AK25: - | AL25: - | AM25: - | AN25: - | AO25: - | AP25: - | AQ25: - | AR25: - | AS25: - | AT25: - | AU25: - | AV25: - | AW25: - | AX25: - | AY25: - | AZ25: - | BA25: - | BB25: - | BC25: - | BD25: - | BE25: - | BF25: - | BG25: - | BH25: - | BI25: - | BJ25: - | BK25: - | BL25: - | BM25: - | BN25: - | BO25: - | BP25: - | BQ25: - | BR25: - | BS25: - | BT25: - | BU25: - | BV25: - | BW25: - | BX25: - | BY25: - | BZ25: - | CA25: - | CB25: - | CC25: - | CD25: - | CE25: - | CF25: - | CG25: - | CH25: - | CI25: - | CJ25: - | CK25: - | CL25: - | CM25: - | CN25: - | CO25: - | CP25: - | CQ25: - | CR25: - | CS25: - | CT25: - | CU25: - | CV25: 42.23 | CW25: 41.92 | CX25: 41.93 | CY25: 42.11 | CZ25: 42.12 | DA25: 42.92 | DB25: 43.35 | DC25: 43.41 | DD25: 43.42 | DE25: 43.2 | DF25: 43.58 | DG25: 44.15 | DH25: 45.97 | DI25: 46.57 | DJ25: 47.54 | DK25: 47.21 | DL25: 47.12 | DM25: 47.16 | DN25: 46.79 | DO25: 46.81 | DP25: 46.5 | DQ25: 45.91 | DR25: 45.59 | DS25: 45.66 | DT25: 47.13 | DU25: 47.06 | DV25: 46.9 | DW25: 47.35 | DX25: 47.18 | DY25: 47.27 | DZ25: 47.07 | EA25: 46.76 | EB25: 46.59 | EC25: 46.57 | ED25: 46.86 | EE25: 47.32 | EF25: 51.16 | EG25: 51.07 | EH25: 52.71 | EI25: 52.81 | EJ25: 52.51 | EK25: 52.29 | EL25: 52.9 | EM25: 53.44 | EN25: 52.49 | EO25: 55.83 | EP25: 58.12 | EQ25: 59.58 | ER25: 61.71 | ES25: 59.66 | ET25: 57.99 | EU25: 56.91 | EV25: 56.25 | EW25: 55.43 | EX25: 55.2 | EY25: 55.32 | EZ25: 60.64 | FA25: 62.33 | FB25: 62.46 | FC25: 61.81 | FD25: 63.38 | FE25: 61.2 | FF25: 58.8 | FG25: 57.36 | FH25: 56.81 | FI25: 56.34 | FJ25: 56.12 | FK25: 56.27 | FL25: 56.96 | FM25: 57.12 | FN25: 57.47 | FO25: 57.26 | FP25: 60.5 | FQ25: 58.53 | FR25: 59.68 | FS25: 62.08 | FT25: 63.59 | FU25: 62.53 | FV25: 62.73 | FW25: 63.36 | FX25: 62.94 | FY25: 62.62 | FZ25: 62.65 | GA25: 62.88 | GB25: 65.24 | GC25: 64.08 | GD25: 64.54 | GE25: 64.3 | GF25: 64.7 | GG25: 64.98 | GH25: 64.74 | GI25: 65.33 | GJ25: 65.97 | GK25: 65.79 | GL25: 66.12 | GM25: 66.56 | GN25: 69.72 | GO25: 69.4 | GP25: 70.72 | GQ25: 71.74 | GR25: 71.71 | GS25: 71.12 | GT25: 71 | GU25: 70.33 | GV25: 70.06 | GW25: 70.12 | GX25: 70.51 | GY25: 71.03 | GZ25: 73.67 | HA25: 76.49 | HB25: 78.57 | HC25: 81.2 | HD25: 83.92 | HE25: 84.33 | HF25: 83.42 | HG25: 84.71 | HH25: 84.16 | HI25: 84.3 | HJ25: 84.85 | HK25: 84.9 | HL25: 88.08 | HM25: 87.75 | HN25: 87.26 | HO25: 88.72 | HP25: 88.32 | HQ25: 87.46 | HR25: 87.81 | HS25: 87.23 | HT25: 86.75 | HU25: 87.06 | HV25: 86.5 | HW25: 85.98 | HX25: 88.71 | HY25: 83.47 | HZ25: 83.14 | IA25: 83.14 | IB25: 84.19 | IC25: 84.63 | ID25: 84.74 | IE25: 86.29 | IF25: 86.45 | IG25: 85.83 | IH25: 85.68 | II25: 86.39 | IJ25: 90.53 | IK25: 89.27 | IL25: 89.69 | IM25: 80.99 | IN25: 80.99 | IO25: 84.72 | IP25: 84.85 | IQ25: 88.65 | IR25: 86.85 | IS25: 91.24 | IT25: 89.9 | IU25: 97.66 | IV25: 97.75 | IW25: 98.45 | IX25: 95.25 | IY25: 97.38 | IZ25: 98.81 | JA25: 99.28 | JB25: 99.52 | JC25: 99.67 | JD25: 97.93 | JE25: 97.58 | JF25: 99.06 | JG25: 101.04 | JH25: 102.15 | JI25: 102.26 | JJ25: 103.56 | JK25: 104.89 | JL25: 108.93 | JM25: 108.87 | JN25: 109.29 | JO25: 109.8 | JP25: 107.45 | JQ25: 108.99 | JR25: 109.34 | JS25: 110.12 | JT25: 113.54 | JU25: 112.64 | JV25: 112.06 | JW25: 111.48 | JX25: 109.02 | JY25: 105.01 | JZ25: 104.96 | KA25: 105.03 | KB25: 105.05 | KC25: 105.5 | KD25: 106.02 | KE25: 107.92 | KF25: 112.48 | KG25: 110.85 | KH25: 107.67 | KI25: 108.55 | KJ25: 107.9 | KK25: 108.03 | KL25: 106.44 | KM25: 106.14 | KN25: 105.94 | KO25: 104.8 | KP25: 105.34 | KQ25: 108.09 | KR25: 109.17 | KS25: 107.85 | KT25: 107.12 | KU25: 119.6 | KV25: 121.7 | KW25: 129.99 | KX25: 139.5 | KY25: 139.56 | KZ25: 139.61 | LA25: 137.06 | LB25: 136.43 | LC25: 139.67 | LD25: 143.65 | LE25: 138.58 | LF25: 131.88 | LG25: 131.54 | LH25: 129.34 | LI25: 130.62 | LJ25: 129.08 | LK25: ='Average prices'!DO40 -> 132.31 | LL25: =(LK25-KY25)/KY25*100 -> -5.1948983 | LM25: =SUM(LJ25-LK25)/LK25*100 -> -2.4412365
A26: 22 | B26: Stewing beef | C26: p/kg | GZ26: 70.35 | HA26: 68.22 | HB26: 70.55 | HC26: 72.46 | HD26: 74.76 | HE26: 73.42 | HF26: 75.82 | HG26: 75.24 | HH26: 74.3 | HI26: 75.25 | HJ26: 75.9 | HK26: 76.23 | HL26: 79.2 | HM26: 77.99 | HN26: 76.65 | HO26: 78.03 | HP26: 77.69 | HQ26: 77.68 | HR26: 77.23 | HS26: 78.03 | HT26: 76.03 | HU26: 76.95 | HV26: 75.37 | HW26: 74.13 | HX26: 78.08 | HY26: 73.68 | HZ26: 73.21 | IA26: 72.96 | IB26: 72.52 | IC26: 73.28 | ID26: 74.71 | IE26: 76.01 | IF26: 76.94 | IG26: 76.6 | IH26: 76.02 | II26: 73.9 | IJ26: 80.62 | IK26: 80.61 | IL26: 80.6 | IM26: 95.59 | IN26: 92.87 | IO26: 86.77 | IP26: 89.17 | IQ26: 103.48 | IR26: 102.97 | IS26: 112 | IT26: 90.09 | IU26: 90.78 | IV26: 99.53 | IW26: 94.08 | IX26: 83.44 | IY26: 85.58 | IZ26: 96.8 | JA26: 99.83 | JB26: 103.38 | JC26: 95.74 | JD26: 94.35 | JE26: 97.96 | JF26: 98.6 | JG26: 96.99 | JH26: 93.47 | JI26: 98.89 | JJ26: 95.23 | JK26: 99.59 | JL26: 105.57 | JM26: 105.41 | JN26: 101.8 | JO26: 101.69 | JP26: 104.67 | JQ26: 108.9 | JR26: 108.49 | JS26: 99.52 | JT26: 102.22 | JU26: 103.72 | JV26: 107.8 | JW26: 106.24 | JX26: 98.05 | JY26: 98.67 | JZ26: 95.3 | KA26: 91.83 | KB26: 95.54 | KC26: 95.39 | KD26: 95.66 | KE26: 97.6 | KF26: 98.07 | KG26: 97.77 | KH26: 95.74 | KI26: 104.52 | KJ26: 105.63 | KK26: 96.35 | KL26: 94.8 | KM26: 93.78 | KN26: 93.89 | KO26: 92.85 | KP26: 92.91 | KQ26: 96.81 | KR26: 98.75 | KS26: 98.65 | KT26: 96.47 | KU26: 106.33 | KV26: 110.07 | KW26: 118.02 | KX26: 123.87 | KY26: 125.96 | KZ26: 125.86 | LA26: 125.46 | LB26: 123.87 | LC26: 127.72 | LD26: 127.21 | LE26: 124 | LF26: 119.65 | LG26: 117.51 | LH26: 110.3 | LI26: 110.19 | LJ26: 115.27 | LK26: ='Average prices'!DO41 -> 118.28 | LL26: =(LK26-KY26)/KY26*100 -> -6.0971737 | LM26: =SUM(LJ26-LK26)/LK26*100 -> -2.5448089
A27: 23 | B27: Beef Rump | C27: p/kg | D27: - | E27: - | F27: - | G27: - | H27: - | I27: - | J27: - | K27: - | L27: - | M27: - | N27: - | O27: - | P27: - | Q27: - | R27: - | S27: - | T27: - | U27: - | V27: - | W27: - | X27: - | Y27: - | Z27: - | AA27: - | AB27: - | AC27: - | AD27: - | AE27: - | AF27: - | AG27: - | AH27: - | AI27: - | AJ27: - | AK27: - | AL27: - | AM27: - | AN27: - | AO27: - | AP27: - | AQ27: - | AR27: - | AS27: - | AT27: - | AU27: - | AV27: - | AW27: - | AX27: - | AY27: - | AZ27: - | BA27: - | BB27: - | BC27: - | BD27: - | BE27: - | BF27: - | BG27: - | BH27: - | BI27: - | BJ27: - | BK27: - | BL27: - | BM27: - | BN27: - | BO27: - | BP27: - | BQ27: - | BR27: - | BS27: - | BT27: - | BU27: - | BV27: - | BW27: - | BX27: - | BY27: - | BZ27: - | CA27: - | CB27: - | CC27: - | CD27: - | CE27: - | CF27: - | CG27: - | CH27: - | CI27: - | CJ27: - | CK27: - | CL27: - | CM27: - | CN27: - | CO27: - | CP27: - | CQ27: - | CR27: - | CS27: - | CT27: - | CU27: - | CV27: 71.76 | CW27: 71.66 | CX27: 71.01 | CY27: 70.1 | CZ27: 71.89 | DA27: 72.73 | DB27: 72.85 | DC27: 70.3 | DD27: 70.52 | DE27: 69.69 | DF27: 71.28 | DG27: 72.28 | DH27: 73.24 | DI27: 73.2 | DJ27: 75.21 | DK27: 75.7 | DL27: 76.36 | DM27: 76.5 | DN27: 75.98 | DO27: 74.17 | DP27: 74.8 | DQ27: 73.98 | DR27: 73.87 | DS27: 75.18 | DT27: 75.6 | DU27: 75.34 | DV27: 75.46 | DW27: 76.52 | DX27: 77.87 | DY27: 77.62 | DZ27: 76.3 | EA27: 76.51 | EB27: 76.38 | EC27: 75.55 | ED27: 76.76 | EE27: 78.02 | EF27: 80.39 | EG27: 81.14 | EH27: 86.26 | EI27: 85.5 | EJ27: 84.23 | EK27: 82.78 | EL27: 82.4 | EM27: 83.52 | EN27: 84 | EO27: 86.14 | EP27: 90.58 | EQ27: 94.68 | ER27: 95.98 | ES27: 93.19 | ET27: 95.14 | EU27: 90.8 | EV27: 91.98 | EW27: 89.22 | EX27: 87.28 | EY27: 87.74 | EZ27: 93.55 | FA27: 97.24 | FB27: 99.06 | FC27: 99.85 | FD27: 100.03 | FE27: 98.77 | FF27: 97.29 | FG27: 96.38 | FH27: 95.16 | FI27: 92.73 | FJ27: 93.47 | FK27: 91.14 | FL27: 90.83 | FM27: 94.11 | FN27: 95.35 | FO27: 96.35 | FP27: 96.8 | FQ27: 96.49 | FR27: 98.68 | FS27: 102.85 | FT27: 104.23 | FU27: 105.26 | FV27: 104.82 | FW27: 102.93 | FX27: 104.1 | FY27: 103.72 | FZ27: 105.46 | GA27: 105.16 | GB27: 107.08 | GC27: 106.91 | GD27: 106.37 | GE27: 107.04 | GF27: 107.69 | GG27: 105.88 | GH27: 105.93 | GI27: 106.9 | GJ27: 104.69 | GK27: 106.2 | GL27: 110.4 | GM27: 110.07 | GN27: 111.11 | GO27: 112.27 | GP27: 116.62 | GQ27: 118 | GR27: 118.64 | GS27: 117.16 | GT27: 115.06 | GU27: 111.51 | GV27: 111.8 | GW27: 113.99 | GX27: 114.32 | GY27: 115.95 | GZ27: 117.18 | HA27: 122.08 | HB27: 124.08 | HC27: 126.42 | HD27: 129.82 | HE27: 128.9 | HF27: 130.47 | HG27: 125.06 | HH27: 121.81 | HI27: 123.89 | HJ27: 125.12 | HK27: 124.89 | HL27: 128.13 | HM27: 126.41 | HN27: 128.06 | HO27: 127.85 | HP27: 126.39 | HQ27: 127.97 | HR27: 125.61 | HS27: 125.68 | HT27: 124.39 | HU27: 124.01 | HV27: 125.39 | HW27: 126.57 | HX27: 128.7 | HY27: 123.68 | HZ27: 122.56 | IA27: 122.02 | IB27: 124.39 | IC27: 125.76 | ID27: 127.12 | IE27: 127.81 | IF27: 127.45 | IG27: 128.12 | IH27: 129.59 | II27: 131.37 | IJ27: 134.76 | IK27: 134.45 | IL27: 135.95 | IM27: 156.81 | IN27: 167.99 | IO27: 155.86 | IP27: 148.83 | IQ27: 164.26 | IR27: 160.49 | IS27: 147.72 | IT27: 138.98 | IU27: 138.71 | IV27: 133.59 | IW27: 158.32 | IX27: 165.91 | IY27: 165.69 | IZ27: 159.71 | JA27: 159.22 | JB27: 148.81 | JC27: 174.09 | JD27: 152.09 | JE27: 157.41 | JF27: 166.38 | JG27: 167.02 | JH27: 172.41 | JI27: 163.57 | JJ27: 169.02 | JK27: 149.46 | JL27: 180.32 | JM27: 179.84 | JN27: 162.63 | JO27: 176.17 | JP27: 173.89 | JQ27: 165.4 | JR27: 166.99 | JS27: 166.01 | JT27: 199.23 | JU27: 189.66 | JV27: 190.28 | JW27: 179.08 | JX27: 178.14 | JY27: 168.6 | JZ27: 163.68 | KA27: 158.62 | KB27: 158.66 | KC27: 158.92 | KD27: 160.36 | KE27: 159.31 | KF27: 160.08 | KG27: 159.32 | KH27: 160.11 | KI27: 161.13 | KJ27: 161.15 | KK27: 160.5 | KL27: 157.26 | KM27: 158.36 | KN27: 157.76 | KO27: 156.31 | KP27: 157.92 | KQ27: 161.17 | KR27: 162.97 | KS27: 161.96 | KT27: 162.02 | KU27: 175.37 | KV27: 183.98 | KW27: 194.09 | KX27: 213.25 | KY27: 208.88 | KZ27: 210.45 | LA27: 206.06 | LB27: 208.77 | LC27: 214.45 | LD27: 219.93 | LE27: 208.76 | LF27: 205.09 | LG27: 203.66 | LH27: 199.32 | LI27: 195.01 | LJ27: 192.02 | LK27: ='Average prices'!DO42 -> 195.26 | LL27: =(LK27-KY27)/KY27*100 -> -6.5204902 | LM27: =SUM(LJ27-LK27)/LK27*100 -> -1.659326
A28: 24 | B28: Beef T-Bone | C28: p/kg | D28: - | E28: - | F28: - | G28: - | H28: - | I28: - | J28: - | K28: - | L28: - | M28: - | N28: - | O28: - | P28: - | Q28: - | R28: - | S28: - | T28: - | U28: - | V28: - | W28: - | X28: - | Y28: - | Z28: - | AA28: - | AB28: - | AC28: - | AD28: - | AE28: - | AF28: - | AG28: - | AH28: - | AI28: - | AJ28: - | AK28: - | AL28: - | AM28: - | AN28: - | AO28: - | AP28: - | AQ28: - | AR28: - | AS28: - | AT28: - | AU28: - | AV28: - | AW28: - | AX28: - | AY28: - | AZ28: - | BA28: - | BB28: - | BC28: - | BD28: - | BE28: - | BF28: - | BG28: - | BH28: - | BI28: - | BJ28: - | BK28: - | BL28: - | BM28: - | BN28: - | BO28: - | BP28: - | BQ28: - | BR28: - | BS28: - | BT28: - | BU28: - | BV28: - | BW28: - | BX28: - | BY28: - | BZ28: - | CA28: - | CB28: - | CC28: - | CD28: - | CE28: - | CF28: - | CG28: - | CH28: - | CI28: - | CJ28: - | CK28: - | CL28: - | CM28: - | CN28: - | CO28: - | CP28: - | CQ28: - | CR28: - | CS28: - | CT28: - | CU28: - | CV28: 56.02 | CW28: 56.37 | CX28: 55.59 | CY28: 55.22 | CZ28: 57.06 | DA28: 57.53 | DB28: 58.43 | DC28: 57.58 | DD28: 56.79 | DE28: 58.18 | DF28: 59.41 | DG28: 59.88 | DH28: 59.51 | DI28: 59.79 | DJ28: 61.16 | DK28: 61.2 | DL28: 62.16 | DM28: 62.38 | DN28: 60.5 | DO28: 59.92 | DP28: 60.23 | DQ28: 59.79 | DR28: 60.13 | DS28: 59.93 | DT28: 60.76 | DU28: 59.94 | DV28: 60 | DW28: 60.39 | DX28: 60.72 | DY28: 60.42 | DZ28: 61.67 | EA28: 60.65 | EB28: 60.5 | EC28: 60.57 | ED28: 60.67 | EE28: 61.64 | EF28: 64.8 | EG28: 65.14 | EH28: 68.8 | EI28: 68.77 | EJ28: 67.99 | EK28: 67.8 | EL28: 68.85 | EM28: 70.06 | EN28: 70.29 | EO28: 73.03 | EP28: 74.09 | EQ28: 77.13 | ER28: 78.98 | ES28: 77.12 | ET28: 76.12 | EU28: 75 | EV28: 73.22 | EW28: 73.06 | EX28: 72.07 | EY28: 72.75 | EZ28: 74.33 | FA28: 77.54 | FB28: 80.35 | FC28: 80.29 | FD28: 81.41 | FE28: 80.83 | FF28: 78.95 | FG28: 78.6 | FH28: 76.86 | FI28: 77.46 | FJ28: 77.95 | FK28: 75.95 | FL28: 75.88 | FM28: 77.37 | FN28: 76.79 | FO28: 76.36 | FP28: 77.35 | FQ28: 74.89 | FR28: 75.79 | FS28: 79.3 | FT28: 80.07 | FU28: 80 | FV28: 80.76 | FW28: 80.86 | FX28: 81.49 | FY28: 81.18 | FZ28: 81.32 | GA28: 81.7 | GB28: 82.67 | GC28: 81.57 | GD28: 81.54 | GE28: 81.36 | GF28: 81.09 | GG28: 81.24 | GH28: 81.15 | GI28: 81.62 | GJ28: 82.68 | GK28: 83.2 | GL28: 85.18 | GM28: 85.9 | GN28: 87.4 | GO28: 87.41 | GP28: 87.61 | GQ28: 87.39 | GR28: 88.74 | GS28: 88.96 | GT28: 88.17 | GU28: 87.98 | GV28: 86.57 | GW28: 87.17 | GX28: 87.9 | GY28: 88.65 | GZ28: 90.48 | HA28: 92.44 | HB28: 95.01 | HC28: 97.13 | HD28: 98.65 | HE28: 99.42 | HF28: 100.09 | HG28: 99.38 | HH28: 100.03 | HI28: 99.29 | HJ28: 99.64 | HK28: 99.77 | HL28: 104.16 | HM28: 102.63 | HN28: 104.59 | HO28: 103.78 | HP28: 104.31 | HQ28: 103.92 | HR28: 103.95 | HS28: 103.6 | HT28: 103.05 | HU28: 103.59 | HV28: 103.51 | HW28: 103.78 | HX28: 105.99 | HY28: 103.75 | HZ28: 101.31 | IA28: 101.47 | IB28: 101.65 | IC28: 101.48 | ID28: 103 | IE28: 105.03 | IF28: 103.49 | IG28: 103.85 | IH28: 103.7 | II28: 104.25 | IJ28: 107.73 | IK28: 107.8 | IL28: 109.13 | IM28: 94.1 | IN28: 95.06 | IO28: 109.06 | IP28: 106.95 | IQ28: 112.2 | IR28: 103.59 | IS28: 106.79 | IT28: 107.69 | IU28: 111.73 | IV28: 115.4 | IW28: 108.8 | IX28: 109.96 | IY28: 111.84 | IZ28: 115.02 | JA28: 115.34 | JB28: 112.68 | JC28: 112.77 | JD28: 114.3 | JE28: 114.26 | JF28: 114.37 | JG28: 114.14 | JH28: 118.78 | JI28: 119.24 | JJ28: 120.06 | JK28: 121.73 | JL28: 124.29 | JM28: 129.18 | JN28: 131.16 | JO28: 133.54 | JP28: 130.86 | JQ28: 135.08 | JR28: 135.48 | JS28: 135.59 | JT28: 135.09 | JU28: 134.7 | JV28: 134.75 | JW28: 134.88 | JX28: 134.32 | JY28: 132.31 | JZ28: 127.72 | KA28: 126.13 | KB28: 126.9 | KC28: 125.25 | KD28: 129.09 | KE28: 130.56 | KF28: 130.94 | KG28: 131.27 | KH28: 130.13 | KI28: 129.34 | KJ28: 129.6 | KK28: 131.24 | KL28: 129.39 | KM28: 127.47 | KN28: 126.92 | KO28: 127.02 | KP28: 126.78 | KQ28: 130.57 | KR28: 130.93 | KS28: 131.34 | KT28: 131.12 | KU28: 138.23 | KV28: 142.99 | KW28: 151.61 | KX28: 161.21 | KY28: 162.75 | KZ28: 165.68 | LA28: 164.9 | LB28: 163.64 | LC28: 166.67 | LD28: 168.35 | LE28: 166.73 | LF28: 162.88 | LG28: 162.63 | LH28: 156.28 | LI28: 155.54 | LJ28: 156.01 | LK28: ='Average prices'!DO43 -> 157.9 | LL28: =(LK28-KY28)/KY28*100 -> -2.9800307 | LM28: =SUM(LJ28-LK28)/LK28*100 -> -1.1969601
A29: 25 | B29: Chicken Whole - Fresh | C29: p/kg | D29: 12.32 | E29: 12.07 | F29: 12.01 | G29: 12.04 | H29: 12.04 | I29: 11.91 | J29: 11.78 | K29: 11.9 | L29: 11.8 | M29: 12.06 | N29: 12.28 | O29: 12.75 | P29: 12.98 | Q29: 13.07 | R29: 13.15 | S29: 13.22 | T29: 13.25 | U29: 13.31 | V29: 13.39 | W29: 13.51 | X29: 13.6 | Y29: 13.59 | Z29: 13.94 | AA29: 14.31 | AB29: 14.35 | AC29: 14.83 | AD29: 14.95 | AE29: 15.44 | AF29: 16.28 | AG29: 16.11 | AH29: 16.02 | AI29: 16.04 | AJ29: 16.55 | AK29: 17.64 | AL29: 18.24 | AM29: 18.65 | AN29: 18.8 | AO29: 18.39 | AP29: 18.47 | AQ29: 18.08 | AR29: 17.78 | AS29: 17.84 | AT29: 17.05 | AU29: 17.16 | AV29: 17.18 | AW29: 17.05 | AX29: 17.26 | AY29: 17.87 | AZ29: 17.85 | BA29: 17.73 | BB29: 17.91 | BC29: 18.21 | BD29: 18.01 | BE29: 18.08 | BF29: 17.76 | BG29: 17.94 | BH29: 17.79 | BI29: 18.13 | BJ29: 18.27 | BK29: 18.09 | BL29: 18.16 | BM29: 18.08 | BN29: 18.18 | BO29: 17.62 | BP29: 17.84 | BQ29: 17.85 | BR29: 18.18 | BS29: 18.3 | BT29: 18.09 | BU29: 18.5 | BV29: 18.84 | BW29: 20.03 | CV29: 26.16 | CW29: 25.24 | CX29: 26.45 | CY29: 26.58 | CZ29: 26.86 | DA29: 26.72 | DB29: 26.35 | DC29: 26.59 | DD29: 26.33 | DE29: 26.94 | DF29: 27.63 | DG29: 27.32 | DH29: 29.28 | DI29: 29.51 | DJ29: 29.03 | DK29: 28 | DL29: 28.43 | DM29: 28.73 | DN29: 28.28 | DO29: 28.59 | DP29: 28.5 | DQ29: 28.41 | DR29: 28.52 | DS29: 28.68 | DT29: 29.43 | DU29: 28.68 | DV29: 28.38 | DW29: 28.67 | DX29: 28.47 | DY29: 27.92 | DZ29: 27.73 | EA29: 27.64 | EB29: 27.54 | EC29: 28.5 | ED29: 28.19 | EE29: 28.12 | EF29: 30 | EG29: 29.49 | EH29: 29.45 | EI29: 28.78 | EJ29: 29.38 | EK29: 29.7 | EL29: 29.78 | EM29: 29.1 | EN29: 28.39 | EO29: 30.11 | EP29: 30.48 | EQ29: 30.87 | ER29: 31.13 | ES29: 31.51 | ET29: 31.25 | EU29: 31.69 | EV29: 31.11 | EW29: 31.32 | EX29: 30.85 | EY29: 31.53 | EZ29: 32.97 | FA29: 33.96 | FB29: 34.11 | FC29: 34.98 | FD29: 34.87 | FE29: 33.64 | FF29: 33.35 | FG29: 34.53 | FH29: 33.8 | FI29: 34.55 | FJ29: 33.97 | FK29: 33.76 | FL29: 34.37 | FM29: 35.68 | FN29: 35.54 | FO29: 35.8 | FP29: 36.2 | FQ29: 36.88 | FR29: 37.66 | FS29: 37.79 | FT29: 37.16 | FU29: 37.89 | FV29: 37.97 | FW29: 37.67 | FX29: 37.43 | FY29: 38.83 | FZ29: 38.19 | GA29: 38.79 | GB29: 39.56 | GC29: 39.55 | GD29: 39.48 | GE29: 39.38 | GF29: 39.06 | GG29: 39.01 | GH29: 39.96 | GI29: 39.63 | GJ29: 38.79 | GK29: 39.88 | GL29: 39.78 | GM29: 40.64 | GN29: 41.18 | GO29: 41.62 | GP29: 40.83 | GQ29: 41.81 | GR29: 41.79 | GS29: 42.17 | GT29: 42.03 | GU29: 41.83 | GV29: 41.59 | GW29: 42.72 | GX29: 42.09 | GY29: 42.33 | GZ29: 43.69 | HA29: 44.72 | HB29: 44.07 | HC29: 44.03 | HD29: 43.41 | HE29: 44.36 | HF29: 44.95 | HG29: 43.11 | HH29: 43.8 | HI29: 44.69 | HJ29: 43.87 | HK29: 46.27 | HL29: 45.52 | HM29: 45.84 | HN29: 45.91 | HO29: 46.41 | HP29: 45.77 | HQ29: 45.27 | HR29: 46.16 | HS29: 46.43 | HT29: 46.31 | HU29: 47.82 | HV29: 46.37 | HW29: 47.31 | HX29: 47.7 | HY29: 47.51 | HZ29: 49.16 | IA29: 47.97 | IB29: 47.4 | IC29: 49.06 | ID29: 48.72 | IE29: 47.38 | IF29: 48.23 | IG29: 49.38 | IH29: 48.52 | II29: 50.57 | IJ29: 52.13 | IK29: 51.87 | IL29: 50.35 | IM29: 55.74 | IN29: 49.99 | IO29: 50.39 | IP29: 64.81 | IQ29: 58.83 | IR29: 60.68 | IS29: 63.95 | IT29: 61.87 | IU29: 58.73 | IV29: 49.84 | IW29: 54.45 | IX29: 64.24 | IY29: 62.89 | IZ29: 58.34 | JA29: 59.35 | JB29: 63.1 | JC29: 59.02 | JD29: 54.55 | JE29: 54.8 | JF29: 59.54 | JG29: 62.31 | JH29: 58.98 | JI29: 57.85 | JJ29: 57.61 | JK29: 58.5 | JL29: 54.39 | JM29: 55.51 | JN29: 55.68 | JO29: 58.32 | JP29: 64.9 | JQ29: 63.29 | JR29: 63.85 | JS29: 59.68 | JT29: 60.6 | JU29: 61 | JV29: 58.62 | JW29: 57.59 | JX29: 66.89 | JY29: 67.86 | JZ29: 61.1 | KA29: 60.31 | KB29: 61.66 | KC29: 61.63 | KD29: 64.2 | KE29: 65.39 | KF29: 65.74 | KG29: 64.77 | KH29: 65.26 | KI29: 63.81 | KJ29: 65.1 | KK29: 64.51 | KL29: 64.56 | KM29: 63.33 | KN29: 64.99 | KO29: 64.69 | KP29: 63.97 | KQ29: 63.29 | KR29: 63.23 | KS29: 62.79 | KT29: 63.06 | KU29: 61.17 | KV29: 63.41 | KW29: 61.97 | KX29: 63.51 | KY29: 62.61 | KZ29: 61.15 | LA29: 62.97 | LB29: 63.7 | LC29: 61.42 | LD29: 64.02 | LE29: 63.92 | LF29: 64.03 | LG29: 62.27 | LH29: 63.88 | LI29: 62.63 | LJ29: 63.85 | LK29: ='Average prices'!DO54 -> 64.01 | LL29: =(LK29-KY29)/KY29*100 -> 2.2360645 | LM29: =SUM(LJ29-LK29)/LK29*100 -> -0.24996094
A30: 26 | B30: Chicken portions - Fresh | C30: p/kg | D30: - | E30: - | F30: - | G30: - | H30: - | I30: - | J30: - | K30: - | L30: - | M30: - | N30: - | O30: - | P30: - | Q30: - | R30: - | S30: - | T30: - | U30: - | V30: - | W30: - | X30: - | Y30: - | Z30: - | AA30: - | AB30: - | AC30: - | AD30: - | AE30: - | AF30: - | AG30: - | AH30: - | AI30: - | AJ30: - | AK30: - | AL30: - | AM30: - | AN30: - | AO30: - | AP30: - | AQ30: - | AR30: - | AS30: - | AT30: - | AU30: - | AV30: - | AW30: - | AX30: - | AY30: - | AZ30: - | BA30: - | BB30: - | BC30: - | BD30: - | BE30: - | BF30: - | BG30: - | BH30: - | BI30: - | BJ30: - | BK30: - | BL30: - | BM30: - | BN30: - | BO30: - | BP30: - | BQ30: - | BR30: - | BS30: - | BT30: - | BU30: - | BV30: - | BW30: - | BX30: - | BY30: - | BZ30: - | CA30: - | CB30: - | CC30: - | CD30: - | CE30: - | CF30: - | CG30: - | CH30: - | CI30: - | CJ30: - | CK30: - | CL30: - | CM30: - | CN30: - | CO30: - | CP30: - | CQ30: - | CR30: - | CS30: - | CT30: - | CU30: - | CV30: 32.62 | CW30: 31.46 | CX30: 31.33 | CY30: 32.17 | CZ30: 33.51 | DA30: 35.45 | DB30: 34.73 | DC30: 35.44 | DD30: 35.1 | DE30: 35.69 | DF30: 36.47 | DG30: 36.92 | DH30: 37.12 | DI30: 37.68 | DJ30: 37.25 | DK30: 37.31 | DL30: 37.02 | DM30: 37.35 | DN30: 37.6 | DO30: 37.58 | DP30: 37.36 | DQ30: 37.52 | DR30: 38.41 | DS30: 38.62 | DT30: 41.48 | DU30: 38.24 | DV30: 37.48 | DW30: 37.54 | DX30: 37.39 | DY30: 36.78 | DZ30: 36.8 | EA30: 36.42 | EB30: 36.58 | EC30: 37.68 | ED30: 37.63 | EE30: 38.05 | EF30: 37.73 | EG30: 37.92 | EH30: 37.91 | EI30: 38.28 | EJ30: 38.61 | EK30: 38.35 | EL30: 38.83 | EM30: 38.63 | EN30: 38.97 | EO30: 39.79 | EP30: 40.02 | EQ30: 40.25 | ER30: 40.54 | ES30: 40.73 | ET30: 40.89 | EU30: 40.88 | EV30: 40.53 | EW30: 41.37 | EX30: 41.24 | EY30: 41.17 | EZ30: 43.41 | FA30: 44.19 | FB30: 43.86 | FC30: 44.43 | FD30: 44.67 | FE30: 44.63 | FF30: 44.52 | FG30: 44.75 | FH30: 44.33 | FI30: 44.42 | FJ30: 44.54 | FK30: 44.94 | FL30: 45.11 | FM30: 44.37 | FN30: 45.77 | FO30: 46.03 | FP30: 45.97 | FQ30: 46.24 | FR30: 47.42 | FS30: 47.76 | FT30: 48.05 | FU30: 48.16 | FV30: 47 | FW30: 48.24 | FX30: 48.04 | FY30: 49.43 | FZ30: 50.11 | GA30: 49.95 | GB30: 49.85 | GC30: 50 | GD30: 50.49 | GE30: 50.94 | GF30: 51.1 | GG30: 52.02 | GH30: 51.12 | GI30: 52.41 | GJ30: 51.18 | GK30: 51.67 | GL30: 51.91 | GM30: 51.79 | GN30: 52.97 | GO30: 52.26 | GP30: 53.3 | GQ30: 53.32 | GR30: 54.05 | GS30: 54.84 | GT30: 53.99 | GU30: 54.19 | GV30: 53.46 | GW30: 53.27 | GX30: 54.39 | GY30: 54.91 | GZ30: 56.04 | HA30: 55.97 | HB30: 55.72 | HC30: 56.15 | HD30: 56.38 | HE30: 56.62 | HF30: 56.61 | HG30: 56.94 | HH30: 56.51 | HI30: 56.69 | HJ30: 58.31 | HK30: 58.51 | HL30: 58.8 | HM30: 58.64 | HN30: 58.64 | HO30: 58.69 | HP30: 59.46 | HQ30: 59.09 | HR30: 60.03 | HS30: 59.89 | HT30: 60.04 | HU30: 59.32 | HV30: 59.61 | HW30: 59.82 | HX30: 60.43 | HY30: 59.83 | HZ30: 60.99 | IA30: 61.69 | IB30: 61.67 | IC30: 61.78 | ID30: 62.45 | IE30: 62 | IF30: 62.37 | IG30: 62.71 | IH30: 64.47 | II30: 64 | IJ30: 64.25 | IK30: 64.55 | IL30: 65.63 | IM30: 73.59 | IN30: 76.55 | IO30: 82.75 | IP30: 82.47 | IQ30: 74.57 | IR30: 75.72 | IS30: 74.95 | IT30: 67.32 | IU30: 65.82 | IV30: 66.05 | IW30: 72.2 | IX30: 63.22 | IY30: 70.18 | IZ30: 71.91 | JA30: 68.92 | JB30: 77.63 | JC30: 81.88 | JD30: 71.85 | JE30: 71.2 | JF30: 68.79 | JG30: 71.4 | JH30: 68.77 | JI30: 71 | JJ30: 71.3 | JK30: 68.6 | JL30: 73.62 | JM30: 70.82 | JN30: 70.79 | JO30: 71.47 | JP30: 71.67 | JQ30: 72.09 | JR30: 72.32 | JS30: 71.44 | JT30: 75.5 | JU30: 77.33 | JV30: 77.46 | JW30: 79.05 | JX30: 79.03 | JY30: 80.08 | JZ30: 79.8 | KA30: 80.44 | KB30: 78.49 | KC30: 79.52 | KD30: 81.42 | KE30: 82.09 | KF30: 82.36 | KG30: 82.06 | KH30: 82.26 | KI30: 82.03 | KJ30: 81.36 | KK30: 81.9 | KL30: 82.55 | KM30: 83.41 | KN30: 82.1 | KO30: 82.64 | KP30: 81.45 | KQ30: 81.12 | KR30: 81.74 | KS30: 81.21 | KT30: 81.94 | KU30: 82.41 | KV30: 82.41 | KW30: 83.16 | KX30: 83.21 | KY30: 84.21 | KZ30: 84.85 | LA30: 85.23 | LB30: 85.58 | LC30: 85.63 | LD30: 85.2 | LE30: 86.14 | LF30: 86.64 | LG30: 86.8 | LH30: 87.32 | LI30: 86.99 | LJ30: 87.91 | LK30: ='Average prices'!DO55 -> 87.77 | LL30: =(LK30-KY30)/KY30*100 -> 4.2275264 | LM30: =SUM(LJ30-LK30)/LK30*100 -> 0.1595078
A31: 27 | B31: Chicken portions (Individualy quick frozen) | C31: 2kg | GZ31: 61.47 | HA31: 62.76 | HB31: 62.38 | HC31: 62.26 | HD31: 62.24 | HE31: 62.23 | HF31: 63.19 | HG31: 61.75 | HH31: 62.49 | HI31: 63.29 | HJ31: 65.62 | HK31: 67.08 | HL31: 68.98 | HM31: 68.11 | HN31: 68.72 | HO31: 69.06 | HP31: 67.43 | HQ31: 68.73 | HR31: 68.16 | HS31: 66.9 | HT31: 64.75 | HU31: 64.6 | HV31: 63.17 | HW31: 63.62 | HX31: 63.87 | HY31: 63.95 | HZ31: 64.28 | IA31: 65.08 | IB31: 67.11 | IC31: 66.73 | ID31: 66.6 | IE31: 66.68 | IF31: 65.64 | IG31: 66.58 | IH31: 66.96 | II31: 66.98 | IJ31: 67.74 | IK31: 68.5 | IL31: 68.95 | IM31: 66.84 | IN31: 70.82 | IO31: 71.57 | IP31: 73.26 | IQ31: 71.91 | IR31: 71.42 | IS31: 72.67 | IT31: 73.81 | IU31: 76.5 | IV31: 77.61 | IW31: 73.9 | IX31: 71.77 | IY31: 71.54 | IZ31: 85.18 | JA31: 77.4 | JB31: 83.28 | JC31: 84.47 | JD31: 79.66 | JE31: 81.46 | JF31: 82.47 | JG31: 82.89 | JH31: 82.23 | JI31: 84.39 | JJ31: 84.71 | JK31: 85.68 | JL31: 86.8 | JM31: 87.69 | JN31: 88.63 | JO31: 84.28 | JP31: 85.36 | JQ31: 85.76 | JR31: 86.69 | JS31: 88.38 | JT31: 89.99 | JU31: 91.15 | JV31: 92.94 | JW31: 92.5 | JX31: 93.06 | JY31: 93.09 | JZ31: 92.67 | KA31: 91.6 | KB31: 92.16 | KC31: 91.19 | KD31: 92.85 | KE31: 93.63 | KF31: 93.45 | KG31: 93.77 | KH31: 93.83 | KI31: 93.6 | KJ31: 94.04 | KK31: 93.96 | KL31: 93.16 | KM31: 93.34 | KN31: 94.07 | KO31: 94.44 | KP31: 95.45 | KQ31: 95.98 | KR31: 96.94 | KS31: 96.32 | KT31: 96.79 | KU31: 95.81 | KV31: 96.37 | KW31: 96.38 | KX31: 97.87 | KY31: 98.34 | KZ31: 99.31 | LA31: 100.98 | LB31: 101.05 | LC31: 101.56 | LD31: 102.1 | LE31: 102.69 | LF31: 102.08 | LG31: 71.8 | LH31: 101.69 | LI31: 102.33 | LJ31: 101.89 | LK31: ='Average prices'!DO57 -> 101.65 | LL31: =(LK31-KY31)/KY31*100 -> 3.3658735 | LM31: =SUM(LJ31-LK31)/LK31*100 -> 0.23610428
A32: 28 | B32: Beef offal | C32: p/kg | GZ32: 43.23 | HA32: 42.46 | HB32: 41.04 | HC32: 41.58 | HD32: 42.58 | HE32: 42.61 | HF32: 43.34 | HG32: 43.08 | HH32: 42.71 | HI32: 43.27 | HJ32: 42.52 | HK32: 42.77 | HL32: 50.28 | HM32: 35.22 | HN32: 35.8 | HO32: 34.4 | HP32: 36.11 | HQ32: 36.33 | HR32: 35.8 | HS32: 35.35 | HT32: 35.25 | HU32: 35.88 | HV32: 35.04 | HW32: 34.75 | HX32: 34.24 | HY32: 34.4 | HZ32: 34.5 | IA32: 34.24 | IB32: 35.01 | IC32: 35.06 | ID32: 35.35 | IE32: 35.1 | IF32: 35.77 | IG32: 36.29 | IH32: 36.62 | II32: 35.98 | IJ32: 36.47 | IK32: 37.19 | IL32: 36.31 | IM32: 47.99 | IP32: 39.23 | IQ32: 38.22 | IR32: 38.09 | IS32: 37.77 | IT32: 38.96 | IU32: 39.33 | IV32: 42.45 | IW32: 38.14 | IX32: 37.61 | IY32: 40.77 | IZ32: 45.04 | JA32: 44.85 | JB32: 43.9 | JC32: 40.14 | JD32: 44.15 | JE32: 44.09 | JF32: 39.68 | JG32: 45.49 | JH32: 59.28 | JI32: 56.77 | JJ32: 57.71 | JK32: 48.64 | JL32: 47.69 | JM32: 68.88 | JN32: 47.32 | JO32: 62.2 | JP32: 65.8 | JQ32: 50.55 | JR32: 50.08 | JS32: 50.71 | JT32: 48.76 | JU32: 48.75 | JV32: 49.1 | JW32: 49.31 | JX32: 48.45 | JY32: 49.63 | JZ32: 48.78 | KA32: 48.65 | KB32: 48.91 | KC32: 50.13 | KD32: 49.52 | KE32: 49.01 | KF32: 49.72 | KG32: 50.23 | KH32: 49.68 | KI32: 49.81 | KJ32: 49.71 | KK32: 51.04 | KL32: 51.56 | KM32: 52.26 | KN32: 52.98 | KO32: 52.88 | KP32: 52.45 | KQ32: 51.92 | KR32: 52.27 | KS32: 50.84 | KT32: 50.33 | KU32: 51.67 | KV32: 53.23 | KW32: 54.77 | KX32: 56.82 | KY32: 56.67 | KZ32: 58.13 | LA32: 58.53 | LB32: 58.07 | LC32: 58.78 | LD32: 62.15 | LE32: 61.17 | LF32: 60.36 | LG32: 60.32 | LH32: 60.12 | LI32: 61.73 | LJ32: 60.22 | LK32: ='Average prices'!DO64 -> 59.45 | LL32: =(LK32-KY32)/KY32*100 -> 4.9055938 | LM32: =SUM(LJ32-LK32)/LK32*100 -> 1.2952061
A33: 29 | B33: Chicken giblets (neck, gizzards, hearts, etc) | C33: p/kg | GZ33: 30.89 | HA33: 30.8 | HB33: 30.83 | HC33: 30.38 | HD33: 31.45 | HE33: 32.59 | HF33: 35.27 | HG33: 35.98 | HH33: 35.55 | HI33: 40.53 | HJ33: 34.59 | HK33: 35.77 | HL33: 35.14 | HM33: 35.44 | HN33: 35.04 | HO33: 34.85 | HP33: 33.77 | HQ33: 36.8 | HR33: 34.41 | HS33: 34.69 | HT33: 34.49 | HU33: 34.22 | HV33: 34.39 | HW33: 34.31 | HX33: 34.6 | HY33: 34.24 | HZ33: 34.36 | IA33: 33.97 | IB33: 33.86 | IC33: 34.2 | ID33: 34.68 | IE33: 33.43 | IF33: 33.61 | IG33: 34.18 | IH33: 33.27 | II33: 33.58 | IJ33: 33.01 | IK33: 32.47 | IL33: 34.18 | IM33: 31.99 | IO33: 35.42 | IP33: 33.65 | IQ33: 33.41 | IR33: 36.21 | IS33: 36.57 | IT33: 35.99 | IU33: 37.94 | IV33: 37.51 | IW33: 30.43 | IX33: 37.7 | IY33: 35.4 | IZ33: 39.22 | JA33: 38.55 | JB33: 36.87 | JC33: 39.8 | JD33: 40.6 | JE33: 39.86 | JF33: 40.22 | JG33: 40.08 | JH33: 38.11 | JI33: 39.35 | JJ33: 37.17 | JK33: 37.3 | JL33: 37.73 | JM33: 38.45 | JN33: 39.11 | JO33: 42.02 | JP33: 42.38 | JQ33: 42.63 | JR33: 44.46 | JS33: 45.57 | JT33: 44.37 | JU33: 45.23 | JV33: 45.68 | JW33: 45.73 | JX33: 46.75 | JY33: 46.69 | JZ33: 46.16 | KA33: 45.87 | KB33: 46.96 | KC33: 46.75 | KD33: 47.1 | KE33: 47.16 | KF33: 48.19 | KG33: 47.98 | KH33: 47.27 | KI33: 46.62 | KJ33: 46.91 | KK33: 47.82 | KL33: 47.72 | KM33: 47.08 | KN33: 47.78 | KO33: 46.37 | KP33: 46.25 | KQ33: 46.66 | KR33: 46.38 | KS33: 46.26 | KT33: 46.48 | KU33: 47.12 | KV33: 46.11 | KW33: 46.64 | KX33: 48.1 | KY33: 48.41 | KZ33: 48.5 | LA33: 47.99 | LB33: 48.69 | LC33: 48.39 | LD33: 50.27 | LE33: 48.98 | LF33: 45.69 | LG33: 46.89 | LH33: 47.26 | LI33: 46.91 | LJ33: 48.34 | LK33: ='Average prices'!DO67 -> 48.13 | LL33: =(LK33-KY33)/KY33*100 -> -0.57839289 | LM33: =SUM(LJ33-LK33)/LK33*100 -> 0.4363183
A34: 30 | B34: Sausages (beef, pork, mutton) | C34: p/kg | GZ34: 70.11 | HA34: 70.26 | HB34: 72.37 | HC34: 72.05 | HD34: 74.12 | HE34: 74.78 | HF34: 75.22 | HG34: 76.42 | HH34: 76.79 | HI34: 77.39 | HJ34: 79.24 | HK34: 80.6 | HL34: 80.95 | HM34: 81.11 | HN34: 81.9 | HO34: 82.1 | HP34: 82.75 | HQ34: 81.46 | HR34: 82.09 | HS34: 81.92 | HT34: 80.73 | HU34: 81.06 | HV34: 81.41 | HW34: 80.79 | HX34: 81.43 | HY34: 80.74 | HZ34: 79.72 | IA34: 79.23 | IB34: 79 | IC34: 80.04 | ID34: 81.12 | IE34: 82.13 | IF34: 81.24 | IG34: 81.21 | IH34: 82.28 | II34: 82.6 | IJ34: 83.26 | IK34: 83.3 | IL34: 82.61 | IN34: 92.99 | IO34: 92.95 | IP34: 88.25 | IQ34: 85.55 | IR34: 80.97 | IS34: 82.96 | IT34: 85.22 | IU34: 86.98 | IV34: 85.27 | IW34: 87.46 | IX34: 84.67 | IY34: 84.47 | IZ34: 92.67 | JA34: 93.54 | JB34: 98.98 | JC34: 99.96 | JD34: 90.91 | JE34: 89.12 | JF34: 88.88 | JG34: 90.48 | JH34: 92.95 | JI34: 92.42 | JJ34: 92.68 | JK34: 94.56 | JL34: 95.99 | JM34: 96.98 | JN34: 99.18 | JO34: 99.82 | JP34: 98.1 | JQ34: 100.31 | JR34: 100.81 | JS34: 101.37 | JT34: 103.08 | JU34: 103.36 | JV34: 102.22 | JW34: 101.28 | JX34: 100.1 | JY34: 99.07 | JZ34: 100.01 | KA34: 99.88 | KB34: 98.39 | KC34: 99.42 | KD34: 99.29 | KE34: 100.54 | KF34: 100.9 | KG34: 99.81 | KH34: 99.58 | KI34: 99.7 | KJ34: 99.62 | KK34: 99.14 | KL34: 98.03 | KM34: 96.87 | KN34: 96.11 | KO34: 95.04 | KP34: 96.1 | KQ34: 97.69 | KR34: 87.9 | KS34: 88.8 | KT34: 89.52 | KU34: 92.34 | KV34: 91.84 | KW34: 96.67 | KX34: 103.54 | KY34: 106.31 | KZ34: 106.71 | LA34: 105.49 | LB34: 106.84 | LC34: 109.91 | LD34: 110.82 | LE34: 109.87 | LF34: 108.71 | LG34: 109.63 | LH34: 109.18 | LI34: 109.89 | LJ34: 109.1 | LK34: ='Average prices'!DO69 -> 105.58 | LL34: =(LK34-KY34)/KY34*100 -> -0.68667106 | LM34: =SUM(LJ34-LK34)/LK34*100 -> 3.3339648
A35: 31 | B35: Boerewors | C35: p/kg | KR35: 99.01 | KS35: 100.44 | KT35: 103.15 | KU35: 102.39 | KV35: 104.7 | KW35: 109.08 | KX35: 115.96 | KY35: 115.97 | KZ35: 116.05 | LA35: 117.85 | LB35: 120.25 | LC35: 122.55 | LD35: 125.07 | LE35: 123.26 | LF35: 120.55 | LG35: 121.8 | LH35: 119.94 | LI35: 119.16 | LJ35: 118.3 | LK35: ='Average prices'!DO71 -> 118.36 | LL35: =(LK35-KY35)/KY35*100 -> 2.0608778 | LM35: =SUM(LJ35-LK35)/LK35*100 -> -0.050692802
A36: 32 | B36: Polony | C36: 1kg | GZ36: 36.37 | HA36: 35.45 | HB36: 35.82 | HC36: 36.24 | HD36: 35.84 | HE36: 35.94 | HF36: 36.59 | HG36: 36.16 | HH36: 35.78 | HI36: 36.32 | HJ36: 35.55 | HK36: 36.74 | HL36: 36.86 | HM36: 36.69 | HN36: 33.47 | HO36: 31.07 | HP36: 30.41 | HQ36: 30.28 | HR36: 30.37 | HS36: 30.79 | HT36: 29.86 | HU36: 31.18 | HV36: 32.13 | HW36: 33.11 | HX36: 33.4 | HY36: 34.03 | HZ36: 34.13 | IA36: 33.89 | IB36: 32.47 | IC36: 34.28 | ID36: 32.94 | IE36: 33.3 | IF36: 33.89 | IG36: 32.76 | IH36: 32.35 | II36: 32.94 | IJ36: 34.66 | IK36: 34.4 | IL36: 34.25 | IM36: 36.24 | IN36: 41.19 | IO36: 43.19 | IP36: 43.22 | IQ36: 39.64 | IR36: 42.5 | IS36: 43.33 | IT36: 45.67 | IU36: 44.21 | IV36: 45.22 | IW36: 44.04 | IX36: 43.45 | IY36: 44.59 | IZ36: 43.92 | JA36: 43.17 | JB36: 47.18 | JC36: 45.9 | JD36: 47.67 | JE36: 44.28 | JF36: 46.93 | JG36: 49.6 | JH36: 48.07 | JI36: 47.73 | JJ36: 50.09 | JK36: 48.72 | JL36: 49.15 | JM36: 50.16 | JN36: 47.46 | JO36: 47.52 | JP36: 44.3 | JQ36: 45.43 | JR36: 47.12 | JS36: 51.44 | JT36: 51.7 | JU36: 50.35 | JV36: 50.22 | JW36: 51.15 | JX36: 53.29 | JY36: 52.37 | JZ36: 54.2 | KA36: 53.48 | KB36: 54.43 | KC36: 54.48 | KD36: 53.81 | KE36: 54.58 | KF36: 54.44 | KG36: 54.63 | KH36: 55.45 | KI36: 53.62 | KJ36: 55.37 | KK36: 55.14 | KL36: 54.3 | KM36: 54.57 | KN36: 55.54 | KO36: 55.97 | KP36: 57.39 | KQ36: 57.43 | KR36: 56.8 | KS36: 58.93 | KT36: 56.73 | KU36: 55.32 | KV36: 56.16 | KW36: 57.24 | KX36: 58.49 | KY36: 59.68 | KZ36: 59.48 | LA36: 59.39 | LB36: 58.82 | LC36: 58.53 | LD36: 59.05 | LE36: 58.3 | LF36: 60.3 | LG36: 59.6 | LH36: 60.74 | LI36: 61.45 | LJ36: 58.71 | LK36: ='Average prices'!DO73 -> 55.4 | LL36: =(LK36-KY36)/KY36*100 -> -7.1715818 | LM36: =SUM(LJ36-LK36)/LK36*100 -> 5.9747292
A37: 33 | B37: Corned meat | C37: 300gr | GZ37: 21.97 | HA37: 21.69 | HB37: 22.02 | HC37: 22.06 | HD37: 22.14 | HE37: 22.94 | HF37: 24.05 | HG37: 25.05 | HH37: 24.57 | HI37: 24.99 | HJ37: 23.92 | HK37: 24.27 | HL37: 23.9 | HM37: 23.79 | HN37: 23.12 | HO37: 23.24 | HP37: 23.13 | HQ37: 23.32 | HR37: 22.63 | HS37: 22.31 | HT37: 22.1 | HU37: 21.58 | HV37: 21.24 | HW37: 21.33 | HX37: 22.23 | HY37: 22.42 | HZ37: 22.47 | IA37: 22.73 | IB37: 22.36 | IC37: 22.03 | ID37: 22.24 | IE37: 22.82 | IF37: 22.72 | IG37: 22.36 | IH37: 22.74 | II37: 22.63 | IJ37: 23.27 | IK37: 23.59 | IL37: 23.66 | IM37: 22.97 | IN37: 24.07 | IO37: 23.73 | IP37: 25.5 | IQ37: 25.88 | IR37: 26.19 | IS37: 26.31 | IT37: 27.11 | IU37: 27.21 | IV37: 27.92 | IW37: 28.12 | IX37: 27.63 | IY37: 27.52 | IZ37: 27.14 | JA37: 28.56 | JB37: 30.18 | JC37: 27.65 | JD37: 27.47 | JE37: 28.56 | JF37: 28.35 | JG37: 29.48 | JH37: 28.42 | JI37: 28.58 | JJ37: 29.36 | JK37: 27.63 | JL37: 28.32 | JM37: 27.6 | JN37: 29.17 | JO37: 31.28 | JP37: 32.76 | JQ37: 33.19 | JR37: 33.37 | JS37: 33.27 | JT37: 33.59 | JU37: 34.51 | JV37: 34.45 | JW37: 34.11 | JX37: 34.21 | JY37: 33.7 | JZ37: 34.59 | KA37: 34.53 | KB37: 35.9 | KC37: 35.85 | KD37: 36.39 | KE37: 36.07 | KF37: 37.6 | KG37: 37.55 | KH37: 35.71 | KI37: 36.11 | KJ37: 36.06 | KK37: 35.24 | KL37: 35.06 | KM37: 35.57 | KN37: 35.59 | KO37: 34.89 | KP37: 35.24 | KQ37: 35.61 | KR37: 35.08 | KS37: 35.63 | KT37: 34.05 | KU37: 33.29 | KV37: 32.79 | KW37: 32.33 | KX37: 31.94 | KY37: 32.16 | KZ37: 32.38 | LA37: 32.55 | LB37: 33.21 | LC37: 32.97 | LD37: 33.03 | LE37: 33.08 | LF37: 33.5 | LG37: 34.03 | LH37: 33.94 | LI37: 34.74 | LJ37: 35.14 | LK37: ='Average prices'!DO78 -> 35.52 | LL37: =(LK37-KY37)/KY37*100 -> 10.447761 | LM37: =SUM(LJ37-LK37)/LK37*100 -> -1.0698198
A38: 34 | B38: Hake - Fresh or Frozen | C38: 400gr | D38: - | E38: - | F38: - | G38: - | H38: - | I38: - | J38: - | K38: - | L38: - | M38: - | N38: - | O38: - | P38: - | Q38: - | R38: - | S38: - | T38: - | U38: - | V38: - | W38: - | X38: - | Y38: - | Z38: - | AA38: - | AB38: - | AC38: - | AD38: - | AE38: - | AF38: - | AG38: - | AH38: - | AI38: - | AJ38: - | AK38: - | AL38: - | AM38: - | AN38: - | AO38: - | AP38: - | AQ38: - | AR38: - | AS38: - | AT38: - | AU38: - | AV38: - | AW38: - | AX38: - | AY38: - | AZ38: - | BA38: - | BB38: - | BC38: - | BD38: - | BE38: - | BF38: - | BG38: - | BH38: - | BI38: - | BJ38: - | BK38: - | BL38: - | BM38: - | BN38: - | BO38: - | BP38: - | BQ38: - | BR38: - | BS38: - | BT38: - | BU38: - | BV38: - | BW38: - | BX38: - | BY38: - | BZ38: - | CA38: - | CB38: - | CC38: - | CD38: - | CE38: - | CF38: - | CG38: - | CH38: - | CI38: - | CJ38: - | CK38: - | CL38: - | CM38: - | CN38: - | CO38: - | CP38: - | CQ38: - | CR38: - | CS38: - | CT38: - | CU38: - | CV38: 23.43 | CW38: 23.93 | CX38: 23.67 | CY38: 24.14 | CZ38: 23.82 | DA38: 24.58 | DB38: 26.04 | DC38: 25.41 | DD38: 26.52 | DE38: 26.38 | DF38: 27.53 | DG38: 29.33 | DH38: 29.59 | DI38: 29.5 | DJ38: 29.27 | DK38: 30.81 | DL38: 29.65 | DM38: 29.38 | DN38: 29.66 | DO38: 29.54 | DP38: 29.44 | DQ38: 30.27 | DR38: 30.33 | DS38: 30.51 | DT38: 30.89 | DU38: 30.29 | DV38: 30.7 | DW38: 30.66 | DX38: 30.94 | DY38: 31.39 | DZ38: 32.07 | EA38: 31.76 | EB38: 31.11 | EC38: 30.83 | ED38: 31.31 | EE38: 30.97 | EF38: 31.37 | EG38: 31.68 | EH38: 32.35 | EI38: 31.99 | EJ38: 32.3 | EK38: 32.11 | EL38: 32.76 | EM38: 32.97 | EN38: 34.04 | EO38: 34.62 | EP38: 33.56 | EQ38: 34.46 | ER38: 35.16 | ES38: 34.77 | ET38: 34.99 | EU38: 33.72 | EV38: 35.44 | EW38: 35.75 | EX38: 35.87 | EY38: 35.61 | EZ38: 36.87 | FA38: 37.11 | FB38: 36.49 | FC38: 36.22 | FD38: 36.52 | FE38: 36.96 | FF38: 36.39 | FG38: 36.03 | FH38: 37.16 | FI38: 37.13 | FJ38: 36.55 | FK38: 37.21 | FL38: 36.43 | FM38: 36.62 | FN38: 36.47 | FO38: 36.16 | FP38: 37.33 | FQ38: 37.84 | FR38: 39.52 | FS38: 39.71 | FT38: 39.35 | FU38: 38.88 | FV38: 38.87 | FW38: 39.18 | FX38: 41.2 | FY38: 41.43 | FZ38: 41.7 | GA38: 41.51 | GB38: 42.31 | GC38: 42.19 | GD38: 42.39 | GE38: 42.46 | GF38: 44.78 | GG38: 44.76 | GH38: 44.17 | GI38: 45.84 | GJ38: 45.36 | GK38: 45.25 | GL38: 45.64 | GM38: 45.9 | GN38: 45.2 | GO38: 46.59 | GP38: 47.15 | GQ38: 48.56 | GR38: 48.37 | GS38: 49.82 | GT38: 50.84 | GU38: 51.53 | GV38: 50.33 | GW38: 51.78 | GX38: 51.92 | GY38: 51.88 | GZ38: 52.51 | HA38: 51.76 | HB38: 53.2 | HC38: 54.84 | HD38: 56.46 | HE38: 56.7 | HF38: 56.9 | HG38: 56.64 | HH38: 56.93 | HI38: 56.67 | HJ38: 57.42 | HK38: 57.41 | HL38: 56.83 | HM38: 56.19 | HN38: 57.84 | HO38: 59.08 | HP38: 59.23 | HQ38: 59.45 | HR38: 60.19 | HS38: 60.45 | HT38: 60.55 | HU38: 59.63 | HV38: 59.19 | HW38: 59.6 | HX38: 61.1 | HY38: 61.89 | HZ38: 62.21 | IA38: 62.59 | IB38: 63.15 | IC38: 63.62 | ID38: 63.95 | IE38: 64.07 | IF38: 65.16 | IG38: 65.73 | IH38: 65.52 | II38: 66 | IJ38: 65.89 | IK38: 65.2 | IL38: 64.08 | IM38: 61.43 | IN38: 61.06 | IO38: 62.66 | IP38: 63.08 | IQ38: 63.33 | IR38: 63.79 | IS38: 75.51 | IT38: 65.47 | IU38: 66.98 | IV38: 66.76 | IW38: 61.22 | IX38: 65.64 | IY38: 68.14 | IZ38: 67.22 | JA38: 68.88 | JB38: 69.52 | JC38: 77.32 | JD38: 75.14 | JE38: 72.08 | JF38: 74.11 | JG38: 75.34 | JH38: 76.54 | JI38: 77.14 | JJ38: 76.12 | JK38: 76.35 | JL38: 76.06 | JM38: 78.23 | JN38: 72.67 | JO38: 74.65 | JP38: 69.22 | JQ38: 75.55 | JR38: 75.72 | JS38: 72.74 | JT38: 78.99 | JU38: 79.16 | JV38: 82.85 | JW38: 81.11 | JX38: 80.75 | JY38: 82.64 | JZ38: 86.23 | KA38: 88.04 | KB38: 89.24 | KC38: 89.19 | KD38: 89.19 | KE38: 90.22 | KF38: 90.99 | KG38: 90.56 | KH38: 91.88 | KI38: 89.47 | KJ38: 90.69 | KK38: 89.28 | KL38: 90.47 | KM38: 92.94 | KN38: 94.96 | KO38: 94.55 | KP38: 92.97 | KQ38: 94.73 | KR38: 95.06 | KS38: 95.57 | KT38: 97.32 | KU38: 97.61 | KV38: 98.72 | KW38: 98.34 | KX38: 97.85 | KY38: 98.88 | KZ38: 98.28 | LA38: 101.02 | LB38: 99.06 | LC38: 98.28 | LD38: 98.39 | LE38: 98.36 | LF38: 98.18 | LG38: 99.49 | LH38: 101.89 | LI38: 106.6 | LJ38: 108.76 | LK38: ='Average prices'!DO83 -> 108.6 | LL38: =(LK38-KY38)/KY38*100 -> 9.8300971 | LM38: =SUM(LJ38-LK38)/LK38*100 -> 0.14732965
A39: 35 | B39: Tuna Canned | C39: 170gr | D39: - | E39: - | F39: - | G39: - | H39: - | I39: - | J39: - | K39: - | L39: - | M39: - | N39: - | O39: - | P39: - | Q39: - | R39: - | S39: - | T39: - | U39: - | V39: - | W39: - | X39: - | Y39: - | Z39: - | AA39: - | AB39: - | AC39: - | AD39: - | AE39: - | AF39: - | AG39: - | AH39: - | AI39: - | AJ39: - | AK39: - | AL39: - | AM39: - | AN39: - | AO39: - | AP39: - | AQ39: - | AR39: - | AS39: - | AT39: - | AU39: - | AV39: - | AW39: - | AX39: - | AY39: - | AZ39: - | BA39: - | BB39: - | BC39: - | BD39: - | BE39: - | BF39: - | BG39: - | BH39: - | BI39: - | BJ39: - | BK39: - | BL39: - | BM39: - | BN39: - | BO39: - | BP39: - | BQ39: - | BR39: - | BS39: - | BT39: - | BU39: - | BV39: - | BW39: - | BX39: - | BY39: - | BZ39: - | CA39: - | CB39: - | CC39: - | CD39: - | CE39: - | CF39: - | CG39: - | CH39: - | CI39: - | CJ39: - | CK39: - | CL39: - | CM39: - | CN39: - | CO39: - | CP39: - | CQ39: - | CR39: - | CS39: - | CT39: - | CU39: - | CV39: 7.6 | CW39: 7.65 | CX39: 7.92 | CY39: 8.27 | CZ39: 8.61 | DA39: 8.76 | DB39: 9.15 | DC39: 9.36 | DD39: 9.66 | DE39: 9.8 | DF39: 9.95 | DG39: 10.11 | DH39: 10.32 | DI39: 10.45 | DJ39: 10.8 | DK39: 10.95 | DL39: 11.07 | DM39: 11 | DN39: 11.07 | DO39: 11 | DP39: 10.88 | DQ39: 10.95 | DR39: 10.68 | DS39: 10.61 | DT39: 10.66 | DU39: 10.55 | DV39: 10.39 | DW39: 10.19 | DX39: 10.12 | DY39: 9.99 | DZ39: 10.1 | EA39: 10.03 | EB39: 10.15 | EC39: 10.06 | ED39: 10.06 | EE39: 10.14 | EF39: 10.1 | EG39: 9.9 | EH39: 9.75 | EI39: 9.52 | EJ39: 9.73 | EK39: 9.66 | EL39: 9.76 | EM39: 9.91 | EN39: 9.73 | EO39: 9.93 | EP39: 10 | EQ39: 10.18 | ER39: 10.61 | ES39: 10.99 | ET39: 11.16 | EU39: 11.18 | EV39: 11.27 | EW39: 11.67 | EX39: 11.89 | EY39: 12 | EZ39: 12.35 | FA39: 12.68 | FB39: 12.93 | FC39: 13.08 | FD39: 13.15 | FE39: 13.7 | FF39: 13.69 | FG39: 13.79 | FH39: 14.1 | FI39: 13.99 | FJ39: 13.93 | FK39: 14.65 | FL39: 14.71 | FM39: 15.1 | FN39: 15.25 | FO39: 15.14 | FP39: 15.73 | FQ39: 15.8 | FR39: 15.85 | FS39: 16.05 | FT39: 16.12 | FU39: 16.1 | FV39: 15.97 | FW39: 15.85 | FX39: 15.58 | FY39: 15.44 | FZ39: 15.57 | GA39: 15.43 | GB39: 16.16 | GC39: 15.91 | GD39: 15.79 | GE39: 16.02 | GF39: 15.84 | GG39: 15.77 | GH39: 15.3 | GI39: 15.35 | GJ39: 15.65 | GK39: 15.84 | GL39: 15.7 | GM39: 15.8 | GN39: 15.8 | GO39: 15.82 | GP39: 15.73 | GQ39: 15.69 | GR39: 16.15 | GS39: 16.19 | GT39: 16.43 | GU39: 16.4 | GV39: 16.51 | GW39: 16.45 | GX39: 16.44 | GY39: 16.83 | GZ39: 17.24 | HA39: 17.23 | HB39: 17.43 | HC39: 17.36 | HD39: 17.83 | HE39: 17.9 | HF39: 18.27 | HG39: 18.35 | HH39: 18.26 | HI39: 18.2 | HJ39: 18.35 | HK39: 18.87 | HL39: 19.18 | HM39: 19.7 | HN39: 20.02 | HO39: 20.55 | HP39: 20.41 | HQ39: 20.24 | HR39: 20.24 | HS39: 20.09 | HT39: 19.87 | HU39: 20.23 | HV39: 20.09 | HW39: 19.9 | HX39: 20.03 | HY39: 20.32 | HZ39: 20.1 | IA39: 20.1 | IB39: 20.68 | IC39: 20.66 | ID39: 20.67 | IE39: 20.89 | IF39: 21.01 | IG39: 20.89 | IH39: 20.94 | II39: 21.02 | IJ39: 21.38 | IK39: 21.25 | IL39: 21.23 | IM39: 21.49 | IN39: 20.14 | IO39: 20.54 | IP39: 20.12 | IQ39: 20.32 | IR39: 20.41 | IS39: 20.82 | IT39: 21.19 | IU39: 21.3 | IV39: 21.49 | IW39: 21.55 | IX39: 21.56 | IY39: 21.79 | IZ39: 22.26 | JA39: 22.18 | JB39: 22.12 | JC39: 22.07 | JD39: 22 | JE39: 21.73 | JF39: 21.58 | JG39: 21.61 | JH39: 21.73 | JI39: 21.33 | JJ39: 21.83 | JK39: 22.06 | JL39: 22.14 | JM39: 22.52 | JN39: 22.67 | JO39: 22.79 | JP39: 23.41 | JQ39: 23.67 | JR39: 23.95 | JS39: 24.02 | JT39: 24.3 | JU39: 24.75 | JV39: 23.87 | JW39: 23.84 | JX39: 24.71 | JY39: 24.21 | JZ39: 24.3 | KA39: 24.28 | KB39: 24.32 | KC39: 24.45 | KD39: 24.4 | KE39: 24.89 | KF39: 25 | KG39: 25.11 | KH39: 25.14 | KI39: 25.52 | KJ39: 25.73 | KK39: 25.81 | KL39: 25.85 | KM39: 25.81 | KN39: 25.78 | KO39: 25.86 | KP39: 25.85 | KQ39: 25.81 | KR39: 25.82 | KS39: 25.43 | KT39: 25.52 | KU39: 25.49 | KV39: 25.46 | KW39: 25.67 | KX39: 25.78 | KY39: 25.9 | KZ39: 25.75 | LA39: 25.74 | LB39: 25.8 | LC39: 25.78 | LD39: 25.79 | LE39: 25.74 | LF39: 25.73 | LG39: 25.8 | LH39: 25.74 | LI39: 25.61 | LJ39: 25.71 | LK39: ='Average prices'!DO86 -> 25.78 | LL39: =(LK39-KY39)/KY39*100 -> -0.46332046 | LM39: =SUM(LJ39-LK39)/LK39*100 -> -0.27152832
A40: 36 | B40: Fish (Excl Tuna) Canned | C40: 400gr | D40: - | E40: - | F40: - | G40: - | H40: - | I40: - | J40: - | K40: - | L40: - | M40: - | N40: - | O40: - | P40: - | Q40: - | R40: - | S40: - | T40: - | U40: - | V40: - | W40: - | X40: - | Y40: - | Z40: - | AA40: - | AB40: - | AC40: - | AD40: - | AE40: - | AF40: - | AG40: - | AH40: - | AI40: - | AJ40: - | AK40: - | AL40: - | AM40: - | AN40: - | AO40: - | AP40: - | AQ40: - | AR40: - | AS40: - | AT40: - | AU40: - | AV40: - | AW40: - | AX40: - | AY40: - | AZ40: - | BA40: - | BB40: - | BC40: - | BD40: - | BE40: - | BF40: - | BG40: - | BH40: - | BI40: - | BJ40: - | BK40: - | BL40: - | BM40: - | BN40: - | BO40: - | BP40: - | BQ40: - | BR40: - | BS40: - | BT40: - | BU40: - | BV40: - | BW40: - | BX40: - | BY40: - | BZ40: - | CA40: - | CB40: - | CC40: - | CD40: - | CE40: - | CF40: - | CG40: - | CH40: - | CI40: - | CJ40: - | CK40: - | CL40: - | CM40: - | CN40: - | CO40: - | CP40: - | CQ40: - | CR40: - | CS40: - | CT40: - | CU40: - | CV40: 11.13 | CW40: 10.22 | CX40: 10.73 | CY40: 11.71 | CZ40: 13.94 | DA40: 13.25 | DB40: 13.37 | DC40: 14.94 | DD40: 16.38 | DE40: 15.65 | DF40: 16.12 | DG40: 14.97 | DH40: 14.9 | DI40: 16.17 | DJ40: 16.95 | DK40: 15.05 | DL40: 14.99 | DM40: 14.16 | DN40: 14.14 | DO40: 12.92 | DP40: 12.49 | DQ40: 11.93 | DR40: 12.09 | DS40: 12.24 | DT40: 12.56 | DU40: 12.32 | DV40: 12.52 | DW40: 12.66 | DX40: 12.43 | DY40: 12.91 | DZ40: 13 | EA40: 12.96 | EB40: 12.93 | EC40: 12.98 | ED40: 12.95 | EE40: 13.04 | EF40: 13.29 | EG40: 13.31 | EH40: 13.14 | EI40: 13.06 | EJ40: 13.01 | EK40: 13.04 | EL40: 13.04 | EM40: 13.12 | EN40: 13.55 | EO40: 12.97 | EP40: 13.26 | EQ40: 12.89 | ER40: 13.56 | ES40: 13.43 | ET40: 13.59 | EU40: 13.52 | EV40: 13.49 | EW40: 13.39 | EX40: 13.24 | EY40: 12.58 | EZ40: 12.84 | FA40: 12.71 | FB40: 14.16 | FC40: 14.18 | FD40: 14.5 | FE40: 14.49 | FF40: 14.69 | FG40: 14.83 | FH40: 15.08 | FI40: 15.04 | FJ40: 15.07 | FK40: 14.82 | FL40: 14.99 | FM40: 14.88 | FN40: 14.85 | FO40: 14.88 | FP40: 14.95 | FQ40: 15.03 | FR40: 15.19 | FS40: 15.49 | FT40: 15.66 | FU40: 15.68 | FV40: 15.64 | FW40: 15.49 | FX40: 15.74 | FY40: 14.9 | FZ40: 15.2 | GA40: 15.14 | GB40: 15.62 | GC40: 15.9 | GD40: 16.22 | GE40: 16.12 | GF40: 16.41 | GG40: 16.35 | GH40: 16.34 | GI40: 16.33 | GJ40: 16.22 | GK40: 16.38 | GL40: 16.47 | GM40: 16.34 | GN40: 16.78 | GO40: 16.62 | GP40: 16.84 | GQ40: 16.97 | GR40: 17.57 | GS40: 17.14 | GT40: 17.2 | GU40: 17.56 | GV40: 17.36 | GW40: 17.72 | GX40: 17.82 | GY40: 17.75 | GZ40: 18.1 | HA40: 17.63 | HB40: 17.98 | HC40: 17.75 | HD40: 17.13 | HE40: 17.24 | HF40: 17.68 | HG40: 17.67 | HH40: 17.68 | HI40: 17.44 | HJ40: 17.27 | HK40: 17.23 | HL40: 17.87 | HM40: 18.2 | HN40: 18.36 | HO40: 18.4 | HP40: 18.25 | HQ40: 18.31 | HR40: 18.34 | HS40: 18.32 | HT40: 18.38 | HU40: 18.05 | HV40: 18.27 | HW40: 18.31 | HX40: 18.99 | HY40: 18.96 | HZ40: 19.18 | IA40: 19.37 | IB40: 19.49 | IC40: 19.42 | ID40: 19.48 | IE40: 19.52 | IF40: 19.45 | IG40: 19.42 | IH40: 19.51 | II40: 19.73 | IJ40: 20.3 | IK40: 20.49 | IL40: 20.85 | IM40: 20.71 | IN40: 19.72 | IO40: 19.71 | IP40: 19.87 | IQ40: 19.82 | IR40: 20.13 | IS40: 20.21 | IT40: 20.14 | IU40: 20.87 | IV40: 21.49 | IW40: 21.46 | IX40: 21.82 | IY40: 21.72 | IZ40: 21.9 | JA40: 21.92 | JB40: 21.75 | JC40: 21.96 | JD40: 22.1 | JE40: 22.07 | JF40: 21.82 | JG40: 22.1 | JH40: 22.59 | JI40: 23.17 | JJ40: 23.34 | JK40: 23.21 | JL40: 23.39 | JM40: 23.97 | JN40: 24.02 | JO40: 24.3 | JP40: 24.29 | JQ40: 24.34 | JR40: 24.42 | JS40: 24.83 | JT40: 25.85 | JU40: 26.36 | JV40: 26.26 | JW40: 26.34 | JX40: 26.38 | JY40: 25.91 | JZ40: 26.47 | KA40: 26.21 | KB40: 26.23 | KC40: 26.37 | KD40: 26.45 | KE40: 26.45 | KF40: 26.47 | KG40: 26.46 | KH40: 26.6 | KI40: 26.84 | KJ40: 26.96 | KK40: 27.31 | KL40: 27.6 | KM40: 27.81 | KN40: 27.79 | KO40: 27.71 | KP40: 27.56 | KQ40: 27.46 | KR40: 27.83 | KS40: 27.91 | KT40: 27.81 | KU40: 27.85 | KV40: 28.14 | KW40: 28.43 | KX40: 28.46 | KY40: 17.4 | KZ40: 17.56 | LA40: 17.12 | LB40: 17.12 | LC40: 17.32 | LD40: 28.53 | LE40: 28.59 | LF40: 28.72 | LG40: 28.67 | LH40: 17.4 | LI40: 29.15 | LJ40: 29.76 | LK40: ='Average prices'!DO88 -> 30.48 | LL40: =(LK40-KY40)/KY40*100 -> 75.172414 | LM40: =SUM(LJ40-LK40)/LK40*100 -> -2.3622047
A41: 37 | B41: Milk Full cream - Fresh | C41: 1L | D41: 6.58 | E41: 6.59 | F41: 6.63 | G41: 6.76 | H41: 6.7 | I41: 6.75 | J41: 6.67 | K41: 6.76 | L41: 6.92 | M41: 6.93 | N41: 6.88 | O41: 6.28 | P41: 7.2 | Q41: 7.2 | R41: 7.59 | S41: 7.52 | T41: 7.56 | U41: 7.56 | V41: 7.96 | W41: 7.56 | X41: 7.67 | Y41: 7.66 | Z41: 7.72 | AA41: 7.8 | AB41: 7.79 | AC41: 7.92 | AD41: 8.83 | AE41: 8.84 | AF41: 8.24 | AG41: 8.88 | AH41: 8.84 | AI41: 8.84 | AJ41: 8.93 | AK41: 9.1 | AL41: 9.47 | AM41: 9.65 | AN41: 9.65 | AO41: 9.69 | AP41: 10.61 | AQ41: 10.77 | AR41: 10.81 | AS41: 9.96 | AT41: 10.12 | AU41: 10.55 | AV41: 9.73 | AW41: 9.73 | AX41: 9.98 | AY41: 9.98 | AZ41: 10 | BA41: 10.93 | BB41: 10.79 | BC41: 10.89 | BD41: 11.07 | BE41: 11.08 | BF41: 11.08 | BG41: 10.45 | BH41: 10.82 | BI41: 9.62 | BJ41: 10.82 | BK41: 10.43 | BL41: 10.91 | BM41: 10.33 | BN41: 11.13 | BO41: 10.99 | BP41: 10.76 | BQ41: 11.06 | BR41: 11.06 | BS41: 11.06 | BT41: 11 | BU41: 11.14 | BV41: 11.41 | BW41: 11.35 | BX41: 11.25 | BY41: 11.07 | BZ41: 10.88 | CA41: 11.03 | CB41: 11.17 | CC41: 11.06 | CD41: 11.33 | CE41: 11.51 | CF41: 11.46 | CG41: 11.57 | CH41: 11.63 | CI41: 11.43 | CJ41: 11.66 | CK41: 11.5 | CL41: 11.69 | CM41: 12.35 | CN41: 12.91 | CO41: 13.64 | CP41: 14.3 | CQ41: 14.8 | CR41: 15.11 | CS41: 15.21 | CT41: 15.12 | CU41: 14.97 | KR41: 20.37 | KS41: 20.07 | KT41: 20.22 | KU41: 20.1 | KV41: 20.44 | KW41: 20.21 | KX41: 20.07 | KY41: 19.98 | KZ41: 20.14 | LA41: 20.41 | LB41: 20.23 | LC41: 20.23 | LD41: 20.27 | LE41: 20.21 | LF41: 20.24 | LG41: 20.41 | LH41: 20.55 | LI41: 20.78 | LJ41: 20.75 | LK41: ='Average prices'!DO95 -> 20.54 | LL41: =(LK41-KY41)/KY41*100 -> 2.8028028 | LM41: =SUM(LJ41-LK41)/LK41*100 -> 1.0223953
A42: 38 | B42: Milk Full cream - Long life | C42: 1L | D42: - | E42: - | F42: - | G42: - | H42: - | I42: - | J42: - | K42: - | L42: - | M42: - | N42: - | O42: - | P42: - | Q42: - | R42: - | S42: - | T42: - | U42: - | V42: - | W42: - | X42: - | Y42: - | Z42: - | AA42: - | AB42: - | AC42: - | AD42: - | AE42: - | AF42: - | AG42: - | AH42: - | AI42: - | AJ42: - | AK42: - | AL42: - | AM42: - | AN42: - | AO42: - | AP42: - | AQ42: - | AR42: - | AS42: - | AT42: - | AU42: - | AV42: - | AW42: - | AX42: - | AY42: - | AZ42: - | BA42: - | BB42: - | BC42: - | BD42: - | BE42: - | BF42: - | BG42: - | BH42: - | BI42: - | BJ42: - | BK42: - | BL42: - | BM42: - | BN42: - | BO42: - | BP42: - | BQ42: - | BR42: - | BS42: - | BT42: - | BU42: - | BV42: - | BW42: - | BX42: - | BY42: - | BZ42: - | CA42: - | CB42: - | CC42: - | CD42: - | CE42: - | CF42: - | CG42: - | CH42: - | CI42: - | CJ42: - | CK42: - | CL42: - | CM42: - | CN42: - | CO42: - | CP42: - | CQ42: - | CR42: - | CS42: - | CT42: - | CU42: - | CV42: 8.23 | CW42: 8.44 | CX42: 8.46 | CY42: 8.35 | CZ42: 8.36 | DA42: 8.31 | DB42: 8.58 | DC42: 8.44 | DD42: 8.53 | DE42: 8.3 | DF42: 7.82 | DG42: 7.79 | DH42: 8.93 | DI42: 8.53 | DJ42: 8.49 | DK42: 8.79 | DL42: 8.96 | DM42: 9.01 | DN42: 9.19 | DO42: 9.48 | DP42: 9.62 | DQ42: 9.69 | DR42: 9.68 | DS42: 9.62 | DT42: 9.72 | DU42: 9.6 | DV42: 9.69 | DW42: 9.55 | DX42: 9.67 | DY42: 9.63 | DZ42: 9.64 | EA42: 9.59 | EB42: 9.67 | EC42: 9.57 | ED42: 9.31 | EE42: 9.09 | EF42: 9.45 | EG42: 9.25 | EH42: 9.62 | EI42: 9.42 | EJ42: 9.41 | EK42: 9.57 | EL42: 9.68 | EM42: 9.67 | EN42: 9.68 | EO42: 9.69 | EP42: 9.59 | EQ42: 9.59 | ER42: 9.73 | ES42: 10.02 | ET42: 10.14 | EU42: 10.23 | EV42: 10.38 | EW42: 10.43 | EX42: 10.41 | EY42: 10.37 | EZ42: 10.25 | FA42: 10.23 | FB42: 10.25 | FC42: 10.22 | FD42: 10.43 | FE42: 10.57 | FF42: 10.72 | FG42: 10.77 | FH42: 10.75 | FI42: 10.92 | FJ42: 10.99 | FK42: 11.05 | FL42: 11.08 | FM42: 11.07 | FN42: 11.13 | FO42: 11.01 | FP42: 11.08 | FQ42: 11.23 | FR42: 11.38 | FS42: 11.54 | FT42: 11.63 | FU42: 11.81 | FV42: 12.25 | FW42: 12.57 | FX42: 12.6 | FY42: 12.53 | FZ42: 12.6 | GA42: 12.58 | GB42: 12.59 | GC42: 12.73 | GD42: 12.83 | GE42: 12.88 | GF42: 12.9 | GG42: 12.89 | GH42: 12.92 | GI42: 12.89 | GJ42: 12.85 | GK42: 12.69 | GL42: 12.52 | GM42: 12.54 | GN42: 12.57 | GO42: 12.63 | GP42: 12.82 | GQ42: 13.06 | GR42: 13.31 | GS42: 13.52 | GT42: 13.77 | GU42: 13.82 | GV42: 13.9 | GW42: 13.97 | GX42: 13.87 | GY42: 13.94 | GZ42: 14.01 | HA42: 13.89 | HB42: 13.81 | HC42: 13.84 | HD42: 13.98 | HE42: 13.92 | HF42: 13.87 | HG42: 13.89 | HH42: 13.99 | HI42: 14.04 | HJ42: 14 | HK42: 14.01 | HL42: 13.94 | HM42: 13.96 | HN42: 13.96 | HO42: 13.96 | HP42: 13.89 | HQ42: 13.91 | HR42: 13.7 | HS42: 13.84 | HT42: 13.95 | HU42: 13.92 | HV42: 13.93 | HW42: 13.94 | HX42: 13.98 | HY42: 14.23 | HZ42: 14.3 | IA42: 14.3 | IB42: 14.45 | IC42: 14.5 | ID42: 14.62 | IE42: 14.71 | IF42: 14.7 | IG42: 14.63 | IH42: 14.57 | II42: 14.59 | IJ42: 14.84 | IK42: 14.9 | IL42: 14.96 | IM42: 15.03 | IN42: 15.3 | IO42: 15.76 | IP42: 15.37 | IQ42: 15.69 | IR42: 15.71 | IS42: 15.68 | IT42: 15.48 | IU42: 15.39 | IV42: 15.6 | IW42: 15.84 | IX42: 15.77 | IY42: 15.76 | IZ42: 16.25 | JA42: 16.54 | JB42: 15.95 | JC42: 15.53 | JD42: 15.44 | JE42: 15.52 | JF42: 15.54 | JG42: 15.7 | JH42: 15.69 | JI42: 15.55 | JJ42: 15.78 | JK42: 16.02 | JL42: 16.52 | JM42: 16.74 | JN42: 16.99 | JO42: 17.28 | JP42: 17.32 | JQ42: 17.36 | JR42: 17.9 | JS42: 17.96 | JT42: 18.17 | JU42: 18.24 | JV42: 18.48 | JW42: 18.71 | JX42: 18.65 | JY42: 18.87 | JZ42: 19.36 | KA42: 19.55 | KB42: 19.59 | KC42: 19.54 | KD42: 19.49 | KE42: 19.43 | KF42: 19.45 | KG42: 19.51 | KH42: 19.39 | KI42: 19.38 | KJ42: 19.62 | KK42: 20 | KL42: 20.09 | KM42: 20.22 | KN42: 20.3 | KO42: 20.07 | KP42: 19.9 | KQ42: 19.86 | KR42: 19.98 | KS42: 19.93 | KT42: 19.84 | KU42: 19.75 | KV42: 20.03 | KW42: 20.04 | KX42: 20.05 | KY42: 20.1 | KZ42: 19.93 | LA42: 19.99 | LB42: 20.05 | LC42: 20.14 | LD42: 20.14 | LE42: 20.12 | LF42: 20.13 | LG42: 20.17 | LH42: 20.52 | LI42: 20.76 | LJ42: 20.93 | LK42: ='Average prices'!DO97 -> 20.98 | LL42: =(LK42-KY42)/KY42*100 -> 4.3781095 | LM42: =SUM(LJ42-LK42)/LK42*100 -> -0.23832221
A43: 39 | B43: Milk Low Fat - Fresh | C43: 1L | D43: - | E43: - | F43: - | G43: - | H43: - | I43: - | J43: - | K43: - | L43: - | M43: - | N43: - | O43: - | P43: - | Q43: - | R43: - | S43: - | T43: - | U43: - | V43: - | W43: - | X43: - | Y43: - | Z43: - | AA43: - | AB43: - | AC43: - | AD43: - | AE43: - | AF43: - | AG43: - | AH43: - | AI43: - | AJ43: - | AK43: - | AL43: - | AM43: - | AN43: - | AO43: - | AP43: - | AQ43: - | AR43: - | AS43: - | AT43: - | AU43: - | AV43: - | AW43: - | AX43: - | AY43: - | AZ43: - | BA43: - | BB43: - | BC43: - | BD43: - | BE43: - | BF43: - | BG43: - | BH43: - | BI43: - | BJ43: - | BK43: - | BL43: - | BM43: - | BN43: - | BO43: - | BP43: - | BQ43: - | BR43: - | BS43: - | BT43: - | BU43: - | BV43: - | BW43: - | BX43: - | BY43: - | BZ43: - | CA43: - | CB43: - | CC43: - | CD43: - | CE43: - | CF43: - | CG43: - | CH43: - | CI43: - | CJ43: - | CK43: - | CL43: - | CM43: - | CN43: - | CO43: - | CP43: - | CQ43: - | CR43: - | CS43: - | CT43: - | CU43: - | CV43: 14.76 | KR43: 19.98 | KS43: 19.93 | KT43: 19.84 | KU43: 19.75 | KV43: 20.03 | KW43: 20.04 | KX43: 20.05 | KY43: 20.1 | KZ43: 19.93 | LA43: 19.99 | LB43: 20.05 | LC43: 20.14 | LD43: 20.14 | LE43: 20.12 | LF43: 20.13 | LG43: 20.17 | LH43: 20.49 | LI43: 20.66 | LJ43: 20.46 | LK43: ='Average prices'!DO98 -> 20.31 | LL43: =(LK43-KY43)/KY43*100 -> 1.0447761 | LM43: =SUM(LJ43-LK43)/LK43*100 -> 0.73855244
A44: 40 | B44: Milk Low Fat - Long life | C44: 1L | D44: - | E44: - | F44: - | G44: - | H44: - | I44: - | J44: - | K44: - | L44: - | M44: - | N44: - | O44: - | P44: - | Q44: - | R44: - | S44: - | T44: - | U44: - | V44: - | W44: - | X44: - | Y44: - | Z44: - | AA44: - | AB44: - | AC44: - | AD44: - | AE44: - | AF44: - | AG44: - | AH44: - | AI44: - | AJ44: - | AK44: - | AL44: - | AM44: - | AN44: - | AO44: - | AP44: - | AQ44: - | AR44: - | AS44: - | AT44: - | AU44: - | AV44: - | AW44: - | AX44: - | AY44: - | AZ44: - | BA44: - | BB44: - | BC44: - | BD44: - | BE44: - | BF44: - | BG44: - | BH44: - | BI44: - | BJ44: - | BK44: - | BL44: - | BM44: - | BN44: - | BO44: - | BP44: - | BQ44: - | BR44: - | BS44: - | BT44: - | BU44: - | BV44: - | BW44: - | BX44: - | BY44: - | BZ44: - | CA44: - | CB44: - | CC44: - | CD44: - | CE44: - | CF44: - | CG44: - | CH44: - | CI44: - | CJ44: - | CK44: - | CL44: - | CM44: - | CN44: - | CO44: - | CP44: - | CQ44: - | CR44: - | CS44: - | CT44: - | CU44: - | CV44: 8.46 | CW44: 8.47 | CX44: 8.52 | CY44: 8.53 | CZ44: 8.38 | DA44: 8.45 | DB44: 8.6 | DC44: 8.53 | DD44: 8.72 | DE44: 8.71 | DF44: 8.31 | DG44: 8.39 | DH44: 8.26 | DI44: 8.46 | DJ44: 8.79 | DK44: 8.97 | DL44: 9.13 | DM44: 9 | DN44: 9.18 | DO44: 9.57 | DP44: 9.68 | DQ44: 9.79 | DR44: 9.97 | DS44: 9.8 | DT44: 9.89 | DU44: 9.77 | DV44: 9.72 | DW44: 9.69 | DX44: 9.77 | DY44: 9.89 | DZ44: 9.79 | EA44: 9.66 | EB44: 9.65 | EC44: 9.6 | ED44: 9.24 | EE44: 9.21 | EF44: 9.49 | EG44: 9.41 | EH44: 9.22 | EI44: 9.43 | EJ44: 9.54 | EK44: 9.59 | EL44: 9.73 | EM44: 9.79 | EN44: 9.84 | EO44: 9.94 | EP44: 9.69 | EQ44: 9.63 | ER44: 9.86 | ES44: 10.08 | ET44: 10.23 | EU44: 10.51 | EV44: 10.5 | EW44: 10.62 | EX44: 10.64 | EY44: 10.52 | EZ44: 10.54 | FA44: 10.51 | FB44: 10.44 | FC44: 10.41 | FD44: 10.83 | FE44: 10.81 | FF44: 11.08 | FG44: 11.16 | FH44: 10.75 | FI44: 10.95 | FJ44: 11.07 | FK44: 11.12 | FL44: 11.12 | FM44: 11.03 | FN44: 11.04 | FO44: 11 | FP44: 11.12 | FQ44: 11.24 | FR44: 11.39 | FS44: 11.59 | FT44: 11.73 | FU44: 11.92 | FV44: 12.56 | FW44: 12.59 | FX44: 12.67 | FY44: 12.6 | FZ44: 12.55 | GA44: 12.72 | GB44: 12.65 | GC44: 12.64 | GD44: 12.73 | GE44: 12.8 | GF44: 12.86 | GG44: 12.88 | GH44: 12.86 | GI44: 12.84 | GJ44: 12.72 | GK44: 12.4 | GL44: 12.32 | GM44: 12.44 | GN44: 12.57 | GO44: 12.35 | GP44: 12.53 | GQ44: 12.94 | GR44: 13.27 | GS44: 13.4 | GT44: 13.71 | GU44: 13.72 | GV44: 13.81 | GW44: 13.74 | GX44: 13.74 | GY44: 13.81 | GZ44: 13.92 | HA44: 13.84 | HB44: 13.7 | HC44: 13.64 | HD44: 13.76 | HE44: 13.79 | HF44: 13.77 | HG44: 13.79 | HH44: 13.84 | HI44: 13.93 | HJ44: 13.88 | HK44: 13.85 | HL44: 13.79 | HM44: 13.72 | HN44: 13.75 | HO44: 13.83 | HP44: 13.88 | HQ44: 13.83 | HR44: 13.62 | HS44: 13.67 | HT44: 13.84 | HU44: 13.86 | HV44: 13.82 | HW44: 13.82 | HX44: 13.93 | HY44: 14.07 | HZ44: 14.17 | IA44: 14.21 | IB44: 14.31 | IC44: 14.51 | ID44: 14.49 | IE44: 14.65 | IF44: 14.74 | IG44: 14.73 | IH44: 14.7 | II44: 14.64 | IJ44: 14.7 | IK44: 14.74 | IL44: 14.82 | IM44: 14.77 | IN44: 14.97 | IO44: 15.18 | IP44: 15.71 | IQ44: 16.1 | IR44: 15.29 | IS44: 15.61 | IT44: 15.5 | IU44: 15.27 | IV44: 15.3 | IW44: 16.5 | IX44: 15.96 | IY44: 15.81 | IZ44: 15.99 | JA44: 16.08 | JB44: 15.76 | JC44: 15.77 | JD44: 15.94 | JE44: 15.88 | JF44: 15.87 | JG44: 16.15 | JH44: 16.12 | JI44: 15.83 | JJ44: 16.12 | JK44: 16.32 | JL44: 16.29 | JM44: 16.72 | JN44: 17.31 | JO44: 17.48 | JP44: 17.52 | JQ44: 17.62 | JR44: 18.07 | JS44: 18 | JT44: 18.16 | JU44: 18.47 | JV44: 18.33 | JW44: 18.55 | JX44: 18.91 | JY44: 19.16 | JZ44: 19.32 | KA44: 19.42 | KB44: 19.57 | KC44: 19.63 | KD44: 19.49 | KE44: 19.48 | KF44: 19.59 | KG44: 19.58 | KH44: 19.61 | KI44: 19.59 | KJ44: 19.98 | KK44: 20.14 | KL44: 20.07 | KM44: 20.08 | KN44: 20.13 | KO44: 20.03 | KP44: 19.94 | KQ44: 19.91 | KR44: 19.88 | KS44: 19.84 | KT44: 19.81 | KU44: 19.66 | KV44: 19.85 | KW44: 19.94 | KX44: 19.89 | KY44: 19.87 | KZ44: 19.94 | LA44: 19.95 | LB44: 19.96 | LC44: 19.99 | LD44: 19.99 | LE44: 19.92 | LF44: 19.88 | LG44: 20.09 | LH44: 20.32 | LI44: 20.58 | LJ44: 20.69 | LK44: ='Average prices'!DO100 -> 20.64 | LL44: =(LK44-KY44)/KY44*100 -> 3.8751887 | LM44: =SUM(LJ44-LK44)/LK44*100 -> 0.24224806
A45: 41 | B45: Cheddar cheese | C45: p/kg | GZ45: 98.54 | HA45: 101.78 | HB45: 100.26 | HC45: 100.98 | HD45: 96.96 | HE45: 105.64 | HF45: 102.53 | HG45: 104.28 | HH45: 106.34 | HI45: 106.26 | HJ45: 106.72 | HK45: 106.37 | HL45: 109.96 | HM45: 106.55 | HN45: 101.87 | HO45: 107.17 | HP45: 106.12 | HQ45: 105.23 | HR45: 105.12 | HS45: 100.35 | HT45: 99.53 | HU45: 105.47 | HV45: 104.55 | HW45: 105.77 | HX45: 104.89 | HY45: 101.75 | HZ45: 106.46 | IA45: 104.39 | IB45: 107.73 | IC45: 108.65 | ID45: 107.26 | IE45: 108.85 | IF45: 105.03 | IG45: 103.47 | IH45: 105.92 | II45: 105.03 | IJ45: 108.17 | IK45: 105.63 | IL45: 106.06 | IM45: 112.38 | IT45: 120.32 | IU45: 115.81 | IV45: 114.77 | IY45: 107.32 | IZ45: 99.99 | JA45: 107.74 | JB45: 133.03 | JC45: 134.33 | JD45: 118.99 | JE45: 118.83 | JF45: 116.98 | JG45: 116.98 | JH45: 110.97 | JI45: 122.85 | JJ45: 128.47 | JK45: 118.24 | JL45: 126.52 | JM45: 125.94 | JN45: 125.94 | JO45: 124.63 | JP45: 127.73 | JQ45: 128.72 | JR45: 132.01 | JS45: 131.99 | JT45: 125.66 | JU45: 128.99 | JV45: 137.36 | JW45: 135.11 | JX45: 144.98 | JY45: 144.17 | JZ45: 146.64 | KA45: 144.57 | KB45: 146.57 | KC45: 148.15 | KD45: 143.67 | KE45: 143.04 | KF45: 141.74 | KG45: 141.74 | KH45: 147.06 | KI45: 147.89 | KJ45: 150.99 | KK45: 152.99 | KL45: 152.99 | KM45: 152.99 | KN45: 153.99 | KO45: 144.99 | KP45: 139.99 | KQ45: 139.99 | KR45: 146.66 | KS45: 148.32 | KT45: 151.99 | KU45: 157.48 | KV45: 150.81 | KW45: 153.99 | KX45: 158.32 | KY45: 163.3 | KZ45: 160.69 | LA45: 158.72 | LB45: 159.26 | LC45: 154.97 | LD45: 164.14 | LE45: 164.14 | LF45: 158.72 | LG45: 159.35 | LH45: 163.1 | LI45: 163.1 | LJ45: 163.1 | LK45: ='Average prices'!DO107 -> 159.35 | LL45: =(LK45-KY45)/KY45*100 -> -2.418861 | LM45: =SUM(LJ45-LK45)/LK45*100 -> 2.3533103
A46: 42 | B46: Gouda cheese | C46: 900gr | GZ46: 93.48 | HA46: 101.98 | HB46: 102.07 | HC46: 100.74 | HD46: 104.43 | HE46: 107.41 | HF46: 103.48 | HG46: 105.1 | HH46: 103.75 | HI46: 102.54 | HJ46: 100.02 | HK46: 96.53 | HL46: 103.78 | HM46: 103.89 | HN46: 102.93 | HO46: 102.95 | HP46: 101.43 | HQ46: 104.82 | HR46: 106.24 | HS46: 104.48 | HT46: 108.67 | HU46: 99.02 | HV46: 107.3 | HW46: 98.9 | HX46: 106.55 | HY46: 108.46 | HZ46: 106.44 | IA46: 104.86 | IB46: 105.33 | IC46: 107.59 | ID46: 106.1 | IE46: 112.64 | IF46: 112.76 | IG46: 107.78 | IH46: 112.47 | II46: 104.1 | IJ46: 101.32 | IK46: 111.31 | IL46: 112.55 | IM46: 103.32 | IN46: 102.49 | IO46: 104.99 | IP46: 121.95 | IQ46: 113.61 | IR46: 121.34 | IS46: 120.12 | IT46: 123.95 | IU46: 112.43 | IV46: 115.78 | IW46: 126.23 | IX46: 132.74 | IY46: 132.31 | IZ46: 130.29 | JA46: 131.47 | JB46: 119.9 | JC46: 119.9 | JD46: 116.86 | JE46: 124.71 | JF46: 129.33 | JG46: 129.67 | JH46: 130.69 | JI46: 127.99 | JJ46: 127.37 | JK46: 132.64 | JL46: 134.62 | JM46: 136 | JN46: 130.39 | JO46: 134.95 | JP46: 136.22 | JQ46: 137.91 | JR46: 137.87 | JS46: 135.41 | JT46: 138.63 | JU46: 149.92 | JV46: 148.9 | JW46: 151.99 | JX46: 152.56 | JY46: 158.27 | JZ46: 158.21 | KA46: 148.17 | KB46: 149.95 | KC46: 149.95 | KD46: 151.2 | KE46: 153.81 | KF46: 153.86 | KG46: 154.6 | KH46: 153.51 | KI46: 146.62 | KJ46: 146.79 | KK46: 156.39 | KL46: 156.64 | KM46: 151.23 | KN46: 154.23 | KO46: 150.51 | KP46: 155.04 | KQ46: 150.51 | KR46: 152.54 | KS46: 156.29 | KT46: 156.31 | KU46: 159.35 | KV46: 152.4 | KW46: 162.14 | KX46: 156.74 | KY46: 163.55 | KZ46: 159.18 | LA46: 157.32 | LB46: 165.93 | LC46: 157.88 | LD46: 162.99 | LE46: 164.93 | LF46: 162.37 | LG46: 168.82 | LH46: 169.82 | LI46: 173.51 | LJ46: 174.99 | LK46: ='Average prices'!DO111 -> 174.99 | LL46: =(LK46-KY46)/KY46*100 -> 6.9948028 | LM46: =SUM(LJ46-LK46)/LK46*100 -> 0
A47: 43 | B47: Sour milk | C47: 1kg | KR47: 22.43 | KS47: 22.43 | KT47: 22.12 | KU47: 23.24 | KV47: 22.99 | KW47: 22.87 | KX47: 23.28 | KY47: 23.12 | KZ47: 22.12 | LA47: 22.24 | LB47: 22.24 | LC47: 22.23 | LD47: 22.24 | LE47: 22.46 | LF47: 21.81 | LG47: 22.28 | LH47: 22.88 | LI47: 23.29 | LJ47: 23.34 | LK47: ='Average prices'!DO122 -> 23.59 | LL47: =(LK47-KY47)/KY47*100 -> 2.032872 | LM47: =SUM(LJ47-LK47)/LK47*100 -> -1.0597711
A48: 44 | B48: Maize based food drink (Amageu ) | C48: 1L | GZ48: 13.15 | HA48: 13.11 | HB48: 13.01 | HC48: 12.89 | HD48: 13.38 | HE48: 13.37 | HF48: 13.34 | HG48: 13.6 | HH48: 13.62 | HI48: 13.56 | HJ48: 13.28 | HK48: 13.08 | HL48: 12.78 | HM48: 13.29 | HN48: 13.34 | HO48: 13.13 | HP48: 13.58 | HQ48: 13.95 | HR48: 13.97 | HS48: 13.93 | HT48: 14.11 | HU48: 14.18 | HV48: 13.46 | HW48: 13.95 | HX48: 13.79 | HY48: 14.07 | HZ48: 14.48 | IA48: 14.83 | IB48: 15.27 | IC48: 15.05 | ID48: 15.22 | IE48: 15.23 | IF48: 15.08 | IG48: 14.98 | IH48: 15.5 | II48: 15.33 | IJ48: 15.47 | IK48: 15.51 | IL48: 15.6 | IM48: 15.7 | IN48: 17.69 | IO48: 18.37 | IP48: 18.18 | IQ48: 17.05 | IR48: 14.86 | IS48: 14.91 | IT48: 15.43 | IU48: 16.25 | IV48: 17.3 | IW48: 17.33 | IX48: 16.06 | IY48: 16.1 | IZ48: 16.28 | JA48: 16.59 | JB48: 15.58 | JC48: 16.75 | JD48: 16.29 | JE48: 16.81 | JF48: 17.19 | JG48: 15.93 | JH48: 15.67 | JI48: 17.33 | JJ48: 17.26 | JK48: 16.94 | JL48: 16.79 | JM48: 16.92 | JN48: 16.46 | JO48: 15.96 | JP48: 16.6 | JQ48: 16.71 | JR48: 17.52 | JS48: 17.3 | JT48: 17.54 | JU48: 17.68 | JV48: 17.74 | JW48: 17.81 | JX48: 17.77 | JY48: 17.91 | JZ48: 19.62 | KA48: 19.6 | KB48: 19.61 | KC48: 19.36 | KD48: 19.3 | KE48: 19.39 | KF48: 19.27 | KG48: 19.2 | KH48: 19.98 | KI48: 19.88 | KJ48: 19.91 | KK48: 20.22 | KL48: 21.24 | KM48: 21.27 | KN48: 21.07 | KO48: 21.46 | KP48: 21.41 | KQ48: 21.25 | KR48: 21.17 | KS48: 21 | KT48: 21.48 | KU48: 20.96 | KV48: 21.03 | KW48: 21.32 | KX48: 21.75 | KY48: 22.06 | KZ48: 22.09 | LA48: 21.83 | LB48: 21.91 | LC48: 22.4 | LD48: 22.31 | LE48: 22.54 | LF48: 22.42 | LG48: 22.78 | LH48: 22.69 | LI48: 22.79 | LJ48: 22.42 | LK48: ='Average prices'!DO124 -> 23.07 | LL48: =(LK48-KY48)/KY48*100 -> 4.5784225 | LM48: =SUM(LJ48-LK48)/LK48*100 -> -2.8175119
A49: 45 | B49: Eggs | C49: 0.5Doz | D49: 2.69 | E49: 2.69 | F49: 2.77 | G49: 2.76 | H49: 2.87 | I49: 2.88 | J49: 2.89 | K49: 2.99 | L49: 3.01 | M49: 3.07 | N49: 2.93 | O49: 3.01 | P49: 3.02 | Q49: 3.12 | R49: 3.16 | S49: 3.23 | T49: 3.28 | U49: 3.28 | V49: 3.32 | W49: 3.31 | X49: 3.29 | Y49: 3.32 | Z49: 3.37 | AA49: 3.45 | AB49: 3.51 | AC49: 3.5 | AD49: 3.68 | AE49: 3.86 | AF49: 3.88 | AG49: 3.85 | AH49: 3.88 | AI49: 3.88 | AJ49: 3.77 | AK49: 4.55 | AL49: 4.64 | AM49: 4.67 | AN49: 4.71 | AO49: 4.73 | AP49: 4.73 | AQ49: 4.76 | AR49: 4.76 | AS49: 4.73 | AT49: 4.87 | AU49: 4.81 | AV49: 4.82 | AW49: 4.87 | AX49: 4.88 | AY49: 4.77 | AZ49: 4.86 | BA49: 4.86 | BB49: 4.96 | BC49: 4.97 | BD49: 4.97 | BE49: 4.97 | BF49: 4.97 | BG49: 4.97 | BH49: 4.96 | BI49: 4.96 | BJ49: 4.95 | BK49: 4.95 | BL49: 4.96 | BM49: 4.84 | BN49: 4.91 | BO49: 4.94 | BP49: 4.92 | BQ49: 4.91 | BR49: 5.31 | BS49: 5.31 | BT49: 5.32 | BU49: 5.27 | BV49: 5.28 | BW49: 5.29 | BX49: 4.96 | BY49: 5.04 | BZ49: 4.99 | CA49: 5.05 | CB49: 4.94 | CC49: 5.11 | CD49: 5.05 | CE49: 5.17 | CF49: 5.11 | CG49: 5.22 | CH49: 5.3 | CI49: 5.38 | CJ49: 5.41 | CK49: 5.46 | CL49: 5.44 | CM49: 5.67 | CN49: 5.71 | CO49: 5.79 | CP49: 6.03 | CQ49: 5.97 | CR49: 6.1 | CS49: 6.23 | CT49: 6.24 | CU49: 6.34 | CV49: 6.83 | CW49: 6.86 | CX49: 7.05 | CY49: 7.04 | CZ49: 7.36 | DA49: 7.62 | DB49: 7.39 | DC49: 7.41 | DD49: 7.41 | DE49: 7.55 | DF49: 7.82 | DG49: 8.09 | DH49: 8.77 | DI49: 8.68 | DJ49: 8.62 | DK49: 8.79 | DL49: 8.71 | DM49: 8.73 | DN49: 8.8 | DO49: 8.81 | DP49: 8.89 | DQ49: 9.09 | DR49: 9.37 | DS49: 9.3 | DT49: 9.36 | DU49: 9.4 | DV49: 9.38 | DW49: 9.36 | DX49: 9.3 | DY49: 9.28 | DZ49: 9.21 | EA49: 9.13 | EB49: 9.22 | EC49: 9.33 | ED49: 9.3 | EE49: 9.38 | EF49: 9.35 | EG49: 9.29 | EH49: 9.31 | EI49: 9.22 | EJ49: 9.14 | EK49: 9.34 | EL49: 9.29 | EM49: 9.23 | EN49: 9.28 | EO49: 9.23 | EP49: 9.22 | EQ49: 9.39 | ER49: 9.4 | ES49: 9.55 | ET49: 9.5 | EU49: 9.73 | EV49: 9.69 | EW49: 9.69 | EX49: 9.74 | EY49: 9.9 | EZ49: 10.01 | FA49: 10.01 | FB49: 10.29 | FC49: 10.6 | FD49: 9.5 | FE49: 9.49 | FF49: 9.66 | FG49: 9.68 | FH49: 9.49 | FI49: 9.65 | FJ49: 9.53 | FK49: 9.64 | FL49: 9.6 | FM49: 9.83 | FN49: 9.86 | FO49: 10.22 | FP49: 10.22 | FQ49: 10.27 | FR49: 10.45 | FS49: 10.55 | FT49: 10.68 | FU49: 10.71 | FV49: 10.7 | FW49: 10.66 | FX49: 10.88 | FY49: 12.29 | FZ49: 12.37 | GA49: 12.43 | GB49: 12.3 | GC49: 12.57 | GD49: 12.52 | GE49: 12.58 | GF49: 12.79 | GG49: 12.6 | GH49: 12.38 | GI49: 12.63 | GJ49: 13.02 | GK49: 13.32 | GL49: 13.63 | GM49: 13.54 | GN49: 13.68 | GO49: 14 | GP49: 14.16 | GQ49: 14.27 | GR49: 13.9 | GS49: 14.61 | GT49: 14.46 | GU49: 14.61 | GV49: 14.63 | GW49: 15.3 | GX49: 14.84 | GY49: 14.78 | GZ49: 14.73 | HA49: 14.71 | HB49: 14.76 | HC49: 15.07 | HD49: 14.64 | HE49: 14.44 | HF49: 14.69 | HG49: 14.73 | HH49: 14.75 | HI49: 15.2 | HJ49: 15.69 | HK49: 16.03 | HL49: 16.5 | HM49: 16.4 | HN49: 16.44 | HO49: 16.56 | HP49: 16.64 | HQ49: 17.05 | HR49: 16.88 | HS49: 17.09 | HT49: 17.14 | HU49: 18.6 | HV49: 18.28 | HW49: 17.39 | HX49: 17.16 | HY49: 16.97 | HZ49: 16.74 | IA49: 16.72 | IB49: 16.79 | IC49: 16.91 | ID49: 16.66 | IE49: 16.74 | IF49: 16.59 | IG49: 16.64 | IH49: 16.56 | II49: 16.36 | IJ49: 16.01 | IK49: 15.87 | IL49: 15.93 | IM49: 26.41 | IN49: 18.82 | IO49: 21.74 | IP49: 20.97 | IQ49: 22 | IR49: 20.95 | IS49: 18.43 | IT49: 16.01 | IU49: 18.8 | IV49: 17.15 | IW49: 19.03 | IX49: 18.95 | IY49: 18.73 | IZ49: 19 | JA49: 19.31 | JB49: 20.25 | JC49: 20.32 | JD49: 18.92 | JE49: 19.71 | JF49: 19.02 | JG49: 19.85 | JH49: 20.36 | JI49: 20.65 | JJ49: 21.37 | JK49: 20.38 | JL49: 19.9 | JM49: 21.36 | JN49: 21.61 | JO49: 20.81 | JP49: 20.54 | JQ49: 20.76 | JR49: 20.61 | JS49: 20.8 | JT49: 20.88 | JU49: 21.13 | JV49: 21.25 | JW49: 21.59 | JX49: 22.14 | JY49: 20.59 | JZ49: 21.07 | KA49: 20.8 | KB49: 20.51 | KC49: 21.63 | KD49: 24.9 | KE49: 25.85 | KF49: 25.44 | KG49: 25.48 | KH49: 25.26 | KI49: 25.25 | KJ49: 25.04 | KK49: 24.96 | KL49: 24.79 | KM49: 24.68 | KN49: 24.91 | KO49: 25.21 | KP49: 25.14 | KQ49: 24.81 | KR49: 24.51 | KS49: 24.42 | KT49: 24.15 | KU49: 23.92 | KV49: 23.95 | KW49: 23.84 | KX49: 23.87 | KY49: 23.78 | KZ49: 23.5 | LA49: 23.07 | LB49: 23.02 | LC49: 23.04 | LD49: 22.9 | LE49: 22.92 | LF49: 22.79 | LG49: 22.77 | LH49: 22.79 | LI49: 22.44 | LJ49: 22.42 | LK49: ='Average prices'!DO128 -> 22.97 | LL49: =(LK49-KY49)/KY49*100 -> -3.4062237 | LM49: =SUM(LJ49-LK49)/LK49*100 -> -2.3944275
A50: 46 | B50: Sunflower Oil | C50: 750ml | D50: 4.65 | E50: 4.68 | F50: 4.49 | G50: 4.48 | H50: 4.32 | I50: 4.33 | J50: 4.34 | K50: 4.31 | L50: 4.3 | M50: 4.26 | N50: 4.22 | O50: 4.32 | P50: 4.28 | Q50: 4.24 | R50: 4.3 | S50: 4.35 | T50: 4.36 | U50: 4.44 | V50: 4.58 | W50: 4.75 | X50: 4.98 | Y50: 5.18 | Z50: 5.34 | AA50: 5.49 | AB50: 5.69 | AC50: 6.05 | AD50: 6.28 | AE50: 6.62 | AF50: 6.72 | AG50: 6.61 | AH50: 7.01 | AI50: 6.9 | AJ50: 7.1 | AK50: 7.14 | AL50: 7.45 | AM50: 7.42 | AN50: 7.57 | AO50: 7.57 | AP50: 7.59 | AQ50: 7.31 | AR50: 7.38 | AS50: 7.39 | AT50: 7.22 | AU50: 7.09 | AV50: 7.29 | AW50: 7.4 | AX50: 7.27 | AY50: 7.13 | AZ50: 7.41 | BA50: 7.48 | BB50: 7.48 | BC50: 7.57 | BD50: 7.55 | BE50: 7.52 | BF50: 7.48 | BG50: 7.53 | BH50: 7.43 | BI50: 7.43 | BJ50: 7.48 | BK50: 7.53 | BL50: 7.56 | BM50: 7.54 | BN50: 7.49 | BO50: 7.51 | BP50: 7.25 | BQ50: 7.3 | BR50: 7.21 | BS50: 7.13 | BT50: 7.18 | BU50: 6.95 | BV50: 6.95 | BW50: 7 | BX50: 6.56 | BY50: 6.49 | BZ50: 6.6 | CA50: 6.3 | CB50: 6.56 | CC50: 6.53 | CD50: 6.56 | CE50: 6.82 | CF50: 7.26 | CG50: 7.34 | CH50: 7.36 | CI50: 7.5 | CJ50: 7.65 | CK50: 7.66 | CL50: 7.76 | CM50: 7.8 | CN50: 7.81 | CO50: 7.89 | CP50: 8.21 | CQ50: 8.57 | CR50: 8.92 | CS50: 9.17 | CT50: 9.62 | CU50: 11.32 | CV50: 12.7 | CW50: 13.15 | CX50: 14.19 | CY50: 15.83 | CZ50: 16.14 | DA50: 16.57 | DB50: 16.35 | DC50: 16.25 | DD50: 15.9 | DE50: 15.51 | DF50: 14.78 | DG50: 14.77 | DH50: 16.37 | DI50: 16.06 | DJ50: 15.1 | DK50: 14.3 | DL50: 13.92 | DM50: 13.71 | DN50: 13.28 | DO50: 13.1 | DP50: 12.95 | DQ50: 12.81 | DR50: 12.84 | DS50: 13 | DT50: 12.81 | DU50: 13.05 | DV50: 12.84 | DW50: 12.61 | DX50: 12.91 | DY50: 13.05 | DZ50: 13.06 | EA50: 13.45 | EB50: 13.42 | EC50: 13.44 | ED50: 13.99 | EE50: 14.49 | EF50: 15.85 | EG50: 16.26 | EH50: 16.37 | EI50: 16.33 | EJ50: 16.28 | EK50: 15.7 | EL50: 15.76 | EM50: 15.8 | EN50: 15.56 | EO50: 16.01 | EP50: 16.48 | EQ50: 16.65 | ER50: 16.9 | ES50: 16.92 | ET50: 16.91 | EU50: 16.54 | EV50: 16.18 | EW50: 16.42 | EX50: 16.67 | EY50: 16.82 | EZ50: 16.77 | FA50: 16.69 | FB50: 17.33 | FC50: 17.36 | FD50: 17.25 | FE50: 17.33 | FF50: 17.46 | FG50: 17.02 | FH50: 17.03 | FI50: 17.2 | FJ50: 17.13 | FK50: 17.17 | FL50: 17.24 | FM50: 17.29 | FN50: 17.33 | FO50: 17.43 | FP50: 17.37 | FQ50: 17.41 | FR50: 17.94 | FS50: 17.97 | FT50: 17.37 | FU50: 17.51 | FV50: 17.28 | FW50: 16.99 | FX50: 16.93 | FY50: 17.35 | FZ50: 17.07 | GA50: 17.87 | GB50: 17.25 | GC50: 17.21 | GD50: 17.82 | GE50: 17.82 | GF50: 18.02 | GG50: 18.17 | GH50: 17.96 | GI50: 18.49 | GJ50: 18.36 | GK50: 19.28 | GL50: 20.23 | GM50: 20.76 | GN50: 21.49 | GO50: 22.03 | GP50: 22.13 | GQ50: 22.46 | GR50: 22.66 | GS50: 22.91 | GT50: 23 | GU50: 22.82 | GV50: 22.57 | GW50: 22.59 | GX50: 22.63 | GY50: 22.51 | GZ50: 22.48 | HA50: 22.58 | HB50: 22.5 | HC50: 22.51 | HD50: 22.33 | HE50: 21.87 | HF50: 21.77 | HG50: 21.87 | HH50: 21.84 | HI50: 22.22 | HJ50: 22.24 | HK50: 22.06 | HL50: 22.29 | HM50: 22.52 | HN50: 22.47 | HO50: 22.49 | HP50: 22.28 | HQ50: 21.91 | HR50: 21.47 | HS50: 22.26 | HT50: 22.28 | HU50: 22.49 | HV50: 22.88 | HW50: 22.88 | HX50: 22.96 | HY50: 22.75 | HZ50: 22.77 | IA50: 22.62 | IB50: 21.99 | IC50: 21.64 | ID50: 21.85 | IE50: 21.9 | IF50: 21.9 | IG50: 21.94 | IH50: 21.68 | II50: 21.87 | IJ50: 21.95 | IK50: 22.49 | IL50: 22.78 | IM50: 29.78 | IN50: 20.99 | IO50: 20.99 | IP50: 22.22 | IQ50: 22.72 | IR50: 23.84 | IS50: 24.11 | IT50: 24.66 | IU50: 25.37 | IV50: 24.25 | IW50: 25.12 | IX50: 26.85 | IY50: 27.61 | IZ50: 29.39 | JA50: 29.45 | JB50: 28.59 | JC50: 28.2 | JD50: 30.98 | JE50: 29.99 | JF50: 30.03 | JG50: 30.22 | JH50: 31.12 | JI50: 31.72 | JJ50: 31.24 | JK50: 34.89 | JL50: 40.68 | JM50: 43.97 | JN50: 45.33 | JO50: 44.51 | JP50: 41.38 | JQ50: 40.06 | JR50: 38.12 | JS50: 38.71 | JT50: 37.27 | JU50: 37.47 | JV50: 36.82 | JW50: 36.34 | JX50: 35.52 | JY50: 35.57 | JZ50: 35.06 | KA50: 35.42 | KB50: 35.98 | KC50: 36.01 | KD50: 36.04 | KE50: 35.82 | KF50: 35.64 | KG50: 35.38 | KH50: 35.18 | KI50: 34.82 | KJ50: 35.12 | KK50: 34.92 | KL50: 34.89 | KM50: 34.89 | KN50: 34.49 | KO50: 35 | KP50: 35.15 | KQ50: 35.49 | KR50: 35.53 | KS50: 35.83 | KT50: 35.77 | KU50: 36.18 | KV50: 36.51 | KW50: 36.68 | KX50: 36.59 | KY50: 36.58 | KZ50: 36.86 | LA50: 36.8 | LB50: 37 | LC50: 36.93 | LD50: 37.05 | LE50: 37.03 | LF50: 37.01 | LG50: 37.23 | LH50: 37.43 | LI50: 37.77 | LJ50: 37.97 | LK50: ='Average prices'!DO131 -> 38 | LL50: =(LK50-KY50)/KY50*100 -> 3.8819027 | LM50: =SUM(LJ50-LK50)/LK50*100 -> -0.078947368
A51: 47 | B51: Margarine Spread | C51: 500gr | D51: - | E51: - | F51: - | G51: - | H51: - | I51: - | J51: - | K51: - | L51: - | M51: - | N51: - | O51: - | P51: - | Q51: - | R51: - | S51: - | T51: - | U51: - | V51: - | W51: - | X51: - | Y51: - | Z51: - | AA51: - | AB51: - | AC51: - | AD51: - | AE51: - | AF51: - | AG51: - | AH51: - | AI51: - | AJ51: - | AK51: - | AL51: - | AM51: - | AN51: - | AO51: - | AP51: - | AQ51: - | AR51: - | AS51: - | AT51: - | AU51: - | AV51: - | AW51: - | AX51: - | AY51: - | AZ51: - | BA51: - | BB51: - | BC51: - | BD51: - | BE51: - | BF51: - | BG51: - | BH51: - | BI51: - | BJ51: - | BK51: - | BL51: - | BM51: - | BN51: - | BO51: - | BP51: - | BQ51: - | BR51: - | BS51: - | BT51: - | BU51: - | BV51: - | BW51: - | BX51: - | BY51: - | BZ51: - | CA51: - | CB51: - | CC51: - | CD51: - | CE51: - | CF51: - | CG51: - | CH51: - | CI51: - | CJ51: - | CK51: - | CL51: - | CM51: - | CN51: - | CO51: - | CP51: - | CQ51: - | CR51: - | CS51: - | CT51: - | CU51: - | CV51: 10.23 | CW51: 9.89 | CX51: 10.79 | CY51: 11.51 | CZ51: 11.83 | DA51: 13.01 | DB51: 13.88 | DC51: 14.17 | DD51: 15.17 | DE51: 15.35 | DF51: 15.65 | DG51: 15.82 | DH51: 16.23 | DI51: 15.87 | DJ51: 16.02 | DK51: 15.62 | DL51: 15.68 | DM51: 15.93 | DN51: 15.2 | DO51: 15.38 | DP51: 15.51 | DQ51: 15.53 | DR51: 15.23 | DS51: 15.21 | DT51: 15.27 | DU51: 15.23 | DV51: 15.2 | DW51: 15.2 | DX51: 15.35 | DY51: 15.22 | DZ51: 15.04 | EA51: 14.98 | EB51: 15.06 | EC51: 15.13 | ED51: 15.28 | EE51: 15.35 | EF51: 15.74 | EG51: 15.68 | EH51: 16.96 | EI51: 18.09 | EJ51: 18.75 | EK51: 18.87 | EL51: 19.11 | EM51: 18.98 | EN51: 18.71 | EO51: 18.68 | EP51: 18.53 | EQ51: 18.64 | ER51: 18.41 | ES51: 18.67 | ET51: 18.71 | EU51: 18.51 | EV51: 18.53 | EW51: 18.4 | EX51: 18.72 | EY51: 18.65 | EZ51: 18.79 | FA51: 18.62 | FB51: 18.63 | FC51: 18.79 | FD51: 18.97 | FE51: 18.94 | FF51: 19.01 | FG51: 19.31 | FH51: 19.15 | FI51: 19.22 | FJ51: 18.99 | FK51: 19.26 | FL51: 19.9 | FM51: 19.62 | FN51: 19.99 | FO51: 20.13 | FP51: 20.12 | FQ51: 20.34 | FR51: 20.37 | FS51: 20.5 | FT51: 20.63 | FU51: 20.46 | FV51: 20.31 | FW51: 20.5 | FX51: 20.26 | FY51: 20.32 | FZ51: 21.02 | GA51: 20.74 | GB51: 21.68 | GC51: 21.66 | GD51: 22.29 | GE51: 22.04 | GF51: 22 | GG51: 21.83 | GH51: 21.99 | GI51: 22.85 | GJ51: 22.81 | GK51: 22.9 | GL51: 22.27 | GM51: 22.68 | GN51: 22.64 | GO51: 22.85 | GP51: 23.62 | GQ51: 23.63 | GR51: 24.11 | GS51: 23.91 | GT51: 24.09 | GU51: 24.84 | GV51: 24.85 | GW51: 24.77 | GX51: 24.67 | GY51: 24.99 | GZ51: 24.87 | HA51: 25 | HB51: 25.29 | HC51: 25.23 | HD51: 25.65 | HE51: 25.94 | HF51: 27.55 | HG51: 27.38 | HH51: 27.42 | HI51: 27.72 | HJ51: 28.1 | HK51: 27.9 | HL51: 27.92 | HM51: 27.43 | HN51: 27.35 | HO51: 27.37 | HP51: 26.6 | HQ51: 26.91 | HR51: 27.09 | HS51: 26.95 | HT51: 26.78 | HU51: 26.94 | HV51: 27.05 | HW51: 27.07 | HX51: 27.05 | HY51: 26.59 | HZ51: 27.05 | IA51: 27.26 | IB51: 27.4 | IC51: 26.92 | ID51: 27.1 | IE51: 27.06 | IF51: 26.91 | IG51: 26.84 | IH51: 26.89 | II51: 26.85 | IJ51: 27 | IK51: 27.33 | IL51: 27.53 | IM51: 27.05 | IN51: 23.49 | IO51: 23.49 | IP51: 24.12 | IQ51: 24.44 | IR51: 24.8 | IS51: 25.41 | IT51: 26.03 | IU51: 26.32 | IV51: 24.83 | IW51: 25.97 | IX51: 25.63 | IY51: 27.19 | IZ51: 35.97 | JA51: 30.96 | JB51: 27.44 | JC51: 30.63 | JD51: 32.23 | JE51: 33.28 | JF51: 33.39 | JG51: 34.87 | JH51: 34.74 | JI51: 33.13 | JJ51: 33.64 | JK51: 35.14 | JL51: 36.29 | JM51: 36.6 | JN51: 31.73 | JO51: 34.59 | JP51: 33.5 | JQ51: 34 | JR51: 35.13 | JS51: 36.87 | JT51: 36.73 | JU51: 35.46 | JV51: 35.55 | JW51: 37.01 | JX51: 37.2 | JY51: 36.82 | JZ51: 37.64 | KA51: 38.08 | KB51: 38.08 | KC51: 38.04 | KD51: 38.3 | KE51: 38.62 | KF51: 38.88 | KG51: 39.04 | KH51: 39.03 | KI51: 39.15 | KJ51: 39.65 | KK51: 39.5 | KL51: 39.57 | KM51: 39.55 | KN51: 38.99 | KO51: 39.77 | KP51: 39.67 | KQ51: 39.7 | KR51: 39.81 | KS51: 40.13 | KT51: 39.61 | KU51: 40.37 | KV51: 40.28 | KW51: 40.27 | KX51: 40.15 | KY51: 40.1 | KZ51: 40.14 | LA51: 40.3 | LB51: 40.01 | LC51: 40.35 | LD51: 40.62 | LE51: 40.55 | LF51: 40.52 | LG51: 40.12 | LH51: 40.01 | LI51: 40.24 | LJ51: 39.76 | LK51: ='Average prices'!DO136 -> 40.12 | LL51: =(LK51-KY51)/KY51*100 -> 0.049875312 | LM51: =SUM(LJ51-LK51)/LK51*100 -> -0.89730808
A52: 48 | B52: Margarine Brick | C52: 500gr | D52: 5.59 | E52: 5.85 | F52: 5.71 | G52: 5.73 | H52: 5.7 | I52: 5.73 | J52: 5.52 | K52: 5.65 | L52: 5.69 | M52: 5.66 | N52: 5.75 | O52: 5.6 | P52: 5.65 | Q52: 5.86 | R52: 5.69 | S52: 5.78 | T52: 5.66 | U52: 5.81 | V52: 5.95 | W52: 5.83 | X52: 6.05 | Y52: 5.99 | Z52: 5.99 | AA52: 6.04 | AB52: 5.87 | AC52: 5.7 | AD52: 5.91 | AE52: 5.56 | AF52: 5.49 | AG52: 5.68 | AH52: 5.68 | AI52: 5.71 | AJ52: 5.61 | AK52: 5.62 | AL52: 5.66 | AM52: 5.74 | AN52: 5.71 | AO52: 5.61 | AP52: 5.86 | AQ52: 5.91 | AR52: 5.59 | AS52: 6.03 | AT52: 6.89 | AU52: 6.86 | AV52: 6.59 | AW52: 6.99 | AX52: 7.16 | AY52: 7.05 | AZ52: 7.16 | BA52: 7.47 | BB52: 7.52 | BC52: 7.36 | BD52: 7.18 | BE52: 7.45 | BF52: 7.43 | BG52: 7.19 | BH52: 7.25 | BI52: 7.11 | BJ52: 7.52 | BK52: 7.53 | BL52: 7.45 | BM52: 7.27 | BN52: 7.44 | BO52: 7.4 | BP52: 7.13 | BQ52: 7.48 | BR52: 7.37 | BS52: 7.28 | BT52: 7.29 | BU52: 7.32 | BV52: 7.31 | BW52: 7.43 | BX52: 7.25 | BY52: 7.2 | BZ52: 7.38 | CA52: 7.38 | CB52: 7.34 | CC52: 7.38 | CD52: 7.47 | CE52: 7.41 | CF52: 7.25 | CG52: 7.51 | CH52: 7.41 | CI52: 7.54 | CJ52: 7.69 | CK52: 7.58 | CL52: 7.64 | CM52: 7.64 | CN52: 7.86 | CO52: 7.88 | CP52: 8.15 | CQ52: 8.15 | CR52: 8.54 | CS52: 8.97 | CT52: 9.08 | CU52: 9.03 | CV52: 9.29 | CW52: 8.83 | CX52: 10.21 | CY52: 10.3 | CZ52: 10.65 | DA52: 11.98 | DB52: 12.29 | DC52: 12.55 | DD52: 14.3 | DE52: 14.69 | DF52: 14.54 | DG52: 14.44 | DH52: 14.23 | DI52: 13.67 | DJ52: 14.03 | DK52: 13.84 | DL52: 13.37 | DM52: 13.71 | DN52: 13.31 | DO52: 13.18 | DP52: 13.4 | DQ52: 13.1 | DR52: 13.06 | DS52: 13 | DT52: 12.88 | DU52: 12.8 | DV52: 12.83 | DW52: 12.68 | DX52: 12.63 | DY52: 12.58 | DZ52: 12.71 | EA52: 12.68 | EB52: 12.57 | EC52: 12.7 | ED52: 12.61 | EE52: 12.91 | EF52: 12.98 | EG52: 13.37 | EH52: 14.49 | EI52: 14.7 | EJ52: 15.94 | EK52: 16.17 | EL52: 16.24 | EM52: 16.03 | EN52: 16.51 | EO52: 15.75 | EP52: 15.77 | EQ52: 15.7 | ER52: 15.94 | ES52: 15.87 | ET52: 16.22 | EU52: 16.17 | EV52: 15.8 | EW52: 15.97 | EX52: 16.3 | EY52: 15.92 | EZ52: 16.31 | FA52: 16.41 | FB52: 16.17 | FC52: 16.1 | FD52: 16.51 | FE52: 16.61 | FF52: 16.5 | FG52: 16.49 | FH52: 16.68 | FI52: 16.11 | FJ52: 16.27 | FK52: 16.74 | FL52: 17.22 | FM52: 17.03 | FN52: 17.43 | FO52: 17.17 | FP52: 17.62 | FQ52: 17.89 | FR52: 17.96 | FS52: 17.98 | FT52: 18.18 | FU52: 18.14 | FV52: 17.84 | FW52: 18 | FX52: 18.08 | FY52: 17.92 | FZ52: 17.9 | GA52: 17.53 | GB52: 18.47 | GC52: 19.08 | GD52: 19.38 | GE52: 18.99 | GF52: 19.05 | GG52: 19.4 | GH52: 19.42 | GI52: 19.94 | GJ52: 20.45 | GK52: 20.34 | GL52: 20.51 | GM52: 20.24 | GN52: 19.95 | GO52: 20.79 | GP52: 20.82 | GQ52: 20.23 | GR52: 21.21 | GS52: 21.41 | GT52: 22.33 | GU52: 22.63 | GV52: 22.4 | GW52: 22.76 | GX52: 21.81 | GY52: 21.86 | GZ52: 22.82 | HA52: 22.35 | HB52: 22.28 | HC52: 21.58 | HD52: 22.04 | HE52: 22.33 | HF52: 22.53 | HG52: 22.09 | HH52: 22.33 | HI52: 22.44 | HJ52: 21.69 | HK52: 22.38 | HL52: 22.89 | HM52: 22.7 | HN52: 22.34 | HO52: 21.52 | HP52: 22.35 | HQ52: 22.39 | HR52: 22.27 | HS52: 22.55 | HT52: 22.12 | HU52: 22.19 | HV52: 22.44 | HW52: 22.17 | HX52: 22.71 | HY52: 22.5 | HZ52: 22.31 | IA52: 21.97 | IB52: 21.29 | IC52: 22.13 | ID52: 21.54 | IE52: 21.98 | IF52: 21.79 | IG52: 22.18 | IH52: 21.95 | II52: 22.13 | IJ52: 22.55 | IK52: 22.44 | IL52: 21.25 | IM52: 24.6 | IN52: 22.82 | IO52: 22.71 | IP52: 21.22 | IQ52: 22.8 | IR52: 22.49 | IS52: 22.72 | IT52: 22.79 | IU52: 22.78 | IV52: 22.61 | IW52: 22.66 | IX52: 23.26 | IY52: 23.32 | IZ52: 23.24 | JA52: 23.85 | JB52: 26.03 | JC52: 26.04 | JD52: 24.48 | JE52: 24.64 | JF52: 24.97 | JG52: 25.12 | JH52: 25.21 | JI52: 25.71 | JJ52: 26.06 | JK52: 25.45 | JL52: 26.57 | JM52: 26.88 | JN52: 28.17 | JO52: 29.36 | JP52: 29.59 | JQ52: 28.17 | JR52: 28.79 | JS52: 28.84 | JT52: 29.34 | JU52: 29.75 | JV52: 29.28 | JW52: 29.63 | JX52: 29.73 | JY52: 28.42 | JZ52: 29.34 | KA52: 27.57 | KB52: 27.65 | KC52: 28.31 | KD52: 28.68 | KE52: 28.97 | KF52: 29.09 | KG52: 29.62 | KH52: 29.06 | KI52: 29.42 | KJ52: 29.96 | KK52: 29.5 | KL52: 29.31 | KM52: 29.83 | KN52: 29.85 | KO52: 29.45 | KP52: 29.5 | KQ52: 29.93 | KR52: 29.73 | KS52: 29.55 | KT52: 30.12 | KU52: 31.56 | KV52: 32.47 | KW52: 32.12 | KX52: 31.53 | KY52: 32.36 | KZ52: 32.75 | LA52: 33.12 | LB52: 32.24 | LC52: 32.61 | LD52: 33.02 | LE52: 33.2 | LF52: 32.83 | LG52: 32.56 | LH52: 32.95 | LI52: 32.49 | LJ52: 31.23 | LK52: ='Average prices'!DO138 -> 32.07 | LL52: =(LK52-KY52)/KY52*100 -> -0.89616811 | LM52: =SUM(LJ52-LK52)/LK52*100 -> -2.6192703
A53: 49 | B53: Peanuts | C53: 150gr | GZ53: 15.76 | HA53: 15.94 | HB53: 16.48 | HC53: 15.67 | HD53: 15.56 | HE53: 15.93 | HF53: 16.22 | HG53: 16.32 | HH53: 16.38 | HI53: 16.71 | HJ53: 16.61 | HK53: 16.68 | HL53: 16.78 | HM53: 16.74 | HN53: 16.6 | HO53: 16.54 | HP53: 16.79 | HQ53: 16.92 | HR53: 16.99 | HS53: 17.01 | HT53: 16.74 | HU53: 16.84 | HV53: 16.84 | HW53: 16.93 | HX53: 17.07 | HY53: 17.26 | HZ53: 17.64 | IA53: 17.72 | IB53: 18.03 | IC53: 18.32 | ID53: 18.48 | IE53: 18.75 | IF53: 19.34 | IG53: 19.54 | IH53: 19.44 | II53: 19.47 | IJ53: 19.6 | IK53: 19.35 | IL53: 20.15 | IM53: 23.98 | IN53: 20.65 | IO53: 20.84 | IP53: 20.01 | IQ53: 20.84 | IR53: 21.61 | IS53: 21.03 | IT53: 21.16 | IU53: 21.08 | IV53: 21.47 | IW53: 21.49 | IX53: 21.84 | IY53: 21.84 | IZ53: 21.18 | JA53: 22.16 | JB53: 22.19 | JC53: 21.84 | JD53: 22.13 | JE53: 21.78 | JF53: 21.87 | JG53: 21.85 | JH53: 21.87 | JI53: 23.07 | JJ53: 23.53 | JK53: 23.43 | JL53: 23.45 | JM53: 23.24 | JN53: 23.04 | JO53: 22.33 | JP53: 22.9 | JQ53: 22.69 | JR53: 22.85 | JS53: 22.87 | JT53: 22.5 | JU53: 22.9 | JV53: 23.28 | JW53: 23.95 | JX53: 24.62 | JY53: 24.22 | JZ53: 24.37 | KA53: 26.1 | KB53: 25.43 | KC53: 25.86 | KD53: 26.03 | KE53: 25.61 | KF53: 25.89 | KG53: 26.78 | KH53: 27 | KI53: 26.87 | KJ53: 27.65 | KK53: 27.47 | KL53: 27.49 | KM53: 27.23 | KN53: 26.65 | KO53: 26.93 | KP53: 26.78 | KQ53: 26.42 | KR53: 26.46 | KS53: 26.23 | KT53: 27.17 | KU53: 26.98 | KV53: 27.07 | KW53: 26.75 | KX53: 26.93 | KY53: 27.04 | KZ53: 27.18 | LA53: 26.71 | LB53: 26.63 | LC53: 26.67 | LD53: 26.35 | LE53: 26.47 | LF53: 26.56 | LG53: 26.97 | LH53: 27.16 | LI53: 27.22 | LJ53: 27.21 | LK53: ='Average prices'!DO146 -> 27.76 | LL53: =(LK53-KY53)/KY53*100 -> 2.6627219 | LM53: =SUM(LJ53-LK53)/LK53*100 -> -1.981268
A54: 50 | B54: Potatoes | C54: p/kg | D54: 3 | E54: 3.09 | F54: 3.3 | G54: 3.29 | H54: 3.39 | I54: 3.34 | J54: 3.36 | K54: 3.33 | L54: 3.32 | M54: 3.4 | N54: 3.09 | O54: 3.06 | P54: 3.19 | Q54: 3.3 | R54: 3.21 | S54: 3.18 | T54: 3.25 | U54: 3.18 | V54: 3.2 | W54: 3.23 | X54: 3.27 | Y54: 3.36 | Z54: 3.55 | AA54: 4.04 | AB54: 4.06 | AC54: 3.99 | AD54: 3.85 | AE54: 3.97 | AF54: 4.07 | AG54: 4.2 | AH54: 4.27 | AI54: 4.32 | AJ54: 5.24 | AK54: 5.64 | AL54: 5.44 | AM54: 5.16 | AN54: 5.3 | AO54: 4.93 | AP54: 4.87 | AQ54: 4.87 | AR54: 4.98 | AS54: 5.06 | AT54: 5.04 | AU54: 4.74 | AV54: 4.55 | AW54: 4.85 | AX54: 4.87 | AY54: 4.91 | AZ54: 5.15 | BA54: 5.21 | BB54: 5.48 | BC54: 5.19 | BD54: 4.99 | BE54: 4.81 | BF54: 4.56 | BG54: 4.47 | BH54: 4.46 | BI54: 4.55 | BJ54: 4.64 | BK54: 4.34 | BL54: 4.75 | BM54: 4.97 | BN54: 5.05 | BO54: 4.98 | BP54: 5.04 | BQ54: 5.27 | BR54: 4.84 | BS54: 4.9 | BT54: 4.89 | BU54: 4.99 | BV54: 5.06 | BW54: 5.23 | BX54: - | BY54: - | BZ54: - | CA54: - | CB54: - | CC54: - | CD54: - | CE54: - | CF54: - | CG54: - | CH54: - | CI54: - | CJ54: - | CK54: - | CL54: - | CM54: - | CN54: - | CO54: - | CP54: - | CQ54: - | CR54: - | CS54: - | CT54: - | CU54: - | CV54: - | CW54: - | CX54: 7.37 | CY54: 7.58 | CZ54: 7.26 | DA54: 7.31 | DB54: 7.05 | DC54: 6.77 | DD54: 6.94 | DE54: 7.02 | DF54: 7.28 | DG54: 7.93 | DH54: 10.07 | DI54: 9.28 | DJ54: 8.85 | DK54: 8.67 | DL54: 8.92 | DM54: 8.83 | DN54: 8.52 | DO54: 8.72 | DP54: 9.59 | DQ54: 10.23 | DR54: 9.84 | DS54: 9.67 | DT54: 9.78 | DU54: 9.16 | DV54: 9.08 | DW54: 8.91 | DX54: 9.17 | DY54: 8.98 | DZ54: 9.1 | EA54: 9.54 | EB54: 9.77 | EC54: 9.39 | ED54: 8.85 | EE54: 8.39 | EF54: 8.55 | EG54: 8.14 | EH54: 8.82 | EI54: 8.84 | EJ54: 9.37 | EK54: 9.44 | EL54: 9.36 | EM54: 9.14 | EN54: 9.31 | EO54: 9.86 | EP54: 9.54 | EQ54: 9.71 | ER54: 9.37 | ES54: 9.31 | ET54: 9.2 | EU54: 9.04 | EV54: 9.06 | EW54: 8.94 | EX54: 8.82 | EY54: 8.26 | EZ54: 8.36 | FA54: 8.81 | FB54: 9.62 | FC54: 9.6 | FD54: 9.83 | FE54: 21.41 | FF54: 9.64 | FG54: 9.61 | FH54: 9.58 | FI54: 9.47 | FJ54: 9.47 | FK54: 9.38 | FL54: 9.76 | FM54: 9.94 | FN54: 9.77 | FO54: 9.94 | FP54: 10.68 | FQ54: 10.27 | FR54: 10.43 | FS54: 9.98 | FT54: 9.91 | FU54: 10.22 | FV54: 9.55 | FW54: 9.71 | FX54: 10.25 | FY54: 10.48 | FZ54: 10.4 | GA54: 9.99 | GB54: 10.33 | GC54: 9.99 | GD54: 9.96 | GE54: 10.19 | GF54: 9.95 | GG54: 9.58 | GH54: 9.59 | GI54: 9.28 | GJ54: 9.19 | GK54: 9.36 | GL54: 9.33 | GM54: 9.63 | GN54: 11.09 | GO54: 12.88 | GP54: 14.38 | GQ54: 16.03 | GR54: 14.46 | GS54: 13.5 | GT54: 12.57 | GU54: 12.18 | GV54: 11.71 | GW54: 11.72 | GX54: 12.23 | GY54: 12.14 | GZ54: 12.51 | HA54: 12.49 | HB54: 12.31 | HC54: 12 | HD54: 11.55 | HE54: 11.21 | HF54: 10.73 | HG54: 10.72 | HH54: 11.09 | HI54: 11.7 | HJ54: 11.79 | HK54: 11.82 | HL54: 11.93 | HM54: 11.81 | HN54: 11.86 | HO54: 12.03 | HP54: 12.05 | HQ54: 11.64 | HR54: 11.72 | HS54: 11.77 | HT54: 11.64 | HU54: 12.11 | HV54: 12.62 | HW54: 12.66 | HX54: 13.45 | HY54: 12.97 | HZ54: 12.59 | IA54: 12.5 | IB54: 12.81 | IC54: 12.58 | ID54: 12.27 | IE54: 12.1 | IF54: 12.37 | IG54: 13.06 | IH54: 12.73 | II54: 13.23 | IJ54: 13.4 | IK54: 13.21 | IL54: 13.21 | IM54: 16.88 | IN54: 14.99 | IO54: 14.6 | IP54: 14.47 | IQ54: 13.41 | IR54: 13.52 | IS54: 14.98 | IT54: 15.79 | IU54: 14.71 | IV54: 13.41 | IW54: 13.19 | IX54: 13.13 | IY54: 12.98 | IZ54: 13.51 | JA54: 13.9 | JB54: 14.22 | JC54: 14.02 | JD54: 14.83 | JE54: 17.66 | JF54: 15.59 | JG54: 14.02 | JH54: 14.18 | JI54: 13.67 | JJ54: 13.64 | JK54: 13.72 | JL54: 13.84 | JM54: 13.58 | JN54: 13.81 | JO54: 14.04 | JP54: 14.17 | JQ54: 13.93 | JR54: 14.01 | JS54: 14.45 | JT54: 15.78 | JU54: 16.4 | JV54: 17.22 | JW54: 17.76 | JX54: 17.47 | JY54: 18.13 | JZ54: 18.45 | KA54: 18.68 | KB54: 18.9 | KC54: 22.82 | KD54: 23.42 | KE54: 22.46 | KF54: 22.62 | KG54: 21.68 | KH54: 22.02 | KI54: 21.47 | KJ54: 21.01 | KK54: 20.15 | KL54: 19.72 | KM54: 20.28 | KN54: 21.56 | KO54: 24.58 | KP54: 21.56 | KQ54: 21.38 | KR54: 21.41 | KS54: 20.77 | KT54: 20.39 | KU54: 20.19 | KV54: 22.14 | KW54: 21.32 | KX54: 20.7 | KY54: 19.32 | KZ54: 17.72 | LA54: 16.98 | LB54: 17.21 | LC54: 17.64 | LD54: 18.05 | LE54: 17.91 | LF54: 17.83 | LG54: 17.91 | LH54: 18.17 | LI54: 17.98 | LJ54: 18.12 | LK54: ='Average prices'!DO173 -> 19.12 | LL54: =(LK54-KY54)/KY54*100 -> -1.0351967 | LM54: =SUM(LJ54-LK54)/LK54*100 -> -5.2301255
A55: 51 | B55: Sweet Potatoes | C55: p/kg | GZ55: 23.84 | HA55: 25.31 | HB55: 23.06 | HC55: 18.13 | HD55: 16.15 | HE55: 17.37 | HF55: 15.1 | HG55: 15.35 | HH55: 15.07 | HI55: 16.22 | HJ55: 18.04 | HK55: 18.07 | HL55: 18.24 | HM55: 19.07 | HN55: 18.12 | HO55: 17.71 | HP55: 16.68 | HQ55: 17.01 | HR55: 16.87 | HS55: 16.75 | HT55: 18.32 | HU55: 18.65 | HV55: 19.87 | HW55: 20.5 | HX55: 21.51 | HY55: 21.01 | HZ55: 18.99 | IA55: 17.74 | IB55: 16.9 | IC55: 16.6 | ID55: 17.15 | IE55: 16.48 | IF55: 16.74 | IG55: 16.94 | IH55: 17.9 | II55: 18.19 | IJ55: 19.11 | IK55: 20.05 | IL55: 19.48 | IM55: 19.98 | IN55: 22.99 | IO55: 19.99 | IP55: 17.74 | IQ55: 19.55 | IR55: 22.09 | IS55: 24.78 | IT55: 26.14 | IU55: 25.46 | IV55: 26.93 | IW55: 23.59 | IX55: 21.99 | IY55: 21.2 | IZ55: 20.72 | JA55: 19.44 | JB55: 17.32 | JC55: 14.19 | JD55: 16.43 | JE55: 18.24 | JF55: 18.86 | JG55: 19.24 | JH55: 19.54 | JI55: 19.51 | JJ55: 19.51 | JK55: 18.96 | JL55: 17.94 | JM55: 16.93 | JN55: 16.57 | JO55: 16.83 | JP55: 17.23 | JQ55: 17.8 | JR55: 17.9 | JS55: 19.19 | JT55: 21.57 | JU55: 22.1 | JV55: 22.24 | JW55: 21.91 | JX55: 21.77 | JY55: 21.41 | JZ55: 20.39 | KA55: 21.94 | KB55: 21.51 | KC55: 24.84 | KD55: 27.9 | KE55: 29.39 | KF55: 31.58 | KG55: 28.41 | KH55: 25.23 | KI55: 24.99 | KJ55: 23.36 | KK55: 22.95 | KL55: 23.34 | KM55: 26.01 | KN55: 26.39 | KO55: 27.66 | KP55: 28.22 | KQ55: 29.01 | KR55: 30.72 | KS55: 27.87 | KT55: 26.83 | KU55: 26.33 | KV55: 26.64 | KW55: 25.58 | KX55: 25.48 | KY55: 24.51 | KZ55: 25.35 | LA55: 25.42 | LB55: 25.06 | LC55: 26.9 | LD55: 28.28 | LE55: 28.15 | LF55: 26.92 | LG55: 25.87 | LH55: 25.23 | LI55: 24.44 | LJ55: 24.04 | LK55: ='Average prices'!DO175 -> 24.55 | LL55: =(LK55-KY55)/KY55*100 -> 0.16319869 | LM55: =SUM(LJ55-LK55)/LK55*100 -> -2.0773931
A56: 52 | B56: Beans dried | C56: 500gr | GZ56: 19.86 | HA56: 20.15 | HB56: 20.48 | HC56: 20.12 | HD56: 19.79 | HE56: 19.48 | HF56: 19.81 | HG56: 18.98 | HH56: 19.01 | HI56: 19.14 | HJ56: 19.4 | HK56: 19.31 | HL56: 19.61 | HM56: 19.64 | HN56: 19.69 | HO56: 19.39 | HP56: 19.06 | HQ56: 19.14 | HR56: 18.9 | HS56: 19.01 | HT56: 19.01 | HU56: 19.32 | HV56: 19.34 | HW56: 19.28 | HX56: 19.47 | HY56: 19.29 | HZ56: 19.21 | IA56: 19.43 | IB56: 19.16 | IC56: 19.31 | ID56: 19.22 | IE56: 18.84 | IF56: 19 | IG56: 19.07 | IH56: 18.71 | II56: 18.62 | IJ56: 18.62 | IK56: 19.16 | IL56: 18.76 | IM56: 18.63 | IN56: 21.99 | IO56: 22.56 | IP56: 23.02 | IQ56: 21.57 | IR56: 21.52 | IS56: 24.15 | IT56: 24.51 | IU56: 24.97 | IV56: 26.10 | IW56: 26.95 | IX56: 26.11 | IY56: 24.86 | IZ56: 25.11 | JA56: 26.5 | JB56: 26.71 | JC56: 26.55 | JD56: 26.36 | JE56: 26.75 | JF56: 25.84 | JG56: 26.46 | JH56: 26.58 | JI56: 27.72 | JJ56: 27.2 | JK56: 27.5 | JL56: 28.07 | JM56: 28.55 | JN56: 29.67 | JO56: 29.71 | JP56: 27.06 | JQ56: 27.61 | JR56: 27.97 | JS56: 28.08 | JT56: 28.33 | JU56: 28.15 | JV56: 28.24 | JW56: 28.18 | JX56: 28.62 | JY56: 29 | JZ56: 29.21 | KA56: 29.61 | KB56: 29.28 | KC56: 29.11 | KD56: 30.22 | KE56: 30.66 | KF56: 30.89 | KG56: 31.2 | KH56: 31.51 | KI56: 31.37 | KJ56: 32.4 | KK56: 33.54 | KL56: 34.11 | KM56: 34.05 | KN56: 34.22 | KO56: 34.27 | KP56: 34.19 | KQ56: 34.31 | KR56: 34.93 | KS56: 34.96 | KT56: 34.92 | KU56: 34.47 | KV56: 34.86 | KW56: 35.12 | KX56: 34.74 | KY56: 34.72 | KZ56: 34.77 | LA56: 34.51 | LB56: 34.14 | LC56: 33.95 | LD56: 32.96 | LE56: 32.54 | LF56: 32.86 | LG56: 32.48 | LH56: 32.25 | LI56: 32.2 | LJ56: 31.92 | LK56: ='Average prices'!DO177 -> 31.88 | LL56: =(LK56-KY56)/KY56*100 -> -8.1797235 | LM56: =SUM(LJ56-LK56)/LK56*100 -> 0.12547051
A57: 53 | B57: Baked beans - Canned | C57: 410gr | GZ57: 9.34 | HA57: 9.37 | HB57: 9.4 | HC57: 9.34 | HD57: 9.5 | HE57: 9.26 | HF57: 9.34 | HG57: 9.29 | HH57: 9.53 | HI57: 9.44 | HJ57: 9.59 | HK57: 9.63 | HL57: 9.55 | HM57: 9.62 | HN57: 9.73 | HO57: 9.91 | HP57: 9.99 | HQ57: 10 | HR57: 9.84 | HS57: 9.96 | HT57: 10.03 | HU57: 10.05 | HV57: 10.05 | HW57: 9.94 | HX57: 10.05 | HY57: 10.27 | HZ57: 10.5 | IA57: 10.58 | IB57: 10.57 | IC57: 10.77 | ID57: 10.69 | IE57: 10.72 | IF57: 10.8 | IG57: 10.78 | IH57: 10.84 | II57: 10.87 | IJ57: 10.92 | IK57: 11.14 | IL57: 11.13 | IM57: 11.21 | IN57: 9.99 | IO57: 9.78 | IP57: 10.59 | IQ57: 13.8 | IR57: 13.89 | IS57: 10.84 | IT57: 11.21 | IU57: 11.38 | IV57: 11.36 | IW57: 11.4 | IX57: 11.26 | IY57: 10.93 | IZ57: 11.07 | JA57: 10.83 | JB57: 10.92 | JC57: 11.09 | JD57: 11.31 | JE57: 11.92 | JF57: 11.87 | JG57: 11.88 | JH57: 12 | JI57: 12.49 | JJ57: 12.7 | JK57: 12.64 | JL57: 12.6 | JM57: 12.87 | JN57: 13.58 | JO57: 13.89 | JP57: 13.79 | JQ57: 13.83 | JR57: 13.9 | JS57: 13.85 | JT57: 13.9 | JU57: 14.39 | JV57: 14.88 | JW57: 15.06 | JX57: 15.14 | JY57: 14.98 | JZ57: 14.58 | KA57: 15.57 | KB57: 15.39 | KC57: 15.56 | KD57: 15.82 | KE57: 15.87 | KF57: 15.98 | KG57: 16.04 | KH57: 16.05 | KI57: 16.1 | KJ57: 16.24 | KK57: 16.19 | KL57: 16.12 | KM57: 16.17 | KN57: 16.08 | KO57: 16.26 | KP57: 16.36 | KQ57: 16.42 | KR57: 16.26 | KS57: 16.24 | KT57: 16.04 | KU57: 15.98 | KV57: 15.92 | KW57: 15.97 | KX57: 15.88 | KY57: 15.85 | KZ57: 15.69 | LA57: 15.57 | LB57: 15.43 | LC57: 15.46 | LD57: 15.56 | LE57: 15.41 | LF57: 15.45 | LG57: 15.43 | LH57: 15.24 | LI57: 15.45 | LJ57: 15.23 | LK57: ='Average prices'!DO182 -> 15.18 | LL57: =(LK57-KY57)/KY57*100 -> -4.2271293 | LM57: =SUM(LJ57-LK57)/LK57*100 -> 0.32938076
A58: 54 | B58: Corn (Maize) chips | C58: 150gr | D58: 9.45 | E58: 9.61 | F58: 9.84 | G58: 9.93 | H58: 9.98 | I58: 10.04 | J58: 10.04 | K58: 10.05 | L58: 10.01 | M58: 10.07 | N58: 10.06 | O58: 10.08 | P58: 10.09 | Q58: 10.13 | R58: 10.25 | S58: 10.47 | T58: 10.64 | U58: 10.55 | V58: 10.65 | W58: 10.67 | X58: 10.74 | Y58: 10.67 | Z58: 10.74 | AA58: 10.74 | AB58: 10.75 | AC58: 10.91 | AD58: 11.31 | AE58: 11.47 | AF58: 11.63 | AG58: 11.65 | AH58: 11.88 | AI58: 11.99 | AJ58: 12.15 | AK58: 12.02 | AL58: 12.25 | AM58: 12.13 | AN58: 12.24 | AO58: 12.25 | AP58: 12.11 | AQ58: 12.44 | AR58: 12.57 | AS58: 12.38 | AT58: 12.35 | AU58: 12.67 | AV58: 12.61 | AW58: 12.59 | AX58: 12.49 | AY58: 12.12 | AZ58: 12.39 | BA58: 12.4 | BB58: 12.33 | BC58: 12.33 | BD58: 12.46 | BE58: 12.18 | BF58: 12.31 | BG58: 12.28 | BH58: 12.37 | BI58: 12.17 | BJ58: 12.58 | BK58: 12.57 | BL58: 12.59 | BM58: 12.59 | BN58: 12.41 | BO58: 12.99 | BP58: 12.99 | BQ58: 12.99 | BR58: 12.99 | BS58: 12.57 | BT58: 12.61 | BU58: 12.71 | BV58: 12.69 | BW58: 12.78 | BX58: 13.35 | BY58: 13.55 | BZ58: 13.54 | CA58: 13.54 | CB58: 13.48 | CC58: 13.82 | CD58: 13.69 | CE58: 13.82 | CF58: 13.71 | CG58: 13.74 | CH58: 13.86 | CI58: 14.07 | CJ58: 14.38 | CK58: 14.3 | CL58: 14.07 | CM58: 14.14 | CN58: 14.15 | CO58: 14.11 | CP58: 14.3 | CQ58: 14.5 | CR58: 15.02 | CS58: 15.17 | CT58: 15.17 | CU58: 14.8 | CV58: 14.79 | CW58: 14.7 | CX58: 14.44 | CY58: 14.73 | CZ58: 14.99 | DA58: 15.15 | DB58: 15.74 | DC58: 16.64 | DD58: 16.3 | DE58: 16.71 | DF58: 16.72 | DG58: 16.4 | DH58: 16.74 | DI58: 16.74 | DJ58: 16.98 | DK58: 17.65 | DL58: 18.01 | DM58: 18.01 | DN58: 18.02 | DO58: 18.19 | DP58: 18.14 | DQ58: 18.16 | DR58: 18.22 | DS58: 18.15 | DT58: 18.15 | DU58: 18.1 | DV58: 19.04 | DW58: 18.92 | DX58: 19.31 | DY58: 19.05 | DZ58: 18.85 | EA58: 18.92 | EB58: 18.98 | EC58: 18.78 | ED58: 18.99 | EE58: 18.46 | EF58: 19.2 | EG58: 20.14 | EH58: 20.74 | EI58: 20.79 | EJ58: 20.79 | EK58: 20.88 | EL58: 20.79 | EM58: 21.02 | EN58: 22.18 | EO58: 22.41 | EP58: 22.08 | EQ58: 21.54 | ER58: 22.54 | ES58: 22.14 | ET58: 23.29 | EU58: 22.77 | EV58: 22.87 | EW58: 22.98 | EX58: 23.22 | EY58: 22.86 | EZ58: 23.44 | FA58: 23.31 | FB58: 23.03 | FC58: 22.81 | FD58: 23.98 | FE58: 24.18 | FF58: 24.8 | FG58: 24.65 | FH58: 24.83 | FI58: 25.42 | FJ58: 25.17 | FK58: 25.17 | FL58: 25.36 | FM58: 25.05 | FN58: 25.13 | FO58: 24.71 | FP58: 25.26 | FQ58: 24.96 | FR58: 26.27 | FS58: 26.18 | FT58: 26.56 | FU58: 26.65 | FV58: 26.94 | FW58: 26.73 | FX58: 27.01 | FY58: 26.2 | FZ58: 26.21 | GA58: 25.99 | GB58: 26.31 | GC58: 26.39 | GD58: 27.6 | GE58: 27.88 | GF58: 28.58 | GG58: 28.32 | GZ58: 14.24 | HA58: 14.28 | HB58: 14.31 | HC58: 14.14 | HD58: 14.27 | HE58: 14.87 | HF58: 14.69 | HG58: 14.76 | HH58: 14.56 | HI58: 14.74 | HJ58: 15.1 | HK58: 15 | HL58: 15.18 | HM58: 15.4 | HN58: 15.66 | HO58: 15.97 | HP58: 16.23 | HQ58: 16.1 | HR58: 16.11 | HS58: 15.94 | HT58: 16.44 | HU58: 16.4 | HV58: 16.64 | HW58: 16.51 | HX58: 16.68 | HY58: 17.07 | HZ58: 16.56 | IA58: 16.12 | IB58: 17.21 | IC58: 17.32 | ID58: 17.64 | IE58: 17.45 | IF58: 17.47 | IG58: 17.49 | IH58: 17.68 | II58: 17.44 | IJ58: 17.72 | IK58: 18.07 | IL58: 18.43 | IM58: 19.45 | IN58: 18.31 | IO58: 18.31 | IP58: 18.3 | IQ58: 18.08 | IR58: 18.42 | IS58: 18.59 | IT58: 18.87 | IU58: 18.94 | IV58: 19.02 | IW58: 18.98 | IX58: 19.06 | IY58: 19.02 | IZ58: 18.74 | JA58: 19.01 | JB58: 18.99 | JC58: 18.99 | JD58: 18.96 | JE58: 18.96 | JF58: 18.99 | JG58: 19.02 | JH58: 18.88 | JI58: 18.98 | JJ58: 19.15 | JK58: 19.16 | JL58: 19.8 | JM58: 19.74 | JN58: 19.98 | JO58: 19.86 | JP58: 19.8 | JQ58: 19.68 | JR58: 19.74 | JS58: 19.74 | JT58: 19.31 | JU58: 19.49 | JV58: 18.93 | JW58: 18.35 | JX58: 19.06 | JY58: 19.19 | JZ58: 18.24 | KA58: 19.19 | KB58: 18.49 | KC58: 19.32 | KD58: 19.32 | KE58: 18.7 | KF58: 18.74 | KG58: 18.74 | KH58: 18.99 | KI58: 19.12 | KJ58: 19.12 | KK58: 19.12 | KL58: 18.85 | KM58: 18.66 | KN58: 18.39 | KO58: 17.79 | KP58: 18.39 | KQ58: 18.39 | KR58: 18.39 | KS58: 18.39 | KT58: 18.59 | KU58: 18.59 | KV58: 18.79 | KW58: 18.79 | KX58: 18.79 | KY58: 18.79 | KZ58: 18.79 | LA58: 18.39 | LB58: 18.39 | LC58: 18.39 | LD58: 18.39 | LE58: 17.99 | LF58: 18.32 | LG58: 18.66 | LH58: 18.66 | LI58: 18.85 | LJ58: 18.85 | LK58: ='Average prices'!DO186 -> 18.85 | LL58: =(LK58-KY58)/KY58*100 -> 0.31931879 | LM58: =SUM(LJ58-LK58)/LK58*100 -> 0
A59: 55 | B59: White Sugar | C59: 2.5kg | D59: 9.45 | E59: 9.61 | F59: 9.84 | G59: 9.93 | H59: 9.98 | I59: 10.04 | J59: 10.04 | K59: 10.05 | L59: 10.01 | M59: 10.07 | N59: 10.06 | O59: 10.08 | P59: 10.09 | Q59: 10.13 | R59: 10.25 | S59: 10.47 | T59: 10.64 | U59: 10.55 | V59: 10.65 | W59: 10.67 | X59: 10.74 | Y59: 10.67 | Z59: 10.74 | AA59: 10.74 | AB59: 10.75 | AC59: 10.91 | AD59: 11.31 | AE59: 11.47 | AF59: 11.63 | AG59: 11.65 | AH59: 11.88 | AI59: 11.99 | AJ59: 12.15 | AK59: 12.02 | AL59: 12.25 | AM59: 12.13 | AN59: 12.24 | AO59: 12.25 | AP59: 12.11 | AQ59: 12.44 | AR59: 12.57 | AS59: 12.38 | AT59: 12.35 | AU59: 12.67 | AV59: 12.61 | AW59: 12.59 | AX59: 12.49 | AY59: 12.12 | AZ59: 12.39 | BA59: 12.4 | BB59: 12.33 | BC59: 12.33 | BD59: 12.46 | BE59: 12.18 | BF59: 12.31 | BG59: 12.28 | BH59: 12.37 | BI59: 12.17 | BJ59: 12.58 | BK59: 12.57 | BL59: 12.59 | BM59: 12.59 | BN59: 12.41 | BO59: 12.99 | BP59: 12.99 | BQ59: 12.99 | BR59: 12.99 | BS59: 12.57 | BT59: 12.61 | BU59: 12.71 | BV59: 12.69 | BW59: 12.78 | BX59: 13.35 | BY59: 13.55 | BZ59: 13.54 | CA59: 13.54 | CB59: 13.48 | CC59: 13.82 | CD59: 13.69 | CE59: 13.82 | CF59: 13.71 | CG59: 13.74 | CH59: 13.86 | CI59: 14.07 | CJ59: 14.38 | CK59: 14.3 | CL59: 14.07 | CM59: 14.14 | CN59: 14.15 | CO59: 14.11 | CP59: 14.3 | CQ59: 14.5 | CR59: 15.02 | CS59: 15.17 | CT59: 15.17 | CU59: 14.8 | CV59: 14.79 | CW59: 14.7 | CX59: 14.44 | CY59: 14.73 | CZ59: 14.99 | DA59: 15.15 | DB59: 15.74 | DC59: 16.64 | DD59: 16.3 | DE59: 16.71 | DF59: 16.72 | DG59: 16.4 | DH59: 16.74 | DI59: 16.74 | DJ59: 16.98 | DK59: 17.65 | DL59: 18.01 | DM59: 18.01 | DN59: 18.02 | DO59: 18.19 | DP59: 18.14 | DQ59: 18.16 | DR59: 18.22 | DS59: 18.15 | DT59: 18.15 | DU59: 18.1 | DV59: 19.04 | DW59: 18.92 | DX59: 19.31 | DY59: 19.05 | DZ59: 18.85 | EA59: 18.92 | EB59: 18.98 | EC59: 18.78 | ED59: 18.99 | EE59: 18.46 | EF59: 19.2 | EG59: 20.14 | EH59: 20.74 | EI59: 20.79 | EJ59: 20.79 | EK59: 20.88 | EL59: 20.79 | EM59: 21.02 | EN59: 22.18 | EO59: 22.41 | EP59: 22.08 | EQ59: 21.54 | ER59: 22.54 | ES59: 22.14 | ET59: 23.29 | EU59: 22.77 | EV59: 22.87 | EW59: 22.98 | EX59: 23.22 | EY59: 22.86 | EZ59: 23.44 | FA59: 23.31 | FB59: 23.03 | FC59: 22.81 | FD59: 23.98 | FE59: 24.18 | FF59: 24.8 | FG59: 24.65 | FH59: 24.83 | FI59: 25.42 | FJ59: 25.17 | FK59: 25.17 | FL59: 25.36 | FM59: 25.05 | FN59: 25.13 | FO59: 24.71 | FP59: 25.26 | FQ59: 24.96 | FR59: 26.27 | FS59: 26.18 | FT59: 26.56 | FU59: 26.65 | FV59: 26.94 | FW59: 26.73 | FX59: 27.01 | FY59: 26.2 | FZ59: 26.21 | GA59: 25.99 | GB59: 26.31 | GC59: 26.39 | GD59: 27.6 | GE59: 27.88 | GF59: 28.58 | GG59: 28.32 | GZ59: 37.18 | HA59: 37.06 | HB59: 39.08 | HC59: 39.42 | HD59: 39.75 | HE59: 39.63 | HF59: 39.66 | HG59: 39.22 | HH59: 38.68 | HI59: 38.69 | HJ59: 38.3 | HK59: 37.09 | HL59: 38.16 | HM59: 38.52 | HN59: 38.34 | HO59: 37.49 | HP59: 36.06 | HQ59: 36.02 | HR59: 35.76 | HS59: 35.12 | HT59: 37.45 | HU59: 39.01 | HV59: 39.76 | HW59: 39.09 | HX59: 39.63 | HY59: 40.18 | HZ59: 39.69 | IA59: 39.66 | IB59: 39.2 | IC59: 39.51 | ID59: 39.72 | IE59: 39.96 | IF59: 39.59 | IG59: 40.01 | IH59: 40.29 | II59: 41.16 | IJ59: 42.24 | IK59: 42.64 | IL59: 42.44 | IM59: 40.66 | IN59: 40.81 | IO59: 41.75 | IP59: 42.23 | IQ59: 43.52 | IR59: 43.62 | IS59: 44.15 | IT59: 44.63 | IU59: 44.74 | IV59: 43.49 | IW59: 45.31 | IX59: 46.03 | IY59: 45.98 | IZ59: 45.95 | JA59: 46.04 | JB59: 46.1 | JC59: 45.05 | JD59: 47.17 | JE59: 46.77 | JF59: 47.49 | JG59: 46.94 | JH59: 46.38 | JI59: 46.82 | JJ59: 47.05 | JK59: 48.46 | JL59: 49.68 | JM59: 48.88 | JN59: 48.16 | JO59: 48.71 | JP59: 49.74 | JQ59: 50.04 | JR59: 49.18 | JS59: 50.27 | JT59: 49.79 | JU59: 50.15 | JV59: 51.48 | JW59: 50.9 | JX59: 53 | JY59: 57.77 | JZ59: 60.58 | KA59: 60.55 | KB59: 61.05 | KC59: 62.02 | KD59: 62.02 | KE59: 61.64 | KF59: 62.01 | KG59: 62.22 | KH59: 62.88 | KI59: 63.31 | KJ59: 63.98 | KK59: 64.76 | KL59: 64.76 | KM59: 64.08 | KN59: 64.94 | KO59: 65.5 | KP59: 64.86 | KQ59: 64.54 | KR59: 65.39 | KS59: 65.73 | KT59: 65.53 | KU59: 65.73 | KV59: 66.14 | KW59: 66.3 | KX59: 66.57 | KY59: 66.69 | KZ59: 66.57 | LA59: 66.78 | LB59: 67.13 | LC59: 66.13 | LD59: 66.66 | LE59: 66.45 | LF59: 66.35 | LG59: 67.34 | LH59: 67.94 | LI59: 67.36 | LJ59: 67.81 | LK59: ='Average prices'!DO189 -> 67.57 | LL59: =(LK59-KY59)/KY59*100 -> 1.3195382 | LM59: =SUM(LJ59-LK59)/LK59*100 -> 0.35518721
A60: 56 | B60: Peanut Butter | C60: 400gr | D60: 5.71 | E60: 5.78 | F60: 5.88 | G60: 6.07 | H60: 6.04 | I60: 6.19 | J60: 6.14 | K60: 6.22 | L60: 6.2 | M60: 6.24 | N60: 6.11 | O60: 6.35 | P60: 6.19 | Q60: 6.3 | R60: 6.32 | S60: 6.25 | T60: 6.24 | U60: 6 | V60: 6.21 | W60: 6.19 | X60: 6.28 | Y60: 6.19 | Z60: 5.96 | AA60: 6.08 | AB60: 5.96 | AC60: 5.96 | AD60: 5.96 | AE60: 5.99 | AF60: 6.65 | AG60: 6.05 | AH60: 7.1 | AI60: 7.21 | AJ60: 7.49 | AK60: 6.89 | AL60: 7.36 | AM60: 7.05 | AN60: 7.59 | AO60: 7.71 | AP60: 7.71 | AQ60: 9.63 | AR60: 9.43 | AS60: 8.31 | AT60: 8.53 | AU60: 7.62 | AV60: 8.84 | AW60: 8.91 | AX60: 8.89 | AY60: 8.96 | AZ60: 9.47 | BA60: 9.04 | BB60: 8.9 | BC60: 8.9 | BD60: 8.92 | BE60: 8.92 | BF60: 8.76 | BG60: 8.92 | BH60: 9.09 | BI60: 9.26 | BJ60: 9.41 | BK60: 9.71 | BL60: 9.89 | BM60: 9.99 | BN60: 9.95 | BO60: 9.95 | BP60: 9.92 | BQ60: 9.35 | BR60: 9.46 | BS60: 9.56 | BT60: 9.77 | BU60: 9.54 | BV60: 9.76 | BW60: 9.43 | BX60: 8.89 | BY60: 8.71 | BZ60: 8.73 | CA60: 8.86 | CB60: 8.84 | CC60: 8.7 | CD60: 8.76 | CE60: 8.51 | CF60: 8.92 | CG60: 9.02 | CH60: 9.28 | CI60: 9.33 | CJ60: 9.4 | CK60: 9.4 | CL60: 9.47 | CM60: 9.61 | CN60: 9.69 | CO60: 9.62 | CP60: 10.1 | CQ60: 10.19 | CR60: 10.63 | CS60: 10.96 | CT60: 11.03 | CU60: 11.26 | CV60: 10.69 | CW60: 11.55 | CX60: 11.72 | CY60: 11.77 | CZ60: 11.79 | DA60: 12.3 | DB60: 12.62 | DC60: 13.06 | DD60: 13.42 | DE60: 13.57 | DF60: 13.74 | DG60: 13.9 | DH60: 14.15 | DI60: 14.78 | DJ60: 15.06 | DK60: 15.26 | DL60: 15.24 | DM60: 15.58 | DN60: 15.61 | DO60: 15.51 | DP60: 15.68 | DQ60: 15.41 | DR60: 15.43 | DS60: 15.62 | DT60: 15.48 | DU60: 15.67 | DV60: 15.62 | DW60: 15.66 | DX60: 15.34 | DY60: 15.65 | DZ60: 15.33 | EA60: 15.89 | EB60: 15.55 | EC60: 15.66 | ED60: 15.67 | EE60: 15.53 | EF60: 15.26 | EG60: 16.08 | EH60: 16.39 | EI60: 16.39 | EJ60: 16.65 | EK60: 16.58 | EL60: 16.82 | EM60: 16.97 | EN60: 17.08 | EO60: 17.29 | EP60: 18.18 | EQ60: 18.96 | ER60: 19.85 | ES60: 20.33 | ET60: 20.79 | EU60: 20.57 | EV60: 20.42 | EW60: 20.86 | EX60: 20.53 | EY60: 20.9 | EZ60: 20.78 | FA60: 21.39 | FB60: 21.38 | FC60: 21.61 | FD60: 21.71 | FE60: 21.98 | FF60: 22.01 | FG60: 21.87 | FH60: 22.09 | FI60: 22.04 | FJ60: 21.87 | FK60: 22.36 | FL60: 22.26 | FM60: 21.94 | FN60: 22.71 | FO60: 22.8 | FP60: 21.93 | FQ60: 22.11 | FR60: 22.62 | FS60: 22.91 | FT60: 23.17 | FU60: 23.25 | FV60: 23.08 | FW60: 22.88 | FX60: 23.23 | FY60: 22.77 | FZ60: 22.51 | GA60: 22.9 | GB60: 22.06 | GC60: 22.63 | GD60: 22.58 | GE60: 22.74 | GF60: 22.94 | GG60: 22.71 | GH60: 22.4 | GI60: 23.18 | GJ60: 22.61 | GK60: 23 | GL60: 22.68 | GM60: 23.32 | GN60: 22.21 | GO60: 22.52 | GP60: 23.34 | GQ60: 23.28 | GR60: 24.14 | GS60: 24.08 | GT60: 24.77 | GU60: 25.35 | GV60: 25.36 | GW60: 26.99 | GX60: 27.82 | GY60: 27.33 | GZ60: 27.31 | HA60: 27.76 | HB60: 27.82 | HC60: 27.22 | HD60: 27.28 | HE60: 27.74 | HF60: 28.23 | HG60: 27.56 | HH60: 27.33 | HI60: 27.76 | HJ60: 27.48 | HK60: 27.88 | HL60: 27.31 | HM60: 28.01 | HN60: 27.93 | HO60: 28.27 | HP60: 27.81 | HQ60: 28.08 | HR60: 27.86 | HS60: 28.4 | HT60: 28.1 | HU60: 27.87 | HV60: 28.02 | HW60: 28.06 | HX60: 27.38 | HY60: 28.07 | HZ60: 28.43 | IA60: 28.79 | IB60: 28.75 | IC60: 29.64 | ID60: 30.05 | IE60: 30.3 | IF60: 30.54 | IG60: 30.47 | IH60: 31.46 | II60: 31.17 | IJ60: 30.47 | IK60: 30.81 | IL60: 31.1 | IM60: 30.96 | IN60: 32.12 | IO60: 31.49 | IP60: 31.98 | IQ60: 31.93 | IR60: 31.68 | IS60: 32.94 | IT60: 32.45 | IU60: 32.84 | IV60: 33.32 | IW60: 33.64 | IX60: 34.08 | IY60: 33.81 | IZ60: 34 | JA60: 34.63 | JB60: 34.03 | JC60: 34.63 | JD60: 33.74 | JE60: 35 | JF60: 33.92 | JG60: 34.52 | JH60: 34.64 | JI60: 35.02 | JJ60: 35.69 | JK60: 36.03 | JL60: 35.49 | JM60: 35.74 | JN60: 36.67 | JO60: 37.22 | JP60: 36.99 | JQ60: 38.35 | JR60: 37.72 | JS60: 37.95 | JT60: 38.13 | JU60: 38.41 | JV60: 38.75 | JW60: 39.16 | JX60: 38.64 | JY60: 40 | JZ60: 39.95 | KA60: 40.25 | KB60: 41.11 | KC60: 42.61 | KD60: 43.28 | KE60: 44.1 | KF60: 44.02 | KG60: 44.91 | KH60: 46.15 | KI60: 44.91 | KJ60: 45.82 | KK60: 46.84 | KL60: 46.65 | KM60: 47.28 | KN60: 46.62 | KO60: 47.68 | KP60: 47.32 | KQ60: 47.95 | KR60: 48.11 | KS60: 47.67 | KT60: 48.02 | KU60: 48.04 | KV60: 48.46 | KW60: 47.88 | KX60: 48.45 | KY60: 49.45 | KZ60: 49.31 | LA60: 49.96 | LB60: 50.37 | LC60: 49.48 | LD60: 49.74 | LE60: 49.9 | LF60: 49.49 | LG60: 49.93 | LH60: 49.74 | LI60: 49.93 | LJ60: 49.6 | LK60: ='Average prices'!DO196 -> 50.39 | LL60: =(LK60-KY60)/KY60*100 -> 1.90091 | LM60: =SUM(LJ60-LK60)/LK60*100 -> -1.5677714
B61: Source: STATS SA
B62: * SMPY - Same Month Previous Year
B68: In Sheet Average prices, use column A and B together. Find the matching description and weight in column B and C in the Stats SA Food Prices sheet, and complete column LK with the data in column DO

Sheet Oilseed prod 

Sheet Basic food

Sheet Maize prod

Sheet Wheaten prod

Sheet NOTES
A1: Notes by StatsSA:
A3: 1 | B3: Note:
B4: The information in this document until December 2019 is not officially published by Stats SA and is made available for information purposes only.
A6: 2 | B6: Note:
B7: The data published now on the website is official and statistical significantly. The items not available anymore did not pass all the criteria and therefore not available anymore.
B8: Visit StatsSA site for all products
B9: http://www.statssa.gov.za/?page_id=1854&PPN=P0141&SCH=7689
A11: 3 | B11: Note:
B12: Please read: Methodological note on average retail prices
B14: Average prices are calculated from data surveyed for the compilation of the consumer price index (CPI).
B15: Of the 412 items in the current CPI basket, 162 are included in the list of average prices. Selected items have average prices for two different sizes.
B17: Criteria for inclusion
B18: Only products typically available in retail stores are considered for inclusion in the list.
B19: A selection process is followed to exclude items that
B20: · do not have prices every month,
B21: · have a wide range between the lowest and highest price and
B22: · have a range of varieties with a wide quality range.
B23: The number of variety sets per indicator product is limited to two. Sets with the highest counts and with a minimum of thirty at national level and five at provincial level are included.
B25: Please also note
B26: Caution needs to be taken when calculating rates of change in the average prices and comparing these to changes in the CPI.
... B28: Combining the change in average price data with the CPI weights to an aggregate level will not give the same aggregated level as the CPI.
A30: 4 | B30: Note:
B31: Response from StatsSA - 21 Sept 2022: Super Maize 2.5kg and Super Maize 5 kg: As from January 2022 with the implementation of the new basket and weights of the CPI the two items was combined into maize meal. This decision was taken due to difficulties we experienced in collecting prices for special maize in certain areas.

Sheet Per Product group
A1: Average Monthly Food Prices Per Product Group
II2: Note 1 | IJ2: Note 2 | IM2: Note 3 | JK2: Note 4 | LM2: % +/-
B3: Product Description | C3: Unit | D3: 36526 | E3: 36557 | F3: 36586 | G3: 36617 | H3: 36647 | I3: 36678 | J3: 36708 | K3: 36739 | L3: 36770 | M3: 36800 | N3: 36831 | O3: 36861 | P3: 36892 | Q3: 36923 | R3: 36951 | S3: 36982 | T3: 37012 | U3: 37043 | V3: 37073 | W3: 37104 | X3: 37135 | Y3: 37165 | Z3: 37196 | AA3: 37226 | AB3: 37258 | AC3: 37289 | AD3: 37317 | AE3: 37348 | AF3: 37378 | AG3: 37409 | AH3: 37439 | AI3: 37470 | AJ3: 37501 | AK3: 37531 | AL3: 37562 | AM3: 37592 | AN3: 37622 | AO3: 37653 | AP3: 37681 | AQ3: 37712 | AR3: 37742 | AS3: 37773 | AT3: 37803 | AU3: 37834 | AV3: 37865 | AW3: 37895 | AX3: 37926 | AY3: 37956 | AZ3: 37987 | BA3: 38018 | BB3: 38047 | BC3: 38078 | BD3: 38108 | BE3: 38139 | BF3: 38169 | BG3: 38200 | BH3: 38231 | BI3: 38261 | BJ3: 38292 | BK3: 38322 | BL3: 38353 | BM3: 38384 | BN3: 38412 | BO3: 38443 | BP3: 38473 | BQ3: 38504 | BR3: 38534 | BS3: 38565 | BT3: 38596 | BU3: 38626 | BV3: 38657 | BW3: 38687 | BX3: 38718 | BY3: 38749 | BZ3: 38777 | CA3: 38808 | CB3: 38838 | CC3: 38869 | CD3: 38899 | CE3: 38930 | CF3: 38961 | CG3: 38991 | CH3: 39022 | CI3: 39052 | CJ3: 39083 | CK3: 39114 | CL3: 39142 | CM3: 39173 | CN3: 39203 | CO3: 39234 | CP3: 39264 | CQ3: 39295 | CR3: 39326 | CS3: 39356 | CT3: 39387 | CU3: 39417 | CV3: 39448 | CW3: 39479 | CX3: 39508 | CY3: 39539 | CZ3: 39569 | DA3: 39600 | DB3: 39630 | DC3: 39661 | DD3: 39692 | DE3: 39722 | DF3: 39753 | DG3: 39783 | DH3: 39814 | DI3: 39845 | DJ3: 39873 | DK3: 39904 | DL3: 39942 | DM3: 39973 | DN3: 40003 | DO3: 40034 | DP3: 40065 | DQ3: 40095 | DR3: 40126 | DS3: 40156 | DT3: 40187 | DU3: 40218 | DV3: 40247 | DW3: 40278 | DX3: 40302 | DY3: 40333 | DZ3: 40363 | EA3: 40391 | EB3: 40422 | EC3: 40452 | ED3: 40483 | EE3: 40513 | EF3: 40544 | EG3: 40575 | EH3: 40603 | EI3: 40634 | EJ3: 40664 | EK3: 40695 | EL3: 40725 | EM3: 40756 | EN3: 40787 | EO3: 40817 | EP3: 40848 | EQ3: 40878 | ER3: 40909 | ES3: 40940 | ET3: 40969 | EU3: 41000 | EV3: 41030 | EW3: 41061 | EX3: 41091 | EY3: 41122 | EZ3: 41153 | FA3: 41183 | FB3: 41214 | FC3: 41244 | FD3: 41275 | FE3: 41306 | FF3: 41334 | FG3: 41365 | FH3: 41395 | FI3: 41426 | FJ3: 41456 | FK3: 41487 | FL3: 41518 | FM3: 41548 | FN3: 41579 | FO3: 41609 | FP3: 41640 | FQ3: 41671 | FR3: 41699 | FS3: 41730 | FT3: 41760 | FU3: 41791 | FV3: 41821 | FW3: 41852 | FX3: 41883 | FY3: 41913 | FZ3: 41944 | GA3: 41974 | GB3: 42005 | GC3: 42036 | GD3: 42064 | GE3: 42095 | GF3: 42125 | GG3: 42156 | GH3: 42186 | GI3: 42217 | GJ3: 42248 | GK3: 42278 | GL3: 42309 | GM3: 42339 | GN3: 42370 | GO3: 42401 | GP3: 42430 | GQ3: 42461 | GR3: 42491 | GS3: 42522 | GT3: 42552 | GU3: 42583 | GV3: 42614 | GW3: 42644 | GX3: 42675 | GY3: 42705 | GZ3: 42736 | HA3: 42767 | HB3: 42795 | HC3: 42826 | HD3: 42856 | HE3: 42887 | HF3: 42917 | HG3: 42948 | HH3: 42979 | HI3: 43009 | HJ3: 43040 | HK3: 43070 | HL3: 43101 | HM3: 43132 | HN3: 43160 | HO3: 43191 | HP3: 43221 | HQ3: 43252 | HR3: 43282 | HS3: 43313 | HT3: 43344 | HU3: 43374 | HV3: 43405 | HW3: 43435 | HX3: 43466 | HY3: 43497 | HZ3: 43525 | IA3: 43556 | IB3: 43586 | IC3: 43617 | ID3: 43647 | IE3: 43678 | IF3: 43709 | IG3: 43739 | IH3: 43770 | II3: 43800 | IJ3: 43831 | IK3: 43862 | IL3: 43891 | IM3: 43922 | IN3: 43952 | IO3: 43983 | IP3: 44013 | IQ3: 44044 | IR3: 44075 | IS3: 44105 | IT3: 44136 | IU3: 44166 | IV3: 44197 | IW3: 44228 | IX3: 44256 | IY3: 44287 | IZ3: 44317 | JA3: 44348 | JB3: 44378 | JC3: 44409 | JD3: 44440 | JE3: 44470 | JF3: 44501 | JG3: 44531 | JH3: 44562 | JI3: 44593 | JJ3: 44621 | JK3: 44652 | JL3: 44682 | JM3: 44713 | JN3: 44743 | JO3: 44774 | JP3: 44805 | JQ3: 44835 | JR3: 44866 | JS3: 44896 | JT3: 44927 | JU3: 44958 | JV3: 44986 | JW3: 45017 | JX3: 45047 | JY3: 45078 | JZ3: 45108 | KA3: 45139 | KB3: 45170 | KC3: 45200 | KD3: 45231 | KE3: 45261 | KF3: 45292 | KG3: 45323 | KH3: 45352 | KI3: 45383 | KJ3: 45413 | KK3: 45444 | KL3: 45474 | KM3: 45505 | KN3: 45536 | KO3: 45566 | KP3: 45597 | KQ3: 45627 | KR3: 45658 | KS3: 45689 | KT3: 45717 | KU3: 45748 | KV3: 45778 | KW3: 45809 | KX3: 45839 | KY3: 45870 | KZ3: 45901 | LA3: 45931 | LB3: 45962 | LC3: 45992 | LD3: 46023 | LE3: 46054 | LF3: 46082 | LG3: 46113 | LH3: 46143 | LI3: 46174 | LJ3: 46204 | LK3: 46236 | LL3: % +/- | LM3: Previous
D4: Price | E4: Price | F4: Price | G4: Price | H4: Price | I4: Price | J4: Price | K4: Price | L4: Price | M4: Price | N4: Price | O4: Price | P4: Price | Q4: Price | R4: Price | S4: Price | T4: Price | U4: Price | V4: Price | W4: Price | X4: Price | Y4: Price | Z4: Price | AA4: Price | AB4: Price | AC4: Price | AD4: Price | AE4: Price | AF4: Price | AG4: Price | AH4: Price | AI4: Price | AJ4: Price | AK4: Price | AL4: Price | AM4: Price | AN4: Price | AO4: Price | AP4: Price | AQ4: Price | AR4: Price | AS4: Price | AT4: Price | AU4: Price | AV4: Price | AW4: Price | AX4: Price | AY4: Price | AZ4: Price | BA4: Price | BB4: Price | BC4: Price | BD4: Price | BE4: Price | BF4: Price | BG4: Price | BH4: Price | BI4: Price | BJ4: Price | BK4: Price | BL4: Price | BM4: Price | BN4: Price | BO4: Price | BP4: Price | BQ4: Price | BR4: Price | BS4: Price | BT4: Price | BU4: Price | BV4: Price | BW4: Price | BX4: Price | BY4: Price | BZ4: Price | CA4: Price | CB4: Price | CC4: Price | CD4: Price | CE4: Price | CF4: Price | CG4: Price | CH4: Price | CI4: Price | CJ4: Price | CK4: Price | CL4: Price | CM4: Price | CN4: Price | CO4: Price | CP4: Price | CQ4: Price | CR4: Price | CS4: Price | CT4: Price | CU4: Price | LL4: * SMPY | LM4: month
A5: 1 | B5: Flour & Grains
B6: Cake flour | C6: 2.5kg | D6: 10.29 | E6: 10.28 | F6: 10.26 | G6: 10.25 | H6: 10.37 | I6: 10.37 | J6: 10.32 | K6: 10.21 | L6: 10.1 | M6: 10.11 | N6: 9.76 | O6: 9.74 | P6: 9.88 | Q6: 10.19 | R6: 10.05 | S6: 10.36 | T6: 10.24 | U6: 10.38 | V6: 10.46 | W6: 10.47 | X6: 10.55 | Y6: 10.43 | Z6: 10.27 | AA6: 10.31 | AB6: 10.5 | AC6: 11.1 | AD6: 11.42 | AE6: 11.54 | AF6: 11.68 | AG6: 12.08 | AH6: 12.22 | AI6: 13.02 | AJ6: 12.99 | AK6: 13.02 | AL6: 13.07 | AM6: 12.55 | AN6: 13.41 | AO6: 13.03 | AP6: 12.97 | AQ6: 12.7 | AR6: 12.59 | AS6: 13.2 | AT6: 13.33 | AU6: 13.18 | AV6: 13.39 | AW6: 13.46 | AX6: 12.96 | AY6: 12.32 | AZ6: 13.07 | BA6: 12.59 | BB6: 12.79 | BC6: 12.1 | BD6: 12.97 | BE6: 12.8 | BF6: 12.53 | BG6: 12.31 | BH6: 11.99 | BI6: 11.86 | BJ6: 11.67 | BK6: 12.26 | BL6: 12.29 | BM6: 11.84 | BN6: 11.83 | BO6: 11.53 | BP6: 11.59 | BQ6: 11.9 | BR6: 11.78 | BS6: 11.65 | BT6: 11.57 | BU6: 11.71 | BV6: 11.16 | BW6: 11.68 | BX6: 11.87 | BY6: 11.88 | BZ6: 11.71 | CA6: 11.52 | CB6: 11.71 | CC6: 11.7 | CD6: 11.3 | CE6: 11.31 | CF6: 11.17 | CG6: 11.51 | CH6: 11.44 | CI6: 11.31 | CJ6: 11.99 | CK6: 12.02 | CL6: 11.86 | CM6: 11.9 | CN6: 12.41 | CO6: 12.56 | CP6: 13.06 | CQ6: 13.55 | CR6: 13.65 | CS6: 13.64 | CT6: 14.08 | CU6: 14.45 | CV6: 15.06 | CW6: 16.9 | CX6: 17.72 | CY6: 18.1 | CZ6: 19.83 | DA6: 20.85 | DB6: 21.07 | DC6: 21.21 | DD6: 21.2 | DE6: 21.26 | DF6: 20.3 | DG6: 19.9 | DH6: 19.84 | DI6: 19.64 | DJ6: 19.07 | DK6: 18.23 | DL6: 18.39 | DM6: 17.99 | DN6: 17.73 | DO6: 17.59 | DP6: 17.36 | DQ6: 17.04 | DR6: 16.63 | DS6: 16.56 | DT6: 16.57 | DU6: 16.24 | DV6: 15.78 | DW6: 15.74 | DX6: 15.83 | DY6: 15.26 | DZ6: 15.51 | EA6: 15.79 | EB6: 16.16 | EC6: 16.94 | ED6: 17.1 | EE6: 16.8 | EF6: 17.11 | EG6: 17.14 | EH6: 17.94 | EI6: 18.1 | EJ6: 19.45 | EK6: 19.28 | EL6: 18.85 | EM6: 18.24 | EN6: 18.71 | EO6: 18.56 | EP6: 18.11 | EQ6: 18.47 | ER6: 18.59 | ES6: 17.98 | ET6: 18.5 | EU6: 18.26 | EV6: 18.39 | EW6: 18.26 | EX6: 18.2 | EY6: 18.37 | EZ6: 19.53 | FA6: 20.88 | FB6: 20.82 | FC6: 20.84 | FD6: 21.43 | FE6: 20.25 | FF6: 20.49 | FG6: 20.43 | FH6: 20.31 | FI6: 20.59 | FJ6: 20.55 | FK6: 20.83 | FL6: 21.39 | FM6: 21.77 | FN6: 21.47 | FO6: 21.68 | FP6: 21.97 | FQ6: 22.2 | FR6: 22.89 | FS6: 22.63 | FT6: 23.29 | FU6: 23.11 | FV6: 23.11 | FW6: 22.95 | FX6: 22.83 | FY6: 22.4 | FZ6: 22.87 | GA6: 21.65 | GB6: 21.99 | GC6: 22.21 | GD6: 22.78 | GE6: 22.57 | GF6: 23.86 | GG6: 22.97 | GH6: 22.32 | GI6: 22.77 | GJ6: 22.31 | GK6: 22.76 | GL6: 22.59 | GM6: 22.48 | GN6: 23.6 | GO6: 24.47 | GP6: 25.92 | GQ6: 26.48 | GR6: 26.72 | GS6: 26.42 | GT6: 26.19 | GU6: 26.52 | GV6: 26.92 | GW6: 26.83 | GX6: 26.61 | GY6: 26.98 | GZ6: 26.81 | HA6: 26.77 | HB6: 26.08 | HC6: 25.8 | HD6: 25.79 | HE6: 26.32 | HF6: 26.01 | HG6: 25.37 | HH6: 25.44 | HI6: 26.26 | HJ6: 25.7 | HK6: 25.79 | HL6: 25.16 | HM6: 24.88 | HN6: 25.53 | HO6: 25.58 | HP6: 25.33 | HQ6: 25.24 | HR6: 25.45 | HS6: 24.89 | HT6: 25.55 | HU6: 25.78 | HV6: 25.93 | HW6: 26.73 | HX6: 26.58 | HY6: 27.8 | HZ6: 27.38 | IA6: 26.35 | IB6: 25.05 | IC6: 24.94 | ID6: 24.99 | IE6: 25.15 | IF6: 24.93 | IG6: 25.86 | IH6: 25.44 | II6: 25.34 | IJ6: 25.88 | IK6: 25.64 | IL6: 26.02 | IM6: 27.53 | IN6: 27.51 | IO6: 29.99 | IP6: 29.17 | IQ6: 28.48 | IR6: 29.95 | IS6: 27.94 | IT6: 28.87 | IU6: 29.37 | IV6: 29.12 | IW6: 29.17 | IX6: 30.26 | IY6: 29.19 | IZ6: 28.83 | JA6: 28.71 | JB6: 30.58 | JC6: 29.65 | JD6: 29.7 | JE6: 30.88 | JF6: 29.97 | JG6: 30.98 | JH6: 31.3 | JI6: 33.63 | JJ6: 33.95 | JK6: 34.33 | JL6: 34.97 | JM6: 36.31 | JN6: 38.15 | JO6: 39.48 | JP6: 39.68 | JQ6: 40.29 | JR6: 40.1 | JS6: 40.34 | JT6: 40.73 | JU6: 41.21 | JV6: 42.38 | JW6: 41.91 | JX6: 42.2 | JY6: 42.28 | JZ6: 42.9 | KA6: 43.02 | KB6: 42.73 | KC6: 43.32 | KD6: 43.29 | KE6: 43.24 | KF6: 43.03 | KG6: 43.23 | KH6: 43.13 | KI6: 42.69 | KJ6: 42.75 | KK6: 43.1 | KL6: 42.67 | KM6: 43.02 | KN6: 42.97 | KO6: 42.49 | KP6: 42.44 | KQ6: 41.8 | KR6: 41.93 | KS6: 42.27 | KT6: 42.2 | KU6: 42.19 | KV6: 42.39 | KW6: 43.02 | KX6: 42.57 | KY6: 42.91 | KZ6: 42.95 | LA6: 42.59 | LB6: 42.68 | LC6: 42.45 | LD6: 42.71 | LE6: 42.26 | LF6: 42.45 | LG6: 42.62 | LH6: 42.34 | LI6: 42.8 | LJ6: 42.76 | LK6: ='Stats SA Food Prices'!LK7 -> 42.98 | LL6: =(LK6-KY6)/KY6*100 -> 0.16313214 | LM6: =SUM(LJ6-LK6)/LK6*100 -> -0.51186598
B7: Bread flour | C7: 2.5kg | D7: 10.38 | E7: 10.41 | F7: 10.46 | G7: 10.37 | H7: 10.4 | I7: 10.37 | J7: 10.38 | K7: 10.22 | L7: 10.13 | M7: 10.1 | N7: 9.92 | O7: 9.94 | P7: 9.87 | Q7: 9.8 | R7: 10.02 | S7: 10.21 | T7: 10.23 | U7: 10.33 | V7: 10.24 | W7: 10.33 | X7: 10.33 | Y7: 10.27 | Z7: 10.26 | AA7: 10.28 | AB7: 10.36 | AC7: 10.93 | AD7: 11.39 | AE7: 11.49 | AF7: 11.92 | AG7: 12.29 | AH7: 12.44 | AI7: 13.26 | AJ7: 13.12 | AK7: 13.18 | AL7: 13.17 | AM7: 13.2 | AN7: 13.24 | AO7: 13.08 | AP7: 12.91 | AQ7: 13.04 | AR7: 13.08 | AS7: 13.22 | AT7: 13.82 | AU7: 13.49 | AV7: 13.54 | AW7: 13.51 | AX7: 13.28 | AY7: 12.86 | AZ7: 12.75 | BA7: 12.67 | BB7: 12.62 | BC7: 12.67 | BD7: 12.68 | BE7: 12.54 | BF7: 12.16 | BG7: 12.46 | BH7: 12.16 | BI7: 12.17 | BJ7: 12.19 | BK7: 12.15 | BL7: 12.15 | BM7: 12.16 | BN7: 12.06 | BO7: 12.06 | BP7: 11.89 | BQ7: 11.86 | BR7: 11.87 | BS7: 11.84 | BT7: 11.81 | BU7: 11.78 | BV7: 11.85 | BW7: 11.97 | BX7: 11.93 | BY7: 11.92 | BZ7: 11.87 | CA7: 11.77 | CB7: 11.67 | CC7: 11.76 | CD7: 11.69 | CE7: 11.59 | CF7: 11.74 | CG7: 11.79 | CH7: 11.77 | CI7: 11.62 | CJ7: 12.04 | CK7: 12.25 | CL7: 12.39 | CM7: 12.44 | CN7: 12.77 | CO7: 13.18 | CP7: 13.7 | CQ7: 14.31 | CR7: 14.67 | CS7: 14.54 | CT7: 14.6 | CU7: 14.89 | CV7: 14.98 | CW7: 16.55 | CX7: 18.05 | CY7: 18.94 | CZ7: 21.27 | DA7: 23.09 | DB7: 22.96 | DC7: 23.24 | DD7: 23.34 | DE7: 23.51 | DF7: 22.89 | DG7: 22.85 | DH7: 21.47 | DI7: 20.08 | DJ7: 19.72 | DK7: 18.89 | DL7: 18.56 | DM7: 18.32 | DN7: 17.86 | DO7: 17.61 | DP7: 17.49 | DQ7: 17.52 | DR7: 17.41 | DS7: 17.39 | DT7: 17.17 | DU7: 17.39 | DV7: 17 | DW7: 16.78 | DX7: 16.69 | DY7: 16.22 | DZ7: 15.9 | EA7: 16.46 | EB7: 16.72 | EC7: 17.18 | ED7: 18.02 | EE7: 18.05 | EF7: 18.23 | EG7: 18.3 | EH7: 18.47 | EI7: 18.99 | EJ7: 20.06 | EK7: 20.23 | EL7: 20.28 | EM7: 20.18 | EN7: 20.04 | EO7: 19.88 | EP7: 19.69 | EQ7: 19.57 | ER7: 19.93 | ES7: 19.7 | ET7: 19.81 | EU7: 19.71 | EV7: 19.43 | EW7: 19.47 | EX7: 19.45 | EY7: 19.5 | EZ7: 20.77 | FA7: 21.25 | FB7: 21.72 | FC7: 21.59 | FD7: 21.84 | FE7: 21.45 | FF7: 21.58 | FG7: 21.71 | FH7: 21.96 | FI7: 22.02 | FJ7: 21.25 | FK7: 21.29 | FL7: 21.15 | FM7: 21.54 | FN7: 21.49 | FO7: 21.3 | FP7: 21.49 | FQ7: 22.01 | FR7: 22.78 | FS7: 22.73 | FT7: 23.36 | FU7: 23.37 | FV7: 23.41 | FW7: 23.67 | FX7: 23.53 | FY7: 23.29 | FZ7: 22.84 | GA7: 23.11 | GB7: 22.81 | GC7: 23.24 | GD7: 23.49 | GE7: 23.48 | GF7: 23.55 | GG7: 23.72 | GH7: 23.68 | GI7: 23.68 | GJ7: 23.14 | GK7: 23.78 | GL7: 24.23 | GM7: 24.45 | GN7: 24.7 | GO7: 25.92 | GP7: 26.75 | GQ7: 27.4 | GR7: 27.97 | GS7: 27.81 | GT7: 28.16 | GU7: 28.24 | GV7: 28.34 | GW7: 28.89 | GX7: 28.87 | GY7: 30.08 | GZ7: 31.41 | HA7: 31.65 | HB7: 30.8 | HC7: 30.24 | HD7: 30.76 | HE7: 30.86 | HF7: 29.96 | HG7: 29.7 | HH7: 29.08 | HI7: 29.23 | HJ7: 29.53 | HK7: 29.08 | HL7: 29.6 | HM7: 29.59 | HN7: 29.94 | HO7: 30.2 | HP7: 29.5 | HQ7: 30.23 | HR7: 30.03 | HS7: 30.16 | HT7: 29.71 | HU7: 29.74 | HV7: 29.37 | HW7: 29.45 | HX7: 29.56 | HY7: 30.33 | HZ7: 29.91 | IA7: 29.08 | IB7: 27.92 | IC7: 28 | ID7: 27.19 | IE7: 28.01 | IF7: 28.51 | IG7: 28.64 | IH7: 28.62 | II7: 28.53 | IJ7: 28.67 | IK7: 28.49 | IL7: 28.67 | IM7: 27.03 | IN7: 28.61 | IO7: 29.39 | IP7: 30.16 | IQ7: 36 | IR7: 35.73 | IS7: 34.49 | IT7: 34.17 | IU7: 33.02 | IV7: 36.28 | IW7: 36.83 | IX7: 34.38 | IY7: 34.34 | IZ7: 33.64 | JA7: 34.06 | JB7: 36.76 | JC7: 35.53 | JD7: 34.65 | JE7: 34.37 | JF7: 35.72 | JG7: 35.13 | JH7: 35.39 | JI7: 37.75 | JJ7: 38.97 | JK7: 38.57 | JL7: 40.26 | JM7: 39.36 | JN7: 41.66 | JO7: 44.45 | JP7: 42.21 | JQ7: 43.59 | JR7: 44.29 | JS7: 44.41 | JT7: 44.54 | JU7: 45.97 | JV7: 45.86 | JW7: 46.22 | JX7: 45.15 | JY7: 46.9 | JZ7: 47.13 | KA7: 47.1 | KB7: 46.61 | KC7: 46.99 | KD7: 47.25 | KE7: 47.06 | KF7: 47.12 | KG7: 47.23 | KH7: 47.11 | KI7: 46.53 | KJ7: 47.24 | KK7: 47.21 | KL7: 47.26 | KM7: 47.3 | KN7: 47.14 | KO7: 46.6 | KP7: 46.77 | KQ7: 46.24 | KR7: 46.32 | KS7: 46.61 | KT7: 46.88 | KU7: 46.65 | KV7: 46.43 | KW7: 46.98 | KX7: 46.67 | KY7: 47.24 | KZ7: 48.03 | LA7: 48.43 | LB7: 47.83 | LC7: 47.19 | LD7: 46.65 | LE7: 46.68 | LF7: 46.84 | LG7: 46.91 | LH7: 46.84 | LI7: 47.07 | LJ7: 47.43 | LK7: ='Stats SA Food Prices'!LK8 -> 47.32 | LL7: =(LK7-KY7)/KY7*100 -> 0.16934801 | LM7: =SUM(LJ7-LK7)/LK7*100 -> 0.23245985
B8: Sorghum Meal | C8: 2kg | KR8: 55.12 | KS8: 55.23 | KT8: 54.69 | KU8: 54.4 | KV8: 54.29 | KW8: 54.54 | KX8: 54.67 | KY8: 55.78 | KZ8: 56.37 | LA8: 57.19 | LB8: 57.5 | LC8: 57.14 | LD8: 56.94 | LE8: 57.2 | LF8: 57.26 | LG8: 57.35 | LH8: 57.04 | LI8: 57.89 | LJ8: 58.56 | LK8: ='Stats SA Food Prices'!LK9 -> 58.97 | LL8: =(LK8-KY8)/KY8*100 -> 5.7188957 | LM8: =SUM(LJ8-LK8)/LK8*100 -> -0.69526878
B9: Maize meal | C9: 2.5kg | JH9: 26.65 | JI9: 28.11 | JJ9: 28.69 | JK9: 28.02 | JL9: 30.15 | JM9: 33.61 | JN9: 32.31 | JO9: 33.05 | JP9: 32.71 | JQ9: 33.82 | JR9: 34.08 | JS9: 35.19 | JT9: 36.6 | JU9: 37.63 | JV9: 37.86 | JW9: 37.98 | JX9: 38.36 | JY9: 37.57 | JZ9: 37.18 | KA9: 36.73 | KB9: 36.81 | KC9: 36.86 | KD9: 37.04 | KE9: 36.64 | KF9: 36.7 | KG9: 37.12 | KH9: 36.8 | KI9: 36.76 | KJ9: 37.66 | KK9: 38.34 | KL9: 39.11 | KM9: 39.09 | KN9: 38.93 | KO9: 38.45 | KP9: 38.04 | KQ9: 38.48 | KR9: 40.39 | KS9: 41.34 | KT9: 42.11 | KU9: 42.5 | KV9: 43.04 | KW9: 43.57 | KX9: 43.26 | KY9: 42.68 | KZ9: 42.73 | LA9: 42.39 | LB9: 42.16 | LC9: 42.35 | LD9: 41.9 | LE9: 41.53 | LF9: 40.74 | LG9: 40.63 | LH9: 40.56 | LI9: 39.79 | LJ9: 39.06 | LK9: ='Stats SA Food Prices'!LK10 -> 38.53 | LL9: =(LK9-KY9)/KY9*100 -> -9.7235239 | LM9: =SUM(LJ9-LK9)/LK9*100 -> 1.3755515
B10: Maize meal | C10: 5kg | JH10: 52.32 | JI10: 54.23 | JJ10: 53.67 | JK10: 54.17 | JL10: 57.64 | JM10: 58.42 | JN10: 59.43 | JO10: 62.39 | JP10: 63.12 | JQ10: 62.22 | JR10: 65.01 | JS10: 65.58 | JT10: 66.2 | JU10: 67.27 | JV10: 68.9 | JW10: 69.15 | JX10: 67.82 | JY10: 66.55 | JZ10: 67.22 | KA10: 68.34 | KB10: 69.03 | KC10: 66.59 | KD10: 68.02 | KE10: 66.6 | KF10: 66.88 | KG10: 68.52 | KH10: 67.29 | KI10: 66.61 | KJ10: 66.53 | KK10: 71.21 | KL10: 72.42 | KM10: 71.96 | KN10: 71.4 | KO10: 70.47 | KP10: 71.08 | KQ10: 71.04 | KR10: 73.11 | KS10: 74.91 | KT10: 75.47 | KU10: 77.55 | KV10: 76.27 | KW10: 77.13 | KX10: 74.32 | KY10: 74.92 | KZ10: 75.46 | LA10: 75.01 | LB10: 73.16 | LC10: 73.37 | LD10: 70.97 | LE10: 72.59 | LF10: 69.52 | LG10: 68.88 | LH10: 68.51 | LI10: 67.31 | LJ10: 65.09 | LK10: ='Stats SA Food Prices'!LK11 -> 65.26 | LL10: =(LK10-KY10)/KY10*100 -> -12.893753 | LM10: =SUM(LJ10-LK10)/LK10*100 -> -0.26049648
B11: Samp | C11: 2.5kg | KR11: 47.52 | KS11: 49.04 | KT11: 49.68 | KU11: 50.14 | KV11: 50.43 | KW11: 51.56 | KX11: 51.56 | KY11: 51.89 | KZ11: 52.33 | LA11: 52.59 | LB11: 52.63 | LC11: 52.26 | LD11: 51.75 | LE11: 52.01 | LF11: 50.9 | LG11: 49.53 | LH11: 49.69 | LI11: 50.07 | LJ11: 49.84 | LK11: ='Stats SA Food Prices'!LK12 -> 49.96 | LL11: =(LK11-KY11)/KY11*100 -> -3.7194064 | LM11: =SUM(LJ11-LK11)/LK11*100 -> -0.24019215
A13: 2 | B13: Bakery Products
B14: White Bread | C14: 600gr | KR14: 12.28 | KS14: 12.25 | KT14: 12.44 | KU14: 12.44 | KV14: 12.52 | KW14: 12.37 | KX14: 12.02 | KY14: 11.99 | KZ14: 12.07 | LA14: 12.07 | LB14: 12.22 | LC14: 12.22 | LD14: 12.12 | LE14: 12.02 | LF14: 12.14 | LG14: 12.34 | LH14: 12.47 | LI14: 12.67 | LJ14: 12.52 | LK14: ='Stats SA Food Prices'!LK13 -> 12.51 | LL14: =(LK14-KY14)/KY14*100 -> 4.3369475 | LM14: =SUM(LJ14-LK14)/LK14*100 -> 0.079936051
B15: White Bread | C15: 700gr | D15: 3.25 | E15: 3.27 | F15: 3.27 | G15: 3.27 | H15: 3.23 | I15: 3.26 | J15: 3.29 | K15: 3.32 | L15: 3.29 | M15: 3.35 | N15: 3.43 | O15: 3.45 | P15: 3.45 | Q15: 3.44 | R15: 3.47 | S15: 3.38 | T15: 3.47 | U15: 3.46 | V15: 3.47 | W15: 3.48 | X15: 3.46 | Y15: 3.61 | Z15: 3.72 | AA15: 3.74 | AB15: 3.63 | AC15: 3.66 | AD15: 3.92 | AE15: 3.96 | AF15: 3.87 | AG15: 3.95 | AH15: 3.95 | AI15: 4.09 | AJ15: 4.18 | AK15: 4.2 | AL15: 4.19 | AM15: 4.21 | AN15: 4.17 | AO15: 4.25 | AP15: 4.26 | AQ15: 4.23 | AR15: 4.25 | AS15: 4.26 | AT15: 4.31 | AU15: 4.44 | AV15: 4.46 | AW15: 4.51 | AX15: 4.5 | AY15: 4.5 | AZ15: 4.5 | BA15: 4.52 | BB15: 4.54 | BC15: 4.45 | BD15: 4.57 | BE15: 4.57 | BF15: 4.53 | BG15: 4.54 | BH15: 4.59 | BI15: 4.6 | BJ15: 4.7 | BK15: 4.7 | BL15: 4.69 | BM15: 4.69 | BN15: 4.69 | BO15: 4.61 | BP15: 4.61 | BQ15: 4.72 | BR15: 4.62 | BS15: 4.68 | BT15: 4.73 | BU15: 4.58 | BV15: 4.72 | BW15: 4.62 | BX15: 4.75 | BY15: 4.81 | BZ15: 4.85 | CA15: 4.88 | CB15: 4.8 | CC15: 4.79 | CD15: 4.81 | CE15: 4.94 | CF15: 4.86 | CG15: 4.94 | CH15: 4.93 | CI15: 4.89 | CJ15: 4.98 | CK15: 5.17 | CL15: 5.26 | CM15: 5.31 | CN15: 5.26 | CO15: 5.3 | CP15: 5.43 | CQ15: 5.57 | CR15: 5.7 | CS15: 5.74 | CT15: 5.75 | CU15: 5.85 | CV15: 5.89 | CW15: 6.26 | CX15: 6.42 | CY15: 6.71 | CZ15: 7.22 | DA15: 7.52 | DB15: 7.58 | DC15: 7.63 | DD15: 7.73 | DE15: 7.8 | DF15: 7.82 | DG15: 7.86 | DH15: 7.91 | DI15: 7.92 | DJ15: 7.9 | DK15: 7.87 | DL15: 7.97 | DM15: 7.91 | DN15: 7.87 | DO15: 7.84 | DP15: 7.83 | DQ15: 7.88 | DR15: 7.83 | DS15: 7.84 | DT15: 7.83 | DU15: 7.85 | DV15: 7.81 | DW15: 7.72 | DX15: 7.77 | DY15: 7.78 | DZ15: 7.8 | EA15: 7.87 | EB15: 7.92 | EC15: 8 | ED15: 8.31 | EE15: 8.31 | EF15: 8.31 | EG15: 8.31 | EH15: 8.22 | EI15: 8.23 | EJ15: 8.71 | EK15: 8.79 | EL15: 8.9 | EM15: 8.91 | EN15: 9.03 | EO15: 9.03 | EP15: 9.15 | EQ15: 9.18 | ER15: 9.17 | ES15: 9.31 | ET15: 9.21 | EU15: 9.19 | EV15: 9.23 | EW15: 9.23 | EX15: 9.34 | EY15: 9.31 | EZ15: 9.47 | FA15: 9.88 | FB15: 10.11 | FC15: 10.09 | FD15: 10.09 | FE15: 10.09 | FF15: 9.96 | FG15: 10.11 | FH15: 10.19 | FI15: 10.25 | FJ15: 10.3 | FK15: 10.37 | FL15: 10.45 | FM15: 10.5 | FN15: 10.48 | FO15: 10.51 | FP15: 10.49 | FQ15: 10.75 | FR15: 10.75 | FS15: 10.93 | FT15: 11.08 | FU15: 11.29 | FV15: 11.18 | FW15: 11.24 | FX15: 11.26 | FY15: 11.53 | FZ15: 11.43 | GA15: 11.43 | GB15: 11.42 | GC15: 11.56 | GD15: 11.62 | GE15: 11.61 | GF15: 11.8 | GG15: 11.79 | GH15: 11.89 | GI15: 11.94 | GJ15: 11.98 | GK15: 11.9 | GL15: 11.88 | GM15: 11.9 | GN15: 12.03 | GO15: 12.39 | GP15: 12.51 | GQ15: 12.66 | GR15: 12.82 | GS15: 12.85 | GT15: 13.01 | GU15: 13.34 | GV15: 13.34 | GW15: 13.52 | GX15: 13.61 | GY15: 13.6 | GZ15: 13.41 | HA15: 13.38 | HB15: 13.43 | HC15: 13.49 | HD15: 13.37 | HE15: 13.36 | HF15: 13.41 | HG15: 13.22 | HH15: 13.03 | HI15: 12.98 | HJ15: 12.92 | HK15: 12.91 | HL15: 12.92 | HM15: 13.08 | HN15: 12.95 | HO15: 13.05 | HP15: 12.92 | HQ15: 12.96 | HR15: 12.95 | HS15: 12.98 | HT15: 13.14 | HU15: 13.14 | HV15: 13.17 | HW15: 13.29 | HX15: 13.45 | HY15: 13.7 | HZ15: 13.86 | IA15: 13.85 | IB15: 13.96 | IC15: 13.9 | ID15: 13.83 | IE15: 13.75 | IF15: 13.73 | IG15: 13.71 | IH15: 13.62 | II15: 13.51 | IJ15: 13.51 | IK15: 13.63 | IL15: 13.66 | IM15: 14.43 | IN15: 14.7 | IO15: 15.19 | IP15: 15.05 | IQ15: 15.38 | IR15: 15.03 | IS15: 15.1 | IT15: 15.42 | IU15: 15.21 | IV15: 15.63 | IW15: 15.81 | IX15: 15.65 | IY15: 15.11 | IZ15: 15.33 | JA15: 15.24 | JB15: 15.57 | JC15: 15.3 | JD15: 15.27 | JE15: 15.39 | JF15: 15.68 | JG15: 15.46 | JH15: 15.47 | JI15: 16.16 | JJ15: 16.05 | JK15: 16.24 | JL15: 17.27 | JM15: 17.41 | JN15: 17.84 | JO15: 18.38 | JP15: 18.67 | JQ15: 18.54 | JR15: 18.68 | JS15: 18.62 | JT15: 18.66 | JU15: 18.79 | JV15: 18.97 | JW15: 19.07 | JX15: 18.99 | JY15: 18.73 | JZ15: 18.77 | KA15: 18.29 | KB15: 18.39 | KC15: 18.44 | KD15: 18.51 | KE15: 18.59 | KF15: 18.53 | KG15: 18.58 | KH15: 18.43 | KI15: 18.43 | KJ15: 18.54 | KK15: 18.63 | KL15: 18.68 | KM15: 18.97 | KN15: 18.88 | KO15: 19.06 | KP15: 19.04 | KQ15: 19.02 | KR15: 18.82 | KS15: 18.95 | KT15: 18.92 | KU15: 18.86 | KV15: 18.93 | KW15: 18.94 | KX15: 18.94 | KY15: 18.83 | KZ15: 18.93 | LA15: 19.14 | LB15: 19.14 | LC15: 19.16 | LD15: 19.21 | LE15: 19.15 | LF15: 19.26 | LG15: 19.38 | LH15: 19.61 | LI15: 19.76 | LJ15: 19.61 | LK15: ='Stats SA Food Prices'!LK14 -> 19.62 | LL15: =(LK15-KY15)/KY15*100 -> 4.1954328 | LM15: =SUM(LJ15-LK15)/LK15*100 -> -0.0509684
B16: Brown Bread | C16: 600gr | KR16: 11.1 | KS16: 11.1 | KT16: 11.1 | KU16: 11.14 | KV16: 11.29 | KW16: 11.37 | KX16: 11.07 | KY16: 11.71 | KZ16: 11.76 | LA16: 11.76 | LB16: 11.27 | LC16: 11.27 | LD16: 11.63 | LE16: 11.27 | LF16: 11.63 | LG16: 11.58 | LH16: 11.62 | LI16: 11.62 | LJ16: 11.57 | LK16: ='Stats SA Food Prices'!LK15 -> 11.61 | LL16: =(LK16-KY16)/KY16*100 -> -0.85397096 | LM16: =SUM(LJ16-LK16)/LK16*100 -> -0.34453058
B17: Brown Bread | C17: 700gr | D17: 2.77 | E17: 2.78 | F17: 2.78 | G17: 2.77 | H17: 2.77 | I17: 2.77 | J17: 2.79 | K17: 2.82 | L17: 2.77 | M17: 2.91 | N17: 2.92 | O17: 2.98 | P17: 2.97 | Q17: 2.98 | R17: 3.03 | S17: 3.02 | T17: 3.04 | U17: 2.94 | V17: 2.98 | W17: 3.02 | X17: 2.94 | Y17: 3.17 | Z17: 3.23 | AA17: 3.26 | AB17: 3.24 | AC17: 3.26 | AD17: 3.44 | AE17: 3.31 | AF17: 3.41 | AG17: 3.62 | AH17: 3.61 | AI17: 3.66 | AJ17: 3.68 | AK17: 3.84 | AL17: 3.7 | AM17: 3.81 | AN17: 3.73 | AO17: 3.78 | AP17: 3.74 | AQ17: 3.76 | AR17: 3.76 | AS17: 3.65 | AT17: 3.63 | AU17: 3.96 | AV17: 3.9 | AW17: 3.78 | AX17: 3.94 | AY17: 3.84 | AZ17: 3.81 | BA17: 3.92 | BB17: 3.93 | BC17: 3.93 | BD17: 3.97 | BE17: 3.97 | BF17: 3.93 | BG17: 3.93 | BH17: 3.93 | BI17: 3.93 | BJ17: 4.05 | BK17: 4.05 | BL17: 4.05 | BM17: 4.1 | BN17: 4.09 | BO17: 4.12 | BP17: 4.06 | BQ17: 3.95 | BR17: 4.07 | BS17: 4.04 | BT17: 4.06 | BU17: 4.05 | BV17: 4.06 | BW17: 4.04 | BX17: 4.38 | BY17: 4.43 | BZ17: 4.45 | CA17: 4.47 | CB17: 4.39 | CC17: 4.31 | CD17: 4.42 | CE17: 4.41 | CF17: 4.4 | CG17: 4.47 | CH17: 4.5 | CI17: 4.42 | CJ17: 4.59 | CK17: 4.74 | CL17: 4.75 | CM17: 4.82 | CN17: 4.77 | CO17: 4.85 | CP17: 4.96 | CQ17: 5.01 | CR17: 5.14 | CS17: 5.19 | CT17: 5.28 | CU17: 5.27 | CV17: 5.35 | CW17: 5.64 | CX17: 5.75 | CY17: 5.86 | CZ17: 6.43 | DA17: 6.75 | DB17: 6.86 | DC17: 6.87 | DD17: 6.99 | DE17: 7.02 | DF17: 7.02 | DG17: 7.07 | DH17: 7.18 | DI17: 7.29 | DJ17: 7.21 | DK17: 7.17 | DL17: 7.12 | DM17: 7.16 | DN17: 7.11 | DO17: 7.05 | DP17: 7.1 | DQ17: 7.04 | DR17: 7.01 | DS17: 6.98 | DT17: 6.97 | DU17: 7.09 | DV17: 6.99 | DW17: 7 | DX17: 6.98 | DY17: 6.97 | DZ17: 7 | EA17: 7.02 | EB17: 7.08 | EC17: 7.17 | ED17: 7.41 | EE17: 7.3 | EF17: 7.3 | EG17: 7.34 | EH17: 7.3 | EI17: 7.3 | EJ17: 7.74 | EK17: 7.85 | EL17: 7.99 | EM17: 8 | EN17: 8.07 | EO17: 8.08 | EP17: 8.15 | EQ17: 8.23 | ER17: 8.24 | ES17: 8.38 | ET17: 8.32 | EU17: 8.23 | EV17: 8.24 | EW17: 8.27 | EX17: 8.25 | EY17: 8.23 | EZ17: 8.38 | FA17: 8.8 | FB17: 8.97 | FC17: 9.03 | FD17: 9.01 | FE17: 8.95 | FF17: 8.93 | FG17: 9.04 | FH17: 9.15 | FI17: 9.16 | FJ17: 9.27 | FK17: 9.25 | FL17: 9.39 | FM17: 9.39 | FN17: 9.38 | FO17: 9.41 | FP17: 9.47 | FQ17: 9.54 | FR17: 9.59 | FS17: 9.77 | FT17: 9.89 | FU17: 10.06 | FV17: 10.04 | FW17: 10.06 | FX17: 10.08 | FY17: 10.15 | FZ17: 10.25 | GA17: 10.24 | GB17: 10.29 | GC17: 10.33 | GD17: 10.51 | GE17: 10.51 | GF17: 10.62 | GG17: 10.62 | GH17: 10.64 | GI17: 10.68 | GJ17: 10.66 | GK17: 10.77 | GL17: 10.8 | GM17: 10.82 | GN17: 10.88 | GO17: 11.22 | GP17: 11.33 | GQ17: 11.5 | GR17: 11.68 | GS17: 11.66 | GT17: 11.86 | GU17: 12.11 | GV17: 12.27 | GW17: 12.26 | GX17: 12.24 | GY17: 12.28 | GZ17: 12.31 | HA17: 12.23 | HB17: 12.15 | HC17: 12.2 | HD17: 12.14 | HE17: 12.24 | HF17: 12.18 | HG17: 12.11 | HH17: 11.85 | HI17: 11.98 | HJ17: 11.87 | HK17: 11.99 | HL17: 12.04 | HM17: 12.14 | HN17: 11.53 | HO17: 11.47 | HP17: 11.39 | HQ17: 11.53 | HR17: 11.34 | HS17: 11.58 | HT17: 11.66 | HU17: 11.69 | HV17: 11.8 | HW17: 11.82 | HX17: 12.17 | HY17: 12.48 | HZ17: 12.57 | IA17: 12.56 | IB17: 12.63 | IC17: 12.65 | ID17: 12.62 | IE17: 12.48 | IF17: 12.51 | IG17: 12.53 | IH17: 12.48 | II17: 12.42 | IJ17: 12.42 | IK17: 12.47 | IL17: 12.5 | IM17: 13.25 | IN17: 13.02 | IO17: 13.32 | IP17: 13.4 | IQ17: 13.6 | IR17: 13.84 | IS17: 13.88 | IT17: 14.06 | IU17: 14.14 | IV17: 14.11 | IW17: 14.2 | IX17: 13.83 | IY17: 14.16 | IZ17: 14.03 | JA17: 13.72 | JB17: 13.52 | JC17: 12.63 | JD17: 13.23 | JE17: 13.59 | JF17: 13.99 | JG17: 13.97 | JH17: 13.99 | JI17: 14.64 | JJ17: 14.64 | JK17: 14.93 | JL17: 15.37 | JM17: 15.9 | JN17: 15.93 | JO17: 16.32 | JP17: 16.69 | JQ17: 16.75 | JR17: 16.74 | JS17: 16.61 | JT17: 16.83 | JU17: 16.84 | JV17: 17.16 | JW17: 17.29 | JX17: 17.19 | JY17: 17.19 | JZ17: 17.17 | KA17: 16.96 | KB17: 16.96 | KC17: 17.06 | KD17: 17.12 | KE17: 17.12 | KF17: 17.16 | KG17: 17.06 | KH17: 17.19 | KI17: 17.14 | KJ17: 17.21 | KK17: 17.31 | KL17: 17.28 | KM17: 17.52 | KN17: 17.64 | KO17: 17.63 | KP17: 17.55 | KQ17: 17.39 | KR17: 17.34 | KS17: 17.52 | KT17: 17.6 | KU17: 17.48 | KV17: 17.54 | KW17: 17.42 | KX17: 17.4 | KY17: 17.43 | KZ17: 17.46 | LA17: 17.54 | LB17: 17.57 | LC17: 17.53 | LD17: 17.58 | LE17: 17.54 | LF17: 17.49 | LG17: 17.57 | LH17: 17.61 | LI17: 17.74 | LJ17: 17.72 | LK17: ='Stats SA Food Prices'!LK16 -> 17.56 | LL17: =(LK17-KY17)/KY17*100 -> 0.7458405 | LM17: =SUM(LJ17-LK17)/LK17*100 -> 0.91116173
B18: Bread rolls | C18: For_6 | GZ18: 13.09 | HA18: 11.9 | HB18: 11.94 | HC18: 11.58 | HD18: 11.73 | HE18: 11.34 | HF18: 11.52 | HG18: 11.13 | HH18: 10.95 | HI18: 11.23 | HJ18: 11.48 | HK18: 11.53 | HL18: 11.33 | HM18: 11.22 | HN18: 11.34 | HO18: 11.49 | HP18: 11.58 | HQ18: 11.59 | HR18: 11.74 | HS18: 11.72 | HT18: 11.77 | HU18: 11.75 | HV18: 11.84 | HW18: 12.05 | HX18: 11.63 | HY18: 11.89 | HZ18: 12.09 | IA18: 12.1 | IB18: 12.08 | IC18: 12.19 | ID18: 12.5 | IE18: 12.51 | IF18: 12.48 | IG18: 12.9 | IH18: 12.83 | II18: 12.65 | IJ18: 12.42 | IK18: 12.56 | IL18: 12.91 | IM18: 17.5 | IN18: 17.49 | IO18: 17.99 | IP18: 17.28 | IQ18: 16.02 | IR18: 15.69 | IS18: 15.86 | IT18: 15.98 | IU18: 14 | IV18: 17.3 | IW18: 17.51 | IX18: 15.78 | IY18: 15.39 | IZ18: 14.05 | JA18: 13.98 | JB18: 14.65 | JC18: 14.58 | JD18: 13.03 | JE18: 14.55 | JF18: 13.72 | JG18: 14.69 | JH18: 15.87 | JI18: 14.68 | JJ18: 14.87 | JK18: 15.57 | JL18: 16.79 | JM18: 16.29 | JN18: 16.43 | JO18: 17.45 | JP18: 16.82 | JQ18: 17.31 | JR18: 18.42 | JS18: 18.52 | JT18: 17.57 | JU18: 17.32 | JV18: 17.88 | JW18: 18.41 | JX18: 18.43 | JY18: 19.1 | JZ18: 19.94 | KA18: 18 | KB18: 18.06 | KC18: 18.45 | KD18: 18.19 | KE18: 18.4 | KF18: 18.66 | KG18: 19.04 | KH18: 18.92 | KI18: 18.94 | KJ18: 18.76 | KK18: 18.64 | KL18: 18.97 | KM18: 19.01 | KN18: 19 | KO18: 18.74 | KP18: 19.45 | KQ18: 19.26 | KR18: 19.04 | KS18: 19.27 | KT18: 19.35 | KU18: 19.46 | KV18: 19.58 | KW18: 19.49 | KX18: 18.93 | KY18: 19.82 | KZ18: 19.66 | LA18: 20.55 | LB18: 20.57 | LC18: 20.59 | LD18: 20.78 | LE18: 20.79 | LF18: 21.38 | LG18: 21.46 | LH18: 20.95 | LI18: 20.37 | LJ18: 20.58 | LK18: ='Stats SA Food Prices'!LK17 -> 20.73 | LL18: =(LK18-KY18)/KY18*100 -> 4.5913219 | LM18: =SUM(LJ18-LK18)/LK18*100 -> -0.723589
B19: Rusks | C19: 500gr | GZ19: 33.48 | HA19: 33.88 | HB19: 33.71 | HC19: 34.05 | HD19: 32.94 | HE19: 31.37 | HF19: 31.12 | HG19: 31.19 | HH19: 30.49 | HI19: 33.18 | HJ19: 33.19 | HK19: 33.96 | HL19: 34.46 | HM19: 34.28 | HN19: 34.64 | HO19: 34.67 | HP19: 33.3 | HQ19: 32.83 | HR19: 32.79 | HS19: 32.8 | HT19: 33.49 | HU19: 35.13 | HV19: 35.89 | HW19: 36.54 | HX19: 36.62 | HY19: 36.12 | HZ19: 36.2 | IA19: 36.42 | IB19: 35.15 | IC19: 36.01 | ID19: 35.58 | IE19: 36.34 | IF19: 36.7 | IG19: 36.54 | IH19: 36.98 | II19: 37.39 | IJ19: 38.41 | IK19: 38.08 | IL19: 38.46 | IM19: 39.64 | IN19: 39.4 | IO19: 35.85 | IP19: 37.73 | IQ19: 38.6 | IR19: 39.3 | IS19: 40.72 | IT19: 41.52 | IU19: 41.52 | IV19: 40.94 | IW19: 41.19 | IX19: 41.13 | IY19: 41.01 | IZ19: 43.32 | JA19: 44.08 | JB19: 43.56 | JC19: 42.67 | JD19: 42.91 | JE19: 44.69 | JF19: 40.64 | JG19: 41.71 | JH19: 42.89 | JI19: 43.89 | JJ19: 43.22 | JK19: 43.69 | JL19: 47.46 | JM19: 48.97 | JN19: 55.31 | JO19: 53.4 | JP19: 52.06 | JQ19: 52.35 | JR19: 49.46 | JS19: 49.52 | JT19: 49.71 | JU19: 52.82 | JV19: 53.13 | JW19: 51.69 | JX19: 55.65 | JY19: 51.86 | JZ19: 51.71 | KA19: 48.1 | KB19: 49 | KC19: 49.72 | KD19: 49.72 | KE19: 49.98 | KF19: 50.17 | KG19: 50.33 | KH19: 50.51 | KI19: 49.8 | KJ19: 49.62 | KK19: 49.96 | KL19: 50.35 | KM19: 51.61 | KN19: 52.46 | KO19: 52.89 | KP19: 53.27 | KQ19: 54.19 | KR19: 54.14 | KS19: 54.18 | KT19: 55.03 | KU19: 55.67 | KV19: 55.02 | KW19: 55.75 | KX19: 54.67 | KY19: 55.32 | KZ19: 55.52 | LA19: 55.97 | LB19: 56.42 | LC19: 56.94 | LD19: 61.68 | LE19: 56.59 | LF19: 57.32 | LG19: 57.49 | LH19: 56.79 | LI19: 56.48 | LJ19: 56.64 | LK19: ='Stats SA Food Prices'!LK18 -> 56.9 | LL19: =(LK19-KY19)/KY19*100 -> 2.8561099 | LM19: =SUM(LJ19-LK19)/LK19*100 -> -0.456942
A21: 3 | B21: Dairy & Eggs
B22: Milk Full cream - Fresh | C22: 1L | D22: 6.58 | E22: 6.59 | F22: 6.63 | G22: 6.76 | H22: 6.7 | I22: 6.75 | J22: 6.67 | K22: 6.76 | L22: 6.92 | M22: 6.93 | N22: 6.88 | O22: 6.28 | P22: 7.2 | Q22: 7.2 | R22: 7.59 | S22: 7.52 | T22: 7.56 | U22: 7.56 | V22: 7.96 | W22: 7.56 | X22: 7.67 | Y22: 7.66 | Z22: 7.72 | AA22: 7.8 | AB22: 7.79 | AC22: 7.92 | AD22: 8.83 | AE22: 8.84 | AF22: 8.24 | AG22: 8.88 | AH22: 8.84 | AI22: 8.84 | AJ22: 8.93 | AK22: 9.1 | AL22: 9.47 | AM22: 9.65 | AN22: 9.65 | AO22: 9.69 | AP22: 10.61 | AQ22: 10.77 | AR22: 10.81 | AS22: 9.96 | AT22: 10.12 | AU22: 10.55 | AV22: 9.73 | AW22: 9.73 | AX22: 9.98 | AY22: 9.98 | AZ22: 10 | BA22: 10.93 | BB22: 10.79 | BC22: 10.89 | BD22: 11.07 | BE22: 11.08 | BF22: 11.08 | BG22: 10.45 | BH22: 10.82 | BI22: 9.62 | BJ22: 10.82 | BK22: 10.43 | BL22: 10.91 | BM22: 10.33 | BN22: 11.13 | BO22: 10.99 | BP22: 10.76 | BQ22: 11.06 | BR22: 11.06 | BS22: 11.06 | BT22: 11 | BU22: 11.14 | BV22: 11.41 | BW22: 11.35 | BX22: 11.25 | BY22: 11.07 | BZ22: 10.88 | CA22: 11.03 | CB22: 11.17 | CC22: 11.06 | CD22: 11.33 | CE22: 11.51 | CF22: 11.46 | CG22: 11.57 | CH22: 11.63 | CI22: 11.43 | CJ22: 11.66 | CK22: 11.5 | CL22: 11.69 | CM22: 12.35 | CN22: 12.91 | CO22: 13.64 | CP22: 14.3 | CQ22: 14.8 | CR22: 15.11 | CS22: 15.21 | CT22: 15.12 | CU22: 14.97 | KR22: 20.37 | KS22: 20.07 | KT22: 20.22 | KU22: 20.1 | KV22: 20.44 | KW22: 20.21 | KX22: 20.07 | KY22: 19.98 | KZ22: 20.14 | LA22: 20.41 | LB22: 20.23 | LC22: 20.23 | LD22: 20.27 | LE22: 20.21 | LF22: 20.24 | LG22: 20.41 | LH22: 20.55 | LI22: 20.78 | LJ22: 20.75 | LK22: ='Stats SA Food Prices'!LK41 -> 20.54 | LL22: =(LK22-KY22)/KY22*100 -> 2.8028028 | LM22: =SUM(LJ22-LK22)/LK22*100 -> 1.0223953
B23: Milk Full cream - Long life | C23: 1L | D23: - | E23: - | F23: - | G23: - | H23: - | I23: - | J23: - | K23: - | L23: - | M23: - | N23: - | O23: - | P23: - | Q23: - | R23: - | S23: - | T23: - | U23: - | V23: - | W23: - | X23: - | Y23: - | Z23: - | AA23: - | AB23: - | AC23: - | AD23: - | AE23: - | AF23: - | AG23: - | AH23: - | AI23: - | AJ23: - | AK23: - | AL23: - | AM23: - | AN23: - | AO23: - | AP23: - | AQ23: - | AR23: - | AS23: - | AT23: - | AU23: - | AV23: - | AW23: - | AX23: - | AY23: - | AZ23: - | BA23: - | BB23: - | BC23: - | BD23: - | BE23: - | BF23: - | BG23: - | BH23: - | BI23: - | BJ23: - | BK23: - | BL23: - | BM23: - | BN23: - | BO23: - | BP23: - | BQ23: - | BR23: - | BS23: - | BT23: - | BU23: - | BV23: - | BW23: - | BX23: - | BY23: - | BZ23: - | CA23: - | CB23: - | CC23: - | CD23: - | CE23: - | CF23: - | CG23: - | CH23: - | CI23: - | CJ23: - | CK23: - | CL23: - | CM23: - | CN23: - | CO23: - | CP23: - | CQ23: - | CR23: - | CS23: - | CT23: - | CU23: - | CV23: 8.23 | CW23: 8.44 | CX23: 8.46 | CY23: 8.35 | CZ23: 8.36 | DA23: 8.31 | DB23: 8.58 | DC23: 8.44 | DD23: 8.53 | DE23: 8.3 | DF23: 7.82 | DG23: 7.79 | DH23: 8.93 | DI23: 8.53 | DJ23: 8.49 | DK23: 8.79 | DL23: 8.96 | DM23: 9.01 | DN23: 9.19 | DO23: 9.48 | DP23: 9.62 | DQ23: 9.69 | DR23: 9.68 | DS23: 9.62 | DT23: 9.72 | DU23: 9.6 | DV23: 9.69 | DW23: 9.55 | DX23: 9.67 | DY23: 9.63 | DZ23: 9.64 | EA23: 9.59 | EB23: 9.67 | EC23: 9.57 | ED23: 9.31 | EE23: 9.09 | EF23: 9.45 | EG23: 9.25 | EH23: 9.62 | EI23: 9.42 | EJ23: 9.41 | EK23: 9.57 | EL23: 9.68 | EM23: 9.67 | EN23: 9.68 | EO23: 9.69 | EP23: 9.59 | EQ23: 9.59 | ER23: 9.73 | ES23: 10.02 | ET23: 10.14 | EU23: 10.23 | EV23: 10.38 | EW23: 10.43 | EX23: 10.41 | EY23: 10.37 | EZ23: 10.25 | FA23: 10.23 | FB23: 10.25 | FC23: 10.22 | FD23: 10.43 | FE23: 10.57 | FF23: 10.72 | FG23: 10.77 | FH23: 10.75 | FI23: 10.92 | FJ23: 10.99 | FK23: 11.05 | FL23: 11.08 | FM23: 11.07 | FN23: 11.13 | FO23: 11.01 | FP23: 11.08 | FQ23: 11.23 | FR23: 11.38 | FS23: 11.54 | FT23: 11.63 | FU23: 11.81 | FV23: 12.25 | FW23: 12.57 | FX23: 12.6 | FY23: 12.53 | FZ23: 12.6 | GA23: 12.58 | GB23: 12.59 | GC23: 12.73 | GD23: 12.83 | GE23: 12.88 | GF23: 12.9 | GG23: 12.89 | GH23: 12.92 | GI23: 12.89 | GJ23: 12.85 | GK23: 12.69 | GL23: 12.52 | GM23: 12.54 | GN23: 12.57 | GO23: 12.63 | GP23: 12.82 | GQ23: 13.06 | GR23: 13.31 | GS23: 13.52 | GT23: 13.77 | GU23: 13.82 | GV23: 13.9 | GW23: 13.97 | GX23: 13.87 | GY23: 13.94 | GZ23: 14.01 | HA23: 13.89 | HB23: 13.81 | HC23: 13.84 | HD23: 13.98 | HE23: 13.92 | HF23: 13.87 | HG23: 13.89 | HH23: 13.99 | HI23: 14.04 | HJ23: 14 | HK23: 14.01 | HL23: 13.94 | HM23: 13.96 | HN23: 13.96 | HO23: 13.96 | HP23: 13.89 | HQ23: 13.91 | HR23: 13.7 | HS23: 13.84 | HT23: 13.95 | HU23: 13.92 | HV23: 13.93 | HW23: 13.94 | HX23: 13.98 | HY23: 14.23 | HZ23: 14.3 | IA23: 14.3 | IB23: 14.45 | IC23: 14.5 | ID23: 14.62 | IE23: 14.71 | IF23: 14.7 | IG23: 14.63 | IH23: 14.57 | II23: 14.59 | IJ23: 14.84 | IK23: 14.9 | IL23: 14.96 | IM23: 15.03 | IN23: 15.3 | IO23: 15.76 | IP23: 15.37 | IQ23: 15.69 | IR23: 15.71 | IS23: 15.68 | IT23: 15.48 | IU23: 15.39 | IV23: 15.6 | IW23: 15.84 | IX23: 15.77 | IY23: 15.76 | IZ23: 16.25 | JA23: 16.54 | JB23: 15.95 | JC23: 15.53 | JD23: 15.44 | JE23: 15.52 | JF23: 15.54 | JG23: 15.7 | JH23: 15.69 | JI23: 15.55 | JJ23: 15.78 | JK23: 16.02 | JL23: 16.52 | JM23: 16.74 | JN23: 16.99 | JO23: 17.28 | JP23: 17.32 | JQ23: 17.36 | JR23: 17.9 | JS23: 17.96 | JT23: 18.17 | JU23: 18.24 | JV23: 18.48 | JW23: 18.71 | JX23: 18.65 | JY23: 18.87 | JZ23: 19.36 | KA23: 19.55 | KB23: 19.59 | KC23: 19.54 | KD23: 19.49 | KE23: 19.43 | KF23: 19.45 | KG23: 19.51 | KH23: 19.39 | KI23: 19.38 | KJ23: 19.62 | KK23: 20 | KL23: 20.09 | KM23: 20.22 | KN23: 20.3 | KO23: 20.07 | KP23: 19.9 | KQ23: 19.86 | KR23: 19.98 | KS23: 19.93 | KT23: 19.84 | KU23: 19.75 | KV23: 20.03 | KW23: 20.04 | KX23: 20.05 | KY23: 20.1 | KZ23: 19.93 | LA23: 19.99 | LB23: 20.05 | LC23: 20.14 | LD23: 20.14 | LE23: 20.12 | LF23: 20.13 | LG23: 20.17 | LH23: 20.52 | LI23: 20.76 | LJ23: 20.93 | LK23: ='Stats SA Food Prices'!LK42 -> 20.98 | LL23: =(LK23-KY23)/KY23*100 -> 4.3781095 | LM23: =SUM(LJ23-LK23)/LK23*100 -> -0.23832221
